{"text_format":"1","workbook":"xlsx","n_sheets":6,"sheets":["Calculadora","Combustibles","Ecuaciones y FE","Emisiones","Lista desplegable","ID"],"not_rendered":{"charts":0,"images":2,"macros":1,"external_links":1,"defined_names":217,"comments":0,"pivot_tables":0},"unopened":[],"bounds":{"document_bytes":16777216,"sheet_cells":100000,"rows_first":2000,"rows_last":500,"rows_between":2000,"halvings":0,"cell_chars":16384,"cell_head_chars":4096},"cells_cut":0,"cells_raw":0,"read":"whole","date_system":"1900"}

{"sheet":"Calculadora","index":0,"n_rows":62,"n_cols":13,"rows_kept":62,"cut":false,"hidden":false,"merged":[[8,3,8,4],[5,2,6,12],[4,8,4,9]]}
[]
[]
[null,null,null,null,null,null,null,null,null,null,"Calculadora de emisiones"]
[]
[null,null,null,null,null,null,"Tus emisiones mensuales son:  ",{"$f":"$I$62","v":0},"tCO2e/mes"]
[null,null,"\nNOTA:\nEl resultado de emisiones es indicativo. La calculadora entregará resultados más aproximados a las emisiones reales en la medida en que el usuario ingrese información completa y verdadera. Puede servir como herramienta orientadora para determinar si el sujeto sobrepasa o no el umbral de registro. En ningún caso sustituye la estimación de emisiones que deben realizar los Establecimientos Sujetos a Reporte y no se debe usar como resultado final de sus emisiones anuales, esta calculadora es un instrumento de apoyo. La suma de las emisiones puede no coincidir con el resultado parcial, por el redondeo de cifras."]
[]
[]
[]
[]
[null,"ID","Sector","Subsector","Actividad","Fuente de Emisión","Instrucciones","Dato de Actividad","Unidad","Emisiones GEI [tCO2e]","Emisiones CO2 [tCO2]","Emisiones CH4 [tCH4]","Emisiones N2O [tN2O]"]
[null,{"$f":"IFERROR(LOOKUP($F12,ID!$A$3:$A$610,ID!$E$3:$E$610),\"\")","v":"Ec07"},"Energía","Energía_térmica","Procesos_térmicos","Biodiesel_PT",{"$f":"IFERROR(LOOKUP($B12,Emisiones!$A$3:$A$610,Emisiones!$F$3:$F$610),\"\")","v":"Ingrese la cantidad de combustible alternativo consumido al mes en litros"},null,{"$f":"IFERROR(LOOKUP($B12,Emisiones!$A$3:$A$610,Emisiones!$G$3:$G$610),\"\")","v":"l"},{"$f":"IFERROR(LOOKUP($B12,Emisiones!$A$3:$A$610,Emisiones!$H$3:$H$610),\"\")","v":0},{"$f":"IFERROR(LOOKUP($B12,Emisiones!$A$3:$A$610,Emisiones!$I$3:$I$610),\"\")","v":0},{"$f":"IFERROR(LOOKUP($B12,Emisiones!$A$3:$A$610,Emisiones!$J$3:$J$610),\"\")","v":0},{"$f":"IFERROR(LOOKUP($B12,Emisiones!$A$3:$A$610,Emisiones!$K$3:$K$610),\"\")","v":0}]
[null,{"$f":"IFERROR(LOOKUP($F13,ID!$A$3:$A$610,ID!$E$3:$E$610),\"\")","v":""},"Energía","Energía_térmica","Procesos_térmicos","",{"$f":"IFERROR(LOOKUP($B13,Emisiones!$A$3:$A$610,Emisiones!$F$3:$F$610),\"\")","v":""},null,{"$f":"IFERROR(LOOKUP($B13,Emisiones!$A$3:$A$610,Emisiones!$G$3:$G$610),\"\")","v":""},{"$f":"IFERROR(LOOKUP($B13,Emisiones!$A$3:$A$610,Emisiones!$H$3:$H$610),\"\")","v":""},{"$f":"IFERROR(LOOKUP($B13,Emisiones!$A$3:$A$610,Emisiones!$I$3:$I$610),\"\")","v":""},{"$f":"IFERROR(LOOKUP($B13,Emisiones!$A$3:$A$610,Emisiones!$J$3:$J$610),\"\")","v":""},{"$f":"IFERROR(LOOKUP($B13,Emisiones!$A$3:$A$610,Emisiones!$K$3:$K$610),\"\")","v":""}]
[null,{"$f":"IFERROR(LOOKUP($F14,ID!$A$3:$A$610,ID!$E$3:$E$610),\"\")","v":""},"Energía","Energía_térmica","Procesos_térmicos","",{"$f":"IFERROR(LOOKUP($B14,Emisiones!$A$3:$A$610,Emisiones!$F$3:$F$610),\"\")","v":""},null,{"$f":"IFERROR(LOOKUP($B14,Emisiones!$A$3:$A$610,Emisiones!$G$3:$G$610),\"\")","v":""},{"$f":"IFERROR(LOOKUP($B14,Emisiones!$A$3:$A$610,Emisiones!$H$3:$H$610),\"\")","v":""},{"$f":"IFERROR(LOOKUP($B14,Emisiones!$A$3:$A$610,Emisiones!$I$3:$I$610),\"\")","v":""},{"$f":"IFERROR(LOOKUP($B14,Emisiones!$A$3:$A$610,Emisiones!$J$3:$J$610),\"\")","v":""},{"$f":"IFERROR(LOOKUP($B14,Emisiones!$A$3:$A$610,Emisiones!$K$3:$K$610),\"\")","v":""}]
[null,{"$f":"IFERROR(LOOKUP($F15,ID!$A$3:$A$610,ID!$E$3:$E$610),\"\")","v":""},"Energía","Energía_térmica","Procesos_térmicos","",{"$f":"IFERROR(LOOKUP($B15,Emisiones!$A$3:$A$610,Emisiones!$F$3:$F$610),\"\")","v":""},null,{"$f":"IFERROR(LOOKUP($B15,Emisiones!$A$3:$A$610,Emisiones!$G$3:$G$610),\"\")","v":""},{"$f":"IFERROR(LOOKUP($B15,Emisiones!$A$3:$A$610,Emisiones!$H$3:$H$610),\"\")","v":""},{"$f":"IFERROR(LOOKUP($B15,Emisiones!$A$3:$A$610,Emisiones!$I$3:$I$610),\"\")","v":""},{"$f":"IFERROR(LOOKUP($B15,Emisiones!$A$3:$A$610,Emisiones!$J$3:$J$610),\"\")","v":""},{"$f":"IFERROR(LOOKUP($B15,Emisiones!$A$3:$A$610,Emisiones!$K$3:$K$610),\"\")","v":""}]
[null,{"$f":"IFERROR(LOOKUP($F16,ID!$A$3:$A$610,ID!$E$3:$E$610),\"\")","v":""},"Energía","Energía_térmica","Procesos_térmicos","",{"$f":"IFERROR(LOOKUP($B16,Emisiones!$A$3:$A$610,Emisiones!$F$3:$F$610),\"\")","v":""},null,{"$f":"IFERROR(LOOKUP($B16,Emisiones!$A$3:$A$610,Emisiones!$G$3:$G$610),\"\")","v":""},{"$f":"IFERROR(LOOKUP($B16,Emisiones!$A$3:$A$610,Emisiones!$H$3:$H$610),\"\")","v":""},{"$f":"IFERROR(LOOKUP($B16,Emisiones!$A$3:$A$610,Emisiones!$I$3:$I$610),\"\")","v":""},{"$f":"IFERROR(LOOKUP($B16,Emisiones!$A$3:$A$610,Emisiones!$J$3:$J$610),\"\")","v":""},{"$f":"IFERROR(LOOKUP($B16,Emisiones!$A$3:$A$610,Emisiones!$K$3:$K$610),\"\")","v":""}]
[null,{"$f":"IFERROR(LOOKUP($F17,ID!$A$3:$A$610,ID!$E$3:$E$610),\"\")","v":""},"Energía","Energía_térmica","Procesos_térmicos","",{"$f":"IFERROR(LOOKUP($B17,Emisiones!$A$3:$A$610,Emisiones!$F$3:$F$610),\"\")","v":""},null,{"$f":"IFERROR(LOOKUP($B17,Emisiones!$A$3:$A$610,Emisiones!$G$3:$G$610),\"\")","v":""},{"$f":"IFERROR(LOOKUP($B17,Emisiones!$A$3:$A$610,Emisiones!$H$3:$H$610),\"\")","v":""},{"$f":"IFERROR(LOOKUP($B17,Emisiones!$A$3:$A$610,Emisiones!$I$3:$I$610),\"\")","v":""},{"$f":"IFERROR(LOOKUP($B17,Emisiones!$A$3:$A$610,Emisiones!$J$3:$J$610),\"\")","v":""},{"$f":"IFERROR(LOOKUP($B17,Emisiones!$A$3:$A$610,Emisiones!$K$3:$K$610),\"\")","v":""}]
[null,{"$f":"IFERROR(LOOKUP($F18,ID!$A$3:$A$610,ID!$E$3:$E$610),\"\")","v":""},"Energía","Energía_térmica","Procesos_térmicos","",{"$f":"IFERROR(LOOKUP($B18,Emisiones!$A$3:$A$610,Emisiones!$F$3:$F$610),\"\")","v":""},null,{"$f":"IFERROR(LOOKUP($B18,Emisiones!$A$3:$A$610,Emisiones!$G$3:$G$610),\"\")","v":""},{"$f":"IFERROR(LOOKUP($B18,Emisiones!$A$3:$A$610,Emisiones!$H$3:$H$610),\"\")","v":""},{"$f":"IFERROR(LOOKUP($B18,Emisiones!$A$3:$A$610,Emisiones!$I$3:$I$610),\"\")","v":""},{"$f":"IFERROR(LOOKUP($B18,Emisiones!$A$3:$A$610,Emisiones!$J$3:$J$610),\"\")","v":""},{"$f":"IFERROR(LOOKUP($B18,Emisiones!$A$3:$A$610,Emisiones!$K$3:$K$610),\"\")","v":""}]
[null,{"$f":"IFERROR(LOOKUP($F19,ID!$A$3:$A$610,ID!$E$3:$E$610),\"\")","v":""},"Energía","Energía_térmica","Procesos_térmicos","",{"$f":"IFERROR(LOOKUP($B19,Emisiones!$A$3:$A$610,Emisiones!$F$3:$F$610),\"\")","v":""},null,{"$f":"IFERROR(LOOKUP($B19,Emisiones!$A$3:$A$610,Emisiones!$G$3:$G$610),\"\")","v":""},{"$f":"IFERROR(LOOKUP($B19,Emisiones!$A$3:$A$610,Emisiones!$H$3:$H$610),\"\")","v":""},{"$f":"IFERROR(LOOKUP($B19,Emisiones!$A$3:$A$610,Emisiones!$I$3:$I$610),\"\")","v":""},{"$f":"IFERROR(LOOKUP($B19,Emisiones!$A$3:$A$610,Emisiones!$J$3:$J$610),\"\")","v":""},{"$f":"IFERROR(LOOKUP($B19,Emisiones!$A$3:$A$610,Emisiones!$K$3:$K$610),\"\")","v":""}]
[null,{"$f":"IFERROR(LOOKUP($F20,ID!$A$3:$A$610,ID!$E$3:$E$610),\"\")","v":""},"Energía","Energía_térmica","Procesos_térmicos","",{"$f":"IFERROR(LOOKUP($B20,Emisiones!$A$3:$A$610,Emisiones!$F$3:$F$610),\"\")","v":""},null,{"$f":"IFERROR(LOOKUP($B20,Emisiones!$A$3:$A$610,Emisiones!$G$3:$G$610),\"\")","v":""},{"$f":"IFERROR(LOOKUP($B20,Emisiones!$A$3:$A$610,Emisiones!$H$3:$H$610),\"\")","v":""},{"$f":"IFERROR(LOOKUP($B20,Emisiones!$A$3:$A$610,Emisiones!$I$3:$I$610),\"\")","v":""},{"$f":"IFERROR(LOOKUP($B20,Emisiones!$A$3:$A$610,Emisiones!$J$3:$J$610),\"\")","v":""},{"$f":"IFERROR(LOOKUP($B20,Emisiones!$A$3:$A$610,Emisiones!$K$3:$K$610),\"\")","v":""}]
[null,{"$f":"IFERROR(LOOKUP($F21,ID!$A$3:$A$610,ID!$E$3:$E$610),\"\")","v":""},"Energía","Energía_térmica","Procesos_térmicos","",{"$f":"IFERROR(LOOKUP($B21,Emisiones!$A$3:$A$610,Emisiones!$F$3:$F$610),\"\")","v":""},null,{"$f":"IFERROR(LOOKUP($B21,Emisiones!$A$3:$A$610,Emisiones!$G$3:$G$610),\"\")","v":""},{"$f":"IFERROR(LOOKUP($B21,Emisiones!$A$3:$A$610,Emisiones!$H$3:$H$610),\"\")","v":""},{"$f":"IFERROR(LOOKUP($B21,Emisiones!$A$3:$A$610,Emisiones!$I$3:$I$610),\"\")","v":""},{"$f":"IFERROR(LOOKUP($B21,Emisiones!$A$3:$A$610,Emisiones!$J$3:$J$610),\"\")","v":""},{"$f":"IFERROR(LOOKUP($B21,Emisiones!$A$3:$A$610,Emisiones!$K$3:$K$610),\"\")","v":""}]
[null,{"$f":"IFERROR(LOOKUP($F22,ID!$A$3:$A$610,ID!$E$3:$E$610),\"\")","v":""},"Energía","Energía_térmica","Procesos_térmicos","",{"$f":"IFERROR(LOOKUP($B22,Emisiones!$A$3:$A$610,Emisiones!$F$3:$F$610),\"\")","v":""},null,{"$f":"IFERROR(LOOKUP($B22,Emisiones!$A$3:$A$610,Emisiones!$G$3:$G$610),\"\")","v":""},{"$f":"IFERROR(LOOKUP($B22,Emisiones!$A$3:$A$610,Emisiones!$H$3:$H$610),\"\")","v":""},{"$f":"IFERROR(LOOKUP($B22,Emisiones!$A$3:$A$610,Emisiones!$I$3:$I$610),\"\")","v":""},{"$f":"IFERROR(LOOKUP($B22,Emisiones!$A$3:$A$610,Emisiones!$J$3:$J$610),\"\")","v":""},{"$f":"IFERROR(LOOKUP($B22,Emisiones!$A$3:$A$610,Emisiones!$K$3:$K$610),\"\")","v":""}]
[null,{"$f":"IFERROR(LOOKUP($F23,ID!$A$3:$A$610,ID!$E$3:$E$610),\"\")","v":""},"Energía","Energía_térmica","Procesos_térmicos","",{"$f":"IFERROR(LOOKUP($B23,Emisiones!$A$3:$A$610,Emisiones!$F$3:$F$610),\"\")","v":""},null,{"$f":"IFERROR(LOOKUP($B23,Emisiones!$A$3:$A$610,Emisiones!$G$3:$G$610),\"\")","v":""},{"$f":"IFERROR(LOOKUP($B23,Emisiones!$A$3:$A$610,Emisiones!$H$3:$H$610),\"\")","v":""},{"$f":"IFERROR(LOOKUP($B23,Emisiones!$A$3:$A$610,Emisiones!$I$3:$I$610),\"\")","v":""},{"$f":"IFERROR(LOOKUP($B23,Emisiones!$A$3:$A$610,Emisiones!$J$3:$J$610),\"\")","v":""},{"$f":"IFERROR(LOOKUP($B23,Emisiones!$A$3:$A$610,Emisiones!$K$3:$K$610),\"\")","v":""}]
[null,{"$f":"IFERROR(LOOKUP($F24,ID!$A$3:$A$610,ID!$E$3:$E$610),\"\")","v":""},"Energía","Energía_térmica","Procesos_térmicos","",{"$f":"IFERROR(LOOKUP($B24,Emisiones!$A$3:$A$610,Emisiones!$F$3:$F$610),\"\")","v":""},null,{"$f":"IFERROR(LOOKUP($B24,Emisiones!$A$3:$A$610,Emisiones!$G$3:$G$610),\"\")","v":""},{"$f":"IFERROR(LOOKUP($B24,Emisiones!$A$3:$A$610,Emisiones!$H$3:$H$610),\"\")","v":""},{"$f":"IFERROR(LOOKUP($B24,Emisiones!$A$3:$A$610,Emisiones!$I$3:$I$610),\"\")","v":""},{"$f":"IFERROR(LOOKUP($B24,Emisiones!$A$3:$A$610,Emisiones!$J$3:$J$610),\"\")","v":""},{"$f":"IFERROR(LOOKUP($B24,Emisiones!$A$3:$A$610,Emisiones!$K$3:$K$610),\"\")","v":""}]
[null,{"$f":"IFERROR(LOOKUP($F25,ID!$A$3:$A$610,ID!$E$3:$E$610),\"\")","v":""},"Energía","Energía_térmica","Procesos_térmicos","",{"$f":"IFERROR(LOOKUP($B25,Emisiones!$A$3:$A$610,Emisiones!$F$3:$F$610),\"\")","v":""},null,{"$f":"IFERROR(LOOKUP($B25,Emisiones!$A$3:$A$610,Emisiones!$G$3:$G$610),\"\")","v":""},{"$f":"IFERROR(LOOKUP($B25,Emisiones!$A$3:$A$610,Emisiones!$H$3:$H$610),\"\")","v":""},{"$f":"IFERROR(LOOKUP($B25,Emisiones!$A$3:$A$610,Emisiones!$I$3:$I$610),\"\")","v":""},{"$f":"IFERROR(LOOKUP($B25,Emisiones!$A$3:$A$610,Emisiones!$J$3:$J$610),\"\")","v":""},{"$f":"IFERROR(LOOKUP($B25,Emisiones!$A$3:$A$610,Emisiones!$K$3:$K$610),\"\")","v":""}]
[null,{"$f":"IFERROR(LOOKUP($F26,ID!$A$3:$A$610,ID!$E$3:$E$610),\"\")","v":""},"Energía","Energía_térmica","Procesos_térmicos","",{"$f":"IFERROR(LOOKUP($B26,Emisiones!$A$3:$A$610,Emisiones!$F$3:$F$610),\"\")","v":""},null,{"$f":"IFERROR(LOOKUP($B26,Emisiones!$A$3:$A$610,Emisiones!$G$3:$G$610),\"\")","v":""},{"$f":"IFERROR(LOOKUP($B26,Emisiones!$A$3:$A$610,Emisiones!$H$3:$H$610),\"\")","v":""},{"$f":"IFERROR(LOOKUP($B26,Emisiones!$A$3:$A$610,Emisiones!$I$3:$I$610),\"\")","v":""},{"$f":"IFERROR(LOOKUP($B26,Emisiones!$A$3:$A$610,Emisiones!$J$3:$J$610),\"\")","v":""},{"$f":"IFERROR(LOOKUP($B26,Emisiones!$A$3:$A$610,Emisiones!$K$3:$K$610),\"\")","v":""}]
[null,{"$f":"IFERROR(LOOKUP($F27,ID!$A$3:$A$610,ID!$E$3:$E$610),\"\")","v":""},"Energía","Energía_térmica","Procesos_térmicos","",{"$f":"IFERROR(LOOKUP($B27,Emisiones!$A$3:$A$610,Emisiones!$F$3:$F$610),\"\")","v":""},null,{"$f":"IFERROR(LOOKUP($B27,Emisiones!$A$3:$A$610,Emisiones!$G$3:$G$610),\"\")","v":""},{"$f":"IFERROR(LOOKUP($B27,Emisiones!$A$3:$A$610,Emisiones!$H$3:$H$610),\"\")","v":""},{"$f":"IFERROR(LOOKUP($B27,Emisiones!$A$3:$A$610,Emisiones!$I$3:$I$610),\"\")","v":""},{"$f":"IFERROR(LOOKUP($B27,Emisiones!$A$3:$A$610,Emisiones!$J$3:$J$610),\"\")","v":""},{"$f":"IFERROR(LOOKUP($B27,Emisiones!$A$3:$A$610,Emisiones!$K$3:$K$610),\"\")","v":""}]
[null,{"$f":"IFERROR(LOOKUP($F28,ID!$A$3:$A$610,ID!$E$3:$E$610),\"\")","v":""},"Energía","Energía_térmica","Procesos_térmicos","",{"$f":"IFERROR(LOOKUP($B28,Emisiones!$A$3:$A$610,Emisiones!$F$3:$F$610),\"\")","v":""},null,{"$f":"IFERROR(LOOKUP($B28,Emisiones!$A$3:$A$610,Emisiones!$G$3:$G$610),\"\")","v":""},{"$f":"IFERROR(LOOKUP($B28,Emisiones!$A$3:$A$610,Emisiones!$H$3:$H$610),\"\")","v":""},{"$f":"IFERROR(LOOKUP($B28,Emisiones!$A$3:$A$610,Emisiones!$I$3:$I$610),\"\")","v":""},{"$f":"IFERROR(LOOKUP($B28,Emisiones!$A$3:$A$610,Emisiones!$J$3:$J$610),\"\")","v":""},{"$f":"IFERROR(LOOKUP($B28,Emisiones!$A$3:$A$610,Emisiones!$K$3:$K$610),\"\")","v":""}]
[null,{"$f":"IFERROR(LOOKUP($F29,ID!$A$3:$A$610,ID!$E$3:$E$610),\"\")","v":""},"Energía","Energía_térmica","Procesos_térmicos","",{"$f":"IFERROR(LOOKUP($B29,Emisiones!$A$3:$A$610,Emisiones!$F$3:$F$610),\"\")","v":""},null,{"$f":"IFERROR(LOOKUP($B29,Emisiones!$A$3:$A$610,Emisiones!$G$3:$G$610),\"\")","v":""},{"$f":"IFERROR(LOOKUP($B29,Emisiones!$A$3:$A$610,Emisiones!$H$3:$H$610),\"\")","v":""},{"$f":"IFERROR(LOOKUP($B29,Emisiones!$A$3:$A$610,Emisiones!$I$3:$I$610),\"\")","v":""},{"$f":"IFERROR(LOOKUP($B29,Emisiones!$A$3:$A$610,Emisiones!$J$3:$J$610),\"\")","v":""},{"$f":"IFERROR(LOOKUP($B29,Emisiones!$A$3:$A$610,Emisiones!$K$3:$K$610),\"\")","v":""}]
[null,{"$f":"IFERROR(LOOKUP($F30,ID!$A$3:$A$610,ID!$E$3:$E$610),\"\")","v":""},"Energía","Energía_térmica","Procesos_térmicos","",{"$f":"IFERROR(LOOKUP($B30,Emisiones!$A$3:$A$610,Emisiones!$F$3:$F$610),\"\")","v":""},null,{"$f":"IFERROR(LOOKUP($B30,Emisiones!$A$3:$A$610,Emisiones!$G$3:$G$610),\"\")","v":""},{"$f":"IFERROR(LOOKUP($B30,Emisiones!$A$3:$A$610,Emisiones!$H$3:$H$610),\"\")","v":""},{"$f":"IFERROR(LOOKUP($B30,Emisiones!$A$3:$A$610,Emisiones!$I$3:$I$610),\"\")","v":""},{"$f":"IFERROR(LOOKUP($B30,Emisiones!$A$3:$A$610,Emisiones!$J$3:$J$610),\"\")","v":""},{"$f":"IFERROR(LOOKUP($B30,Emisiones!$A$3:$A$610,Emisiones!$K$3:$K$610),\"\")","v":""}]
[null,{"$f":"IFERROR(LOOKUP($F31,ID!$A$3:$A$610,ID!$E$3:$E$610),\"\")","v":""},"Energía","Energía_térmica","Procesos_térmicos","",{"$f":"IFERROR(LOOKUP($B31,Emisiones!$A$3:$A$610,Emisiones!$F$3:$F$610),\"\")","v":""},null,{"$f":"IFERROR(LOOKUP($B31,Emisiones!$A$3:$A$610,Emisiones!$G$3:$G$610),\"\")","v":""},{"$f":"IFERROR(LOOKUP($B31,Emisiones!$A$3:$A$610,Emisiones!$H$3:$H$610),\"\")","v":""},{"$f":"IFERROR(LOOKUP($B31,Emisiones!$A$3:$A$610,Emisiones!$I$3:$I$610),\"\")","v":""},{"$f":"IFERROR(LOOKUP($B31,Emisiones!$A$3:$A$610,Emisiones!$J$3:$J$610),\"\")","v":""},{"$f":"IFERROR(LOOKUP($B31,Emisiones!$A$3:$A$610,Emisiones!$K$3:$K$610),\"\")","v":""}]
[null,{"$f":"IFERROR(LOOKUP($F32,ID!$A$3:$A$610,ID!$E$3:$E$610),\"\")","v":""},"Energía","Energía_térmica","Procesos_térmicos","",{"$f":"IFERROR(LOOKUP($B32,Emisiones!$A$3:$A$610,Emisiones!$F$3:$F$610),\"\")","v":""},null,{"$f":"IFERROR(LOOKUP($B32,Emisiones!$A$3:$A$610,Emisiones!$G$3:$G$610),\"\")","v":""},{"$f":"IFERROR(LOOKUP($B32,Emisiones!$A$3:$A$610,Emisiones!$H$3:$H$610),\"\")","v":""},{"$f":"IFERROR(LOOKUP($B32,Emisiones!$A$3:$A$610,Emisiones!$I$3:$I$610),\"\")","v":""},{"$f":"IFERROR(LOOKUP($B32,Emisiones!$A$3:$A$610,Emisiones!$J$3:$J$610),\"\")","v":""},{"$f":"IFERROR(LOOKUP($B32,Emisiones!$A$3:$A$610,Emisiones!$K$3:$K$610),\"\")","v":""}]
[null,{"$f":"IFERROR(LOOKUP($F33,ID!$A$3:$A$610,ID!$E$3:$E$610),\"\")","v":""},"Energía","Energía_térmica","Procesos_térmicos","",{"$f":"IFERROR(LOOKUP($B33,Emisiones!$A$3:$A$610,Emisiones!$F$3:$F$610),\"\")","v":""},null,{"$f":"IFERROR(LOOKUP($B33,Emisiones!$A$3:$A$610,Emisiones!$G$3:$G$610),\"\")","v":""},{"$f":"IFERROR(LOOKUP($B33,Emisiones!$A$3:$A$610,Emisiones!$H$3:$H$610),\"\")","v":""},{"$f":"IFERROR(LOOKUP($B33,Emisiones!$A$3:$A$610,Emisiones!$I$3:$I$610),\"\")","v":""},{"$f":"IFERROR(LOOKUP($B33,Emisiones!$A$3:$A$610,Emisiones!$J$3:$J$610),\"\")","v":""},{"$f":"IFERROR(LOOKUP($B33,Emisiones!$A$3:$A$610,Emisiones!$K$3:$K$610),\"\")","v":""}]
[null,{"$f":"IFERROR(LOOKUP($F34,ID!$A$3:$A$610,ID!$E$3:$E$610),\"\")","v":""},"Energía","Energía_térmica","Procesos_térmicos","",{"$f":"IFERROR(LOOKUP($B34,Emisiones!$A$3:$A$610,Emisiones!$F$3:$F$610),\"\")","v":""},null,{"$f":"IFERROR(LOOKUP($B34,Emisiones!$A$3:$A$610,Emisiones!$G$3:$G$610),\"\")","v":""},{"$f":"IFERROR(LOOKUP($B34,Emisiones!$A$3:$A$610,Emisiones!$H$3:$H$610),\"\")","v":""},{"$f":"IFERROR(LOOKUP($B34,Emisiones!$A$3:$A$610,Emisiones!$I$3:$I$610),\"\")","v":""},{"$f":"IFERROR(LOOKUP($B34,Emisiones!$A$3:$A$610,Emisiones!$J$3:$J$610),\"\")","v":""},{"$f":"IFERROR(LOOKUP($B34,Emisiones!$A$3:$A$610,Emisiones!$K$3:$K$610),\"\")","v":""}]
[null,{"$f":"IFERROR(LOOKUP($F35,ID!$A$3:$A$610,ID!$E$3:$E$610),\"\")","v":""},"Energía","Energía_térmica","Procesos_térmicos","",{"$f":"IFERROR(LOOKUP($B35,Emisiones!$A$3:$A$610,Emisiones!$F$3:$F$610),\"\")","v":""},null,{"$f":"IFERROR(LOOKUP($B35,Emisiones!$A$3:$A$610,Emisiones!$G$3:$G$610),\"\")","v":""},{"$f":"IFERROR(LOOKUP($B35,Emisiones!$A$3:$A$610,Emisiones!$H$3:$H$610),\"\")","v":""},{"$f":"IFERROR(LOOKUP($B35,Emisiones!$A$3:$A$610,Emisiones!$I$3:$I$610),\"\")","v":""},{"$f":"IFERROR(LOOKUP($B35,Emisiones!$A$3:$A$610,Emisiones!$J$3:$J$610),\"\")","v":""},{"$f":"IFERROR(LOOKUP($B35,Emisiones!$A$3:$A$610,Emisiones!$K$3:$K$610),\"\")","v":""}]
[null,{"$f":"IFERROR(LOOKUP($F36,ID!$A$3:$A$610,ID!$E$3:$E$610),\"\")","v":""},"Energía","Energía_térmica","Procesos_térmicos","",{"$f":"IFERROR(LOOKUP($B36,Emisiones!$A$3:$A$610,Emisiones!$F$3:$F$610),\"\")","v":""},null,{"$f":"IFERROR(LOOKUP($B36,Emisiones!$A$3:$A$610,Emisiones!$G$3:$G$610),\"\")","v":""},{"$f":"IFERROR(LOOKUP($B36,Emisiones!$A$3:$A$610,Emisiones!$H$3:$H$610),\"\")","v":""},{"$f":"IFERROR(LOOKUP($B36,Emisiones!$A$3:$A$610,Emisiones!$I$3:$I$610),\"\")","v":""},{"$f":"IFERROR(LOOKUP($B36,Emisiones!$A$3:$A$610,Emisiones!$J$3:$J$610),\"\")","v":""},{"$f":"IFERROR(LOOKUP($B36,Emisiones!$A$3:$A$610,Emisiones!$K$3:$K$610),\"\")","v":""}]
[null,{"$f":"IFERROR(LOOKUP($F37,ID!$A$3:$A$610,ID!$E$3:$E$610),\"\")","v":""},"Energía","Energía_térmica","Procesos_térmicos","",{"$f":"IFERROR(LOOKUP($B37,Emisiones!$A$3:$A$610,Emisiones!$F$3:$F$610),\"\")","v":""},null,{"$f":"IFERROR(LOOKUP($B37,Emisiones!$A$3:$A$610,Emisiones!$G$3:$G$610),\"\")","v":""},{"$f":"IFERROR(LOOKUP($B37,Emisiones!$A$3:$A$610,Emisiones!$H$3:$H$610),\"\")","v":""},{"$f":"IFERROR(LOOKUP($B37,Emisiones!$A$3:$A$610,Emisiones!$I$3:$I$610),\"\")","v":""},{"$f":"IFERROR(LOOKUP($B37,Emisiones!$A$3:$A$610,Emisiones!$J$3:$J$610),\"\")","v":""},{"$f":"IFERROR(LOOKUP($B37,Emisiones!$A$3:$A$610,Emisiones!$K$3:$K$610),\"\")","v":""}]
[null,{"$f":"IFERROR(LOOKUP($F38,ID!$A$3:$A$610,ID!$E$3:$E$610),\"\")","v":""},"Energía","Energía_térmica","Procesos_térmicos","",{"$f":"IFERROR(LOOKUP($B38,Emisiones!$A$3:$A$610,Emisiones!$F$3:$F$610),\"\")","v":""},null,{"$f":"IFERROR(LOOKUP($B38,Emisiones!$A$3:$A$610,Emisiones!$G$3:$G$610),\"\")","v":""},{"$f":"IFERROR(LOOKUP($B38,Emisiones!$A$3:$A$610,Emisiones!$H$3:$H$610),\"\")","v":""},{"$f":"IFERROR(LOOKUP($B38,Emisiones!$A$3:$A$610,Emisiones!$I$3:$I$610),\"\")","v":""},{"$f":"IFERROR(LOOKUP($B38,Emisiones!$A$3:$A$610,Emisiones!$J$3:$J$610),\"\")","v":""},{"$f":"IFERROR(LOOKUP($B38,Emisiones!$A$3:$A$610,Emisiones!$K$3:$K$610),\"\")","v":""}]
[null,{"$f":"IFERROR(LOOKUP($F39,ID!$A$3:$A$610,ID!$E$3:$E$610),\"\")","v":""},"Energía","Energía_térmica","Procesos_térmicos","",{"$f":"IFERROR(LOOKUP($B39,Emisiones!$A$3:$A$610,Emisiones!$F$3:$F$610),\"\")","v":""},null,{"$f":"IFERROR(LOOKUP($B39,Emisiones!$A$3:$A$610,Emisiones!$G$3:$G$610),\"\")","v":""},{"$f":"IFERROR(LOOKUP($B39,Emisiones!$A$3:$A$610,Emisiones!$H$3:$H$610),\"\")","v":""},{"$f":"IFERROR(LOOKUP($B39,Emisiones!$A$3:$A$610,Emisiones!$I$3:$I$610),\"\")","v":""},{"$f":"IFERROR(LOOKUP($B39,Emisiones!$A$3:$A$610,Emisiones!$J$3:$J$610),\"\")","v":""},{"$f":"IFERROR(LOOKUP($B39,Emisiones!$A$3:$A$610,Emisiones!$K$3:$K$610),\"\")","v":""}]
[null,{"$f":"IFERROR(LOOKUP($F40,ID!$A$3:$A$610,ID!$E$3:$E$610),\"\")","v":""},"Energía","Energía_térmica","Procesos_térmicos","",{"$f":"IFERROR(LOOKUP($B40,Emisiones!$A$3:$A$610,Emisiones!$F$3:$F$610),\"\")","v":""},null,{"$f":"IFERROR(LOOKUP($B40,Emisiones!$A$3:$A$610,Emisiones!$G$3:$G$610),\"\")","v":""},{"$f":"IFERROR(LOOKUP($B40,Emisiones!$A$3:$A$610,Emisiones!$H$3:$H$610),\"\")","v":""},{"$f":"IFERROR(LOOKUP($B40,Emisiones!$A$3:$A$610,Emisiones!$I$3:$I$610),\"\")","v":""},{"$f":"IFERROR(LOOKUP($B40,Emisiones!$A$3:$A$610,Emisiones!$J$3:$J$610),\"\")","v":""},{"$f":"IFERROR(LOOKUP($B40,Emisiones!$A$3:$A$610,Emisiones!$K$3:$K$610),\"\")","v":""}]
[null,{"$f":"IFERROR(LOOKUP($F41,ID!$A$3:$A$610,ID!$E$3:$E$610),\"\")","v":""},"Energía","Energía_térmica","Procesos_térmicos","",{"$f":"IFERROR(LOOKUP($B41,Emisiones!$A$3:$A$610,Emisiones!$F$3:$F$610),\"\")","v":""},null,{"$f":"IFERROR(LOOKUP($B41,Emisiones!$A$3:$A$610,Emisiones!$G$3:$G$610),\"\")","v":""},{"$f":"IFERROR(LOOKUP($B41,Emisiones!$A$3:$A$610,Emisiones!$H$3:$H$610),\"\")","v":""},{"$f":"IFERROR(LOOKUP($B41,Emisiones!$A$3:$A$610,Emisiones!$I$3:$I$610),\"\")","v":""},{"$f":"IFERROR(LOOKUP($B41,Emisiones!$A$3:$A$610,Emisiones!$J$3:$J$610),\"\")","v":""},{"$f":"IFERROR(LOOKUP($B41,Emisiones!$A$3:$A$610,Emisiones!$K$3:$K$610),\"\")","v":""}]
[null,{"$f":"IFERROR(LOOKUP($F42,ID!$A$3:$A$610,ID!$E$3:$E$610),\"\")","v":""},"Energía","Energía_térmica","Procesos_térmicos","",{"$f":"IFERROR(LOOKUP($B42,Emisiones!$A$3:$A$610,Emisiones!$F$3:$F$610),\"\")","v":""},null,{"$f":"IFERROR(LOOKUP($B42,Emisiones!$A$3:$A$610,Emisiones!$G$3:$G$610),\"\")","v":""},{"$f":"IFERROR(LOOKUP($B42,Emisiones!$A$3:$A$610,Emisiones!$H$3:$H$610),\"\")","v":""},{"$f":"IFERROR(LOOKUP($B42,Emisiones!$A$3:$A$610,Emisiones!$I$3:$I$610),\"\")","v":""},{"$f":"IFERROR(LOOKUP($B42,Emisiones!$A$3:$A$610,Emisiones!$J$3:$J$610),\"\")","v":""},{"$f":"IFERROR(LOOKUP($B42,Emisiones!$A$3:$A$610,Emisiones!$K$3:$K$610),\"\")","v":""}]
[null,{"$f":"IFERROR(LOOKUP($F43,ID!$A$3:$A$610,ID!$E$3:$E$610),\"\")","v":""},"Energía","Energía_térmica","Procesos_térmicos","",{"$f":"IFERROR(LOOKUP($B43,Emisiones!$A$3:$A$610,Emisiones!$F$3:$F$610),\"\")","v":""},null,{"$f":"IFERROR(LOOKUP($B43,Emisiones!$A$3:$A$610,Emisiones!$G$3:$G$610),\"\")","v":""},{"$f":"IFERROR(LOOKUP($B43,Emisiones!$A$3:$A$610,Emisiones!$H$3:$H$610),\"\")","v":""},{"$f":"IFERROR(LOOKUP($B43,Emisiones!$A$3:$A$610,Emisiones!$I$3:$I$610),\"\")","v":""},{"$f":"IFERROR(LOOKUP($B43,Emisiones!$A$3:$A$610,Emisiones!$J$3:$J$610),\"\")","v":""},{"$f":"IFERROR(LOOKUP($B43,Emisiones!$A$3:$A$610,Emisiones!$K$3:$K$610),\"\")","v":""}]
[null,{"$f":"IFERROR(LOOKUP($F44,ID!$A$3:$A$610,ID!$E$3:$E$610),\"\")","v":""},"Energía","Energía_térmica","Procesos_térmicos","",{"$f":"IFERROR(LOOKUP($B44,Emisiones!$A$3:$A$610,Emisiones!$F$3:$F$610),\"\")","v":""},null,{"$f":"IFERROR(LOOKUP($B44,Emisiones!$A$3:$A$610,Emisiones!$G$3:$G$610),\"\")","v":""},{"$f":"IFERROR(LOOKUP($B44,Emisiones!$A$3:$A$610,Emisiones!$H$3:$H$610),\"\")","v":""},{"$f":"IFERROR(LOOKUP($B44,Emisiones!$A$3:$A$610,Emisiones!$I$3:$I$610),\"\")","v":""},{"$f":"IFERROR(LOOKUP($B44,Emisiones!$A$3:$A$610,Emisiones!$J$3:$J$610),\"\")","v":""},{"$f":"IFERROR(LOOKUP($B44,Emisiones!$A$3:$A$610,Emisiones!$K$3:$K$610),\"\")","v":""}]
[null,{"$f":"IFERROR(LOOKUP($F45,ID!$A$3:$A$610,ID!$E$3:$E$610),\"\")","v":""},"Energía","Energía_térmica","Procesos_térmicos","",{"$f":"IFERROR(LOOKUP($B45,Emisiones!$A$3:$A$610,Emisiones!$F$3:$F$610),\"\")","v":""},null,{"$f":"IFERROR(LOOKUP($B45,Emisiones!$A$3:$A$610,Emisiones!$G$3:$G$610),\"\")","v":""},{"$f":"IFERROR(LOOKUP($B45,Emisiones!$A$3:$A$610,Emisiones!$H$3:$H$610),\"\")","v":""},{"$f":"IFERROR(LOOKUP($B45,Emisiones!$A$3:$A$610,Emisiones!$I$3:$I$610),\"\")","v":""},{"$f":"IFERROR(LOOKUP($B45,Emisiones!$A$3:$A$610,Emisiones!$J$3:$J$610),\"\")","v":""},{"$f":"IFERROR(LOOKUP($B45,Emisiones!$A$3:$A$610,Emisiones!$K$3:$K$610),\"\")","v":""}]
[null,{"$f":"IFERROR(LOOKUP($F46,ID!$A$3:$A$610,ID!$E$3:$E$610),\"\")","v":""},"Energía","Energía_térmica","Procesos_térmicos","",{"$f":"IFERROR(LOOKUP($B46,Emisiones!$A$3:$A$610,Emisiones!$F$3:$F$610),\"\")","v":""},null,{"$f":"IFERROR(LOOKUP($B46,Emisiones!$A$3:$A$610,Emisiones!$G$3:$G$610),\"\")","v":""},{"$f":"IFERROR(LOOKUP($B46,Emisiones!$A$3:$A$610,Emisiones!$H$3:$H$610),\"\")","v":""},{"$f":"IFERROR(LOOKUP($B46,Emisiones!$A$3:$A$610,Emisiones!$I$3:$I$610),\"\")","v":""},{"$f":"IFERROR(LOOKUP($B46,Emisiones!$A$3:$A$610,Emisiones!$J$3:$J$610),\"\")","v":""},{"$f":"IFERROR(LOOKUP($B46,Emisiones!$A$3:$A$610,Emisiones!$K$3:$K$610),\"\")","v":""}]
[null,{"$f":"IFERROR(LOOKUP($F47,ID!$A$3:$A$610,ID!$E$3:$E$610),\"\")","v":""},"Energía","Energía_térmica","Procesos_térmicos","",{"$f":"IFERROR(LOOKUP($B47,Emisiones!$A$3:$A$610,Emisiones!$F$3:$F$610),\"\")","v":""},null,{"$f":"IFERROR(LOOKUP($B47,Emisiones!$A$3:$A$610,Emisiones!$G$3:$G$610),\"\")","v":""},{"$f":"IFERROR(LOOKUP($B47,Emisiones!$A$3:$A$610,Emisiones!$H$3:$H$610),\"\")","v":""},{"$f":"IFERROR(LOOKUP($B47,Emisiones!$A$3:$A$610,Emisiones!$I$3:$I$610),\"\")","v":""},{"$f":"IFERROR(LOOKUP($B47,Emisiones!$A$3:$A$610,Emisiones!$J$3:$J$610),\"\")","v":""},{"$f":"IFERROR(LOOKUP($B47,Emisiones!$A$3:$A$610,Emisiones!$K$3:$K$610),\"\")","v":""}]
[null,{"$f":"IFERROR(LOOKUP($F48,ID!$A$3:$A$610,ID!$E$3:$E$610),\"\")","v":""},"Energía","Energía_térmica","Procesos_térmicos","",{"$f":"IFERROR(LOOKUP($B48,Emisiones!$A$3:$A$610,Emisiones!$F$3:$F$610),\"\")","v":""},null,{"$f":"IFERROR(LOOKUP($B48,Emisiones!$A$3:$A$610,Emisiones!$G$3:$G$610),\"\")","v":""},{"$f":"IFERROR(LOOKUP($B48,Emisiones!$A$3:$A$610,Emisiones!$H$3:$H$610),\"\")","v":""},{"$f":"IFERROR(LOOKUP($B48,Emisiones!$A$3:$A$610,Emisiones!$I$3:$I$610),\"\")","v":""},{"$f":"IFERROR(LOOKUP($B48,Emisiones!$A$3:$A$610,Emisiones!$J$3:$J$610),\"\")","v":""},{"$f":"IFERROR(LOOKUP($B48,Emisiones!$A$3:$A$610,Emisiones!$K$3:$K$610),\"\")","v":""}]
[null,{"$f":"IFERROR(LOOKUP($F49,ID!$A$3:$A$610,ID!$E$3:$E$610),\"\")","v":""},"Energía","Energía_térmica","Procesos_térmicos","",{"$f":"IFERROR(LOOKUP($B49,Emisiones!$A$3:$A$610,Emisiones!$F$3:$F$610),\"\")","v":""},null,{"$f":"IFERROR(LOOKUP($B49,Emisiones!$A$3:$A$610,Emisiones!$G$3:$G$610),\"\")","v":""},{"$f":"IFERROR(LOOKUP($B49,Emisiones!$A$3:$A$610,Emisiones!$H$3:$H$610),\"\")","v":""},{"$f":"IFERROR(LOOKUP($B49,Emisiones!$A$3:$A$610,Emisiones!$I$3:$I$610),\"\")","v":""},{"$f":"IFERROR(LOOKUP($B49,Emisiones!$A$3:$A$610,Emisiones!$J$3:$J$610),\"\")","v":""},{"$f":"IFERROR(LOOKUP($B49,Emisiones!$A$3:$A$610,Emisiones!$K$3:$K$610),\"\")","v":""}]
[null,{"$f":"IFERROR(LOOKUP($F50,ID!$A$3:$A$610,ID!$E$3:$E$610),\"\")","v":""},"Energía","Energía_térmica","Procesos_térmicos","",{"$f":"IFERROR(LOOKUP($B50,Emisiones!$A$3:$A$610,Emisiones!$F$3:$F$610),\"\")","v":""},null,{"$f":"IFERROR(LOOKUP($B50,Emisiones!$A$3:$A$610,Emisiones!$G$3:$G$610),\"\")","v":""},{"$f":"IFERROR(LOOKUP($B50,Emisiones!$A$3:$A$610,Emisiones!$H$3:$H$610),\"\")","v":""},{"$f":"IFERROR(LOOKUP($B50,Emisiones!$A$3:$A$610,Emisiones!$I$3:$I$610),\"\")","v":""},{"$f":"IFERROR(LOOKUP($B50,Emisiones!$A$3:$A$610,Emisiones!$J$3:$J$610),\"\")","v":""},{"$f":"IFERROR(LOOKUP($B50,Emisiones!$A$3:$A$610,Emisiones!$K$3:$K$610),\"\")","v":""}]
[null,{"$f":"IFERROR(LOOKUP($F51,ID!$A$3:$A$610,ID!$E$3:$E$610),\"\")","v":""},"Energía","Energía_térmica","Procesos_térmicos","",{"$f":"IFERROR(LOOKUP($B51,Emisiones!$A$3:$A$610,Emisiones!$F$3:$F$610),\"\")","v":""},null,{"$f":"IFERROR(LOOKUP($B51,Emisiones!$A$3:$A$610,Emisiones!$G$3:$G$610),\"\")","v":""},{"$f":"IFERROR(LOOKUP($B51,Emisiones!$A$3:$A$610,Emisiones!$H$3:$H$610),\"\")","v":""},{"$f":"IFERROR(LOOKUP($B51,Emisiones!$A$3:$A$610,Emisiones!$I$3:$I$610),\"\")","v":""},{"$f":"IFERROR(LOOKUP($B51,Emisiones!$A$3:$A$610,Emisiones!$J$3:$J$610),\"\")","v":""},{"$f":"IFERROR(LOOKUP($B51,Emisiones!$A$3:$A$610,Emisiones!$K$3:$K$610),\"\")","v":""}]
[null,{"$f":"IFERROR(LOOKUP($F52,ID!$A$3:$A$610,ID!$E$3:$E$610),\"\")","v":""},"Energía","Energía_térmica","Procesos_térmicos","",{"$f":"IFERROR(LOOKUP($B52,Emisiones!$A$3:$A$610,Emisiones!$F$3:$F$610),\"\")","v":""},null,{"$f":"IFERROR(LOOKUP($B52,Emisiones!$A$3:$A$610,Emisiones!$G$3:$G$610),\"\")","v":""},{"$f":"IFERROR(LOOKUP($B52,Emisiones!$A$3:$A$610,Emisiones!$H$3:$H$610),\"\")","v":""},{"$f":"IFERROR(LOOKUP($B52,Emisiones!$A$3:$A$610,Emisiones!$I$3:$I$610),\"\")","v":""},{"$f":"IFERROR(LOOKUP($B52,Emisiones!$A$3:$A$610,Emisiones!$J$3:$J$610),\"\")","v":""},{"$f":"IFERROR(LOOKUP($B52,Emisiones!$A$3:$A$610,Emisiones!$K$3:$K$610),\"\")","v":""}]
[null,{"$f":"IFERROR(LOOKUP($F53,ID!$A$3:$A$610,ID!$E$3:$E$610),\"\")","v":""},"Energía","Energía_térmica","Procesos_térmicos","",{"$f":"IFERROR(LOOKUP($B53,Emisiones!$A$3:$A$610,Emisiones!$F$3:$F$610),\"\")","v":""},null,{"$f":"IFERROR(LOOKUP($B53,Emisiones!$A$3:$A$610,Emisiones!$G$3:$G$610),\"\")","v":""},{"$f":"IFERROR(LOOKUP($B53,Emisiones!$A$3:$A$610,Emisiones!$H$3:$H$610),\"\")","v":""},{"$f":"IFERROR(LOOKUP($B53,Emisiones!$A$3:$A$610,Emisiones!$I$3:$I$610),\"\")","v":""},{"$f":"IFERROR(LOOKUP($B53,Emisiones!$A$3:$A$610,Emisiones!$J$3:$J$610),\"\")","v":""},{"$f":"IFERROR(LOOKUP($B53,Emisiones!$A$3:$A$610,Emisiones!$K$3:$K$610),\"\")","v":""}]
[null,{"$f":"IFERROR(LOOKUP($F54,ID!$A$3:$A$610,ID!$E$3:$E$610),\"\")","v":""},"Energía","Energía_térmica","Procesos_térmicos","",{"$f":"IFERROR(LOOKUP($B54,Emisiones!$A$3:$A$610,Emisiones!$F$3:$F$610),\"\")","v":""},null,{"$f":"IFERROR(LOOKUP($B54,Emisiones!$A$3:$A$610,Emisiones!$G$3:$G$610),\"\")","v":""},{"$f":"IFERROR(LOOKUP($B54,Emisiones!$A$3:$A$610,Emisiones!$H$3:$H$610),\"\")","v":""},{"$f":"IFERROR(LOOKUP($B54,Emisiones!$A$3:$A$610,Emisiones!$I$3:$I$610),\"\")","v":""},{"$f":"IFERROR(LOOKUP($B54,Emisiones!$A$3:$A$610,Emisiones!$J$3:$J$610),\"\")","v":""},{"$f":"IFERROR(LOOKUP($B54,Emisiones!$A$3:$A$610,Emisiones!$K$3:$K$610),\"\")","v":""}]
[null,{"$f":"IFERROR(LOOKUP($F55,ID!$A$3:$A$610,ID!$E$3:$E$610),\"\")","v":""},"Energía","Energía_térmica","Procesos_térmicos","",{"$f":"IFERROR(LOOKUP($B55,Emisiones!$A$3:$A$610,Emisiones!$F$3:$F$610),\"\")","v":""},null,{"$f":"IFERROR(LOOKUP($B55,Emisiones!$A$3:$A$610,Emisiones!$G$3:$G$610),\"\")","v":""},{"$f":"IFERROR(LOOKUP($B55,Emisiones!$A$3:$A$610,Emisiones!$H$3:$H$610),\"\")","v":""},{"$f":"IFERROR(LOOKUP($B55,Emisiones!$A$3:$A$610,Emisiones!$I$3:$I$610),\"\")","v":""},{"$f":"IFERROR(LOOKUP($B55,Emisiones!$A$3:$A$610,Emisiones!$J$3:$J$610),\"\")","v":""},{"$f":"IFERROR(LOOKUP($B55,Emisiones!$A$3:$A$610,Emisiones!$K$3:$K$610),\"\")","v":""}]
[null,{"$f":"IFERROR(LOOKUP($F56,ID!$A$3:$A$610,ID!$E$3:$E$610),\"\")","v":""},"Energía","Energía_térmica","Procesos_térmicos","",{"$f":"IFERROR(LOOKUP($B56,Emisiones!$A$3:$A$610,Emisiones!$F$3:$F$610),\"\")","v":""},null,{"$f":"IFERROR(LOOKUP($B56,Emisiones!$A$3:$A$610,Emisiones!$G$3:$G$610),\"\")","v":""},{"$f":"IFERROR(LOOKUP($B56,Emisiones!$A$3:$A$610,Emisiones!$H$3:$H$610),\"\")","v":""},{"$f":"IFERROR(LOOKUP($B56,Emisiones!$A$3:$A$610,Emisiones!$I$3:$I$610),\"\")","v":""},{"$f":"IFERROR(LOOKUP($B56,Emisiones!$A$3:$A$610,Emisiones!$J$3:$J$610),\"\")","v":""},{"$f":"IFERROR(LOOKUP($B56,Emisiones!$A$3:$A$610,Emisiones!$K$3:$K$610),\"\")","v":""}]
[null,{"$f":"IFERROR(LOOKUP($F57,ID!$A$3:$A$610,ID!$E$3:$E$610),\"\")","v":""},"Energía","Energía_térmica","Procesos_térmicos","",{"$f":"IFERROR(LOOKUP($B57,Emisiones!$A$3:$A$610,Emisiones!$F$3:$F$610),\"\")","v":""},null,{"$f":"IFERROR(LOOKUP($B57,Emisiones!$A$3:$A$610,Emisiones!$G$3:$G$610),\"\")","v":""},{"$f":"IFERROR(LOOKUP($B57,Emisiones!$A$3:$A$610,Emisiones!$H$3:$H$610),\"\")","v":""},{"$f":"IFERROR(LOOKUP($B57,Emisiones!$A$3:$A$610,Emisiones!$I$3:$I$610),\"\")","v":""},{"$f":"IFERROR(LOOKUP($B57,Emisiones!$A$3:$A$610,Emisiones!$J$3:$J$610),\"\")","v":""},{"$f":"IFERROR(LOOKUP($B57,Emisiones!$A$3:$A$610,Emisiones!$K$3:$K$610),\"\")","v":""}]
[null,{"$f":"IFERROR(LOOKUP($F58,ID!$A$3:$A$610,ID!$E$3:$E$610),\"\")","v":""},"Energía","Energía_térmica","Procesos_térmicos","",{"$f":"IFERROR(LOOKUP($B58,Emisiones!$A$3:$A$610,Emisiones!$F$3:$F$610),\"\")","v":""},null,{"$f":"IFERROR(LOOKUP($B58,Emisiones!$A$3:$A$610,Emisiones!$G$3:$G$610),\"\")","v":""},{"$f":"IFERROR(LOOKUP($B58,Emisiones!$A$3:$A$610,Emisiones!$H$3:$H$610),\"\")","v":""},{"$f":"IFERROR(LOOKUP($B58,Emisiones!$A$3:$A$610,Emisiones!$I$3:$I$610),\"\")","v":""},{"$f":"IFERROR(LOOKUP($B58,Emisiones!$A$3:$A$610,Emisiones!$J$3:$J$610),\"\")","v":""},{"$f":"IFERROR(LOOKUP($B58,Emisiones!$A$3:$A$610,Emisiones!$K$3:$K$610),\"\")","v":""}]
[null,{"$f":"IFERROR(LOOKUP($F59,ID!$A$3:$A$610,ID!$E$3:$E$610),\"\")","v":""},"Energía","Energía_térmica","Procesos_térmicos","",{"$f":"IFERROR(LOOKUP($B59,Emisiones!$A$3:$A$610,Emisiones!$F$3:$F$610),\"\")","v":""},null,{"$f":"IFERROR(LOOKUP($B59,Emisiones!$A$3:$A$610,Emisiones!$G$3:$G$610),\"\")","v":""},{"$f":"IFERROR(LOOKUP($B59,Emisiones!$A$3:$A$610,Emisiones!$H$3:$H$610),\"\")","v":""},{"$f":"IFERROR(LOOKUP($B59,Emisiones!$A$3:$A$610,Emisiones!$I$3:$I$610),\"\")","v":""},{"$f":"IFERROR(LOOKUP($B59,Emisiones!$A$3:$A$610,Emisiones!$J$3:$J$610),\"\")","v":""},{"$f":"IFERROR(LOOKUP($B59,Emisiones!$A$3:$A$610,Emisiones!$K$3:$K$610),\"\")","v":""}]
[null,{"$f":"IFERROR(LOOKUP($F60,ID!$A$3:$A$610,ID!$E$3:$E$610),\"\")","v":""},"Energía","Energía_térmica","Procesos_térmicos","",{"$f":"IFERROR(LOOKUP($B60,Emisiones!$A$3:$A$610,Emisiones!$F$3:$F$610),\"\")","v":""},null,{"$f":"IFERROR(LOOKUP($B60,Emisiones!$A$3:$A$610,Emisiones!$G$3:$G$610),\"\")","v":""},{"$f":"IFERROR(LOOKUP($B60,Emisiones!$A$3:$A$610,Emisiones!$H$3:$H$610),\"\")","v":""},{"$f":"IFERROR(LOOKUP($B60,Emisiones!$A$3:$A$610,Emisiones!$I$3:$I$610),\"\")","v":""},{"$f":"IFERROR(LOOKUP($B60,Emisiones!$A$3:$A$610,Emisiones!$J$3:$J$610),\"\")","v":""},{"$f":"IFERROR(LOOKUP($B60,Emisiones!$A$3:$A$610,Emisiones!$K$3:$K$610),\"\")","v":""}]
[null,null,"Energía","Energía_térmica","Procesos_térmicos","",{"$f":"IFERROR(LOOKUP($B61,Emisiones!$A$3:$A$610,Emisiones!$F$3:$F$610),\"\")","v":""},null,{"$f":"IFERROR(LOOKUP($B61,Emisiones!$A$3:$A$610,Emisiones!$G$3:$G$610),\"\")","v":""},{"$f":"IFERROR(LOOKUP($B61,Emisiones!$A$3:$A$610,Emisiones!$H$3:$H$610),\"\")","v":""},{"$f":"IFERROR(LOOKUP($B61,Emisiones!$A$3:$A$610,Emisiones!$I$3:$I$610),\"\")","v":""},{"$f":"IFERROR(LOOKUP($B61,Emisiones!$A$3:$A$610,Emisiones!$J$3:$J$610),\"\")","v":""},{"$f":"IFERROR(LOOKUP($B61,Emisiones!$A$3:$A$610,Emisiones!$K$3:$K$610),\"\")","v":""}]
[null,null,"","","","",null,null,{"$f":"SUM($J$12:$J$61)","v":0},{"$f":"$I$62*1.05","v":0}]

{"sheet":"Combustibles","index":1,"n_rows":127,"n_cols":14,"rows_kept":127,"cut":false,"hidden":true,"merged":[[67,11,67,13],[68,11,68,13],[68,1,68,3],[67,1,67,3],[67,6,67,8],[68,6,68,8],[51,1,64,1],[43,1,50,1],[2,1,7,1],[8,1,23,1],[24,1,30,1],[31,1,33,1],[34,1,42,1]]}
[]
[null,null,"Combustible","Unidades","PCN"]
[null,"Gaseosos","Gas natural (promedio asociado y no asociado)","(kJ/m3)",39083]
[null,null,"Gas natural asociado 2","(kJ/m3)",40357]
[null,null,"Gas natural no asociado 3","(kJ/m3)",37808,null,158.9873,"l / bbl"]
[null,null,"Gas seco 4","(kJ/m3)",33543]
[null,null,"Gas seco de exportación","(kJ/m3)",33804]
[null,null,"Gas seco de importación","(kJ/m3)",38240]
[null,"Liquidos","Combustóleo","(MJ/bl)",6656]
[null,null,"Condensados","(MJ/bl)",6989]
[null,null,"Diesel","(MJ/bl)",6065]
[null,null,"Etano","(MJ/bl)",2868]
[null,null,"Gas licuado","(MJ/bl)",4153]
[null,null,"Gasóleo","(MJ/m3)",42524]
[null,null,"Gasolinas naturales","(MJ/bl)",4781]
[null,null,"Gasolinas y naftas","(MJ/bl)",5613]
[null,null,"Lubricantes","(MJ/bl)",6307]
[null,null,"Materia prima para negro de humo","(MJ/bl)",6409]
[null,null,"Metil-terbutil-éter (MTBE)","(MJ/bl)",4839]
[null,null,"Petróleo crudo (promedio de la producción) 1","(MJ/bl)",6347]
[null,null,"Petróleo crudo istmo","(MJ/bl)",5826,"ligero"]
[null,null,"Petróleo crudo maya","(MJ/bl)",6040,"Pesado"]
[null,null,"Petróleo crudo olmeca","(MJ/bl)",5727,"superligero"]
[null,null,"Querosenos","(MJ/bl)",5888]
[null,"Solidos","Azufre","(MJ/t)",9296]
[null,null,"Carbón siderúrgico de importación","(MJ/t)",28954]
[null,null,"Carbón siderúrgico nacional","(MJ/t)",29335]
[null,null,"Carbón térmico de importación","(MJ/t)",22543]
[null,null,"Carbón térmico nacional","(MJ/t)",19432]
[null,null,"Coque de carbón","(MJ/t)",26521]
[null,null,"Coque de petróleo","(MJ/t)",34518]
[null,"Bioenergéticos","Biodiesel","(kJ/m3)",18837]
[null,null,"Biogas","(MJ/m3)",20]
[null,null,"Etanol anhidro","(MJ/bl)",3362]
[null,"Biomasa","Bagazo de caña","(MJ/t)",7055]
[null,null,"Bagazo de malta","(MJ/t)",7056]
[null,null,"Caña de maíz","(MJ/t)",14651]
[null,null,"Carbón vegetal 7         7 – 2 % de humedad","(MJ/t)","29,000 - 30,000",{"$f":"(29000+30000)/2","v":29500}]
[null,null,"Leña","(MJ/t)",14486]
[null,null,"Madera 7           25 – 20 % de humedad","(MJ/t)","13,000 - 15,000",{"$f":"(13000+15000)/2","v":14000}]
[null,null,"Madera pellets 7","(MJ/t)",17584]
[null,null,"Paja de arroz","(MJ/t)","12,139 - 16,744",{"$f":"(12139+16744)/2","v":14441.5}]
[null,null,"Turba 7           50 – 35 % de humedad","(MJ/t)","12,000 - 14,000",{"$f":"(12000+14000)/2","v":13000}]
[null,"RSU","Algodón","(MJ/t)",16744]
[null,null,"Cartón ordinario, empaques, envases","(MJ/t)","14,232 - 14,651",{"$f":"(14651+14232)/2","v":14441.5}]
[null,null,"Fieltro y linóleo","(MJ/t)","20,930 - 25,535"]
[null,null,"Hule viejo","(MJ/t)",13395]
[null,null,"Lana y seda","(MJ/t)","19,256 - 20,511",{"$f":"(19256+20511)/2","v":19883.5}]
[null,null,"Legumbres verdes","(MJ/t)",3349]
[null,null,"Paneles, fibras, partículas y pedacería de madera","(MJ/t)","18,837 - 19,256",{"$f":"(18837+19256)/2","v":19046.5}]
[null,null,"Papel ordinario, o kraft","(MJ/t)","16,325 - 17,163",{"$f":"(16325+17163)/2","v":16744}]
[null,"Residuos Industriales","ABS","(MJ/t)",34744]
[null,null,"Acetona","(MJ/t)",28883]
[null,null,"Asfaltos","(MJ/bl)",6506]
[null,null,"Benceno","(MJ/t)",37674]
[null,null,"Gas de alto horno","(MJ/m3)",3]
[null,null,"Gas de coque","(MJ/m3)",18]
[null,null,"Licor negro 8","(MJ/t)",15070]
[null,null,"Llantas 9","(MJ/t)",25116]
[null,null,"Lodos orgánicos","(MJ/t)","8,791 - 15,070"]
[null,null,"Lubricantes","(MJ/bl)",6037]
[null,null,"Neopreno","(MJ/t)",25116]
[null,null,"PVC","(MJ/t)","18,837 - 22,186"]
[null,null,"Pintura y barniz","(MJ/t)",18837]
[null,null,"Poliestireno","(MJ/t)",41860]
[]
[]
[null,"Poderes caloríficos",null,null,null,null,"Poderes caloríficos",null,null,null,null,"Factor de Emisión 2022"]
[null,"Energia eléctrica y térmica",null,null,null,null,"Energia eléctrica y térmica",null,null,null,null,"Consumo de Energía Eléctrica"]
[null,"Combustible","PC",null,null,null,"Combustible","PC",null,null,null,"Combustible","FE"]
[1,"Algodón",{"$f":"E44","v":16744},"MJ/ton",null,null,"Diesel",{"$f":"C95","v":38.147701105685798},"(MJ/l)",null,null,"Electricidad",0.435,"(tCO2/MWh)"]
[2,"Alquitrán",28000,"MJ/ton",null,null,"Gas Natural",{"$f":"C104","v":33.542999999999999},"MJ/m3"]
[3,"Bagazo de caña",{"$f":"E35","v":7055},"MJ/ton",null,null,"Gas_licuado",{"$f":"C100","v":26.121583296275865},"(MJ/l)"]
[4,"Bagazo de Malta",{"$f":"E36","v":7056},"MJ/ton",null,null,"Gasolina",{"$f":"C109","v":35.304706728147465},"(MJ/l)"]
[5,"Basura (residuos sólidos urbanos)",{"$f":"11.6*1000","v":11600},"MJ/ton",null,null,"Turbosina",{"$f":"C127","v":37.03440463483561},"(MJ/l)"]
[6,"Biocombustible líquido",27000,"MJ/ton",null,null,"Combustóleo",{"$f":"C90","v":41.864979152422862},"(MJ/l)"]
[7,"Biodiesel",{"$f":"E32/1000","v":18.837},"MJ/l"]
[8,"Biogás (metano)",{"$f":"E33","v":20},"MJ/m3"]
[9,"Biogasolina",{"$f":"0.78*C109","v":27.537671247955025},"MJ/l"]
[10,"Caña de maíz",{"$f":"E37","v":14651},"MJ/ton"]
[11,"Carbón antracita",26700,"MJ/ton"]
[12,"Carbón bituminoso",25800,"MJ/ton"]
[13,"Carbón mineral",18900,"MJ/ton"]
[14,"Carbón siderúrgico de importación",{"$f":"E26","v":28954},"MJ/ton"]
[15,"Carbón siderúrgico nacional",{"$f":"E27","v":29335},"MJ/ton"]
[16,"Carbón térmico de importación",22543,"MJ/ton"]
[17,"Carbón térmico nacional",19432,"MJ/ton"]
[18,"Carbón vegetal",{"$f":"F38","v":29500},"MJ/ton"]
[19,"Cartón ordinario-empaques-envases",{"$f":"F45","v":14441.5},"MJ/ton"]
[20,"Combustóleo ligero",{"$f":"E9/$G$5","v":41.864979152422862},"MJ/l"]
[21,"Combustóleo pesado",{"$f":"E9/$G$5","v":41.864979152422862},"MJ/l"]
[22,"Coque de carbón",{"$f":"E30","v":26521},"MJ/ton"]
[23,"Coque de petróleo",{"$f":"E31","v":34518},"MJ/ton"]
[24,"Diáfano",{"$f":"0.825*43.22072","v":35.657094000000001},"MJ/l"]
[25,"Diésel",{"$f":"E11/$G$5","v":38.147701105685798},"MJ/l"]
[26,"Esquisto bituminoso y alquitrán",5600,"MJ/ton"]
[27,"Etano",{"$f":"E12/$G$5","v":18.039176714114902},"MJ/l"]
[28,"Gas de alto horno ",{"$f":"3.454","v":3.4540000000000002},"MJ/m3"]
[29,"Gas de coque ",{"$f":"18.423","v":18.422999999999998},"MJ/m3"]
[30,"Gas licuado",{"$f":"E13/$G$5","v":26.121583296275865},"MJ/l"]
[31,"Gas natural (promedio asociado y no asociado)",{"$f":"E3/1000","v":39.082999999999998},"MJ/m3"]
[32,"Gas natural asociado",{"$f":"E4/1000","v":40.356999999999999},"MJ/m3"]
[33,"Gas natural no asociado ",37.808,"MJ/m3"]
[34,"Gas seco ",33.542999999999999,"MJ/m3"]
[35,"Gas seco de exportación",33.804000000000002,"MJ/m3"]
[36,"Gas seco de importación",38.24,"MJ/m3"]
[37,"Gasóleo",42.523000000000003,"MJ/m3"]
[38,"Gasolinas naturales",{"$f":"E15/$G$5","v":30.071584334094609},"MJ/l"]
[39,"Gasolinas y naftas",{"$f":"E16/$G$5","v":35.304706728147465},"MJ/l"]
[40,"Hidrógeno",119956,"MJ/ton"]
[41,"Lana y seda",{"$f":"F48","v":19883.5},"MJ/ton"]
[42,"Leña",{"$f":"E39","v":14486},"MJ/ton"]
[43,"Licor negro  ",{"$f":"E58","v":15070},"MJ/ton"]
[44,"Lubricantes",{"$f":"E61/$G$5","v":37.971586409732097},"MJ/l"]
[45,"Madera  (20% de humedad)",{"$f":"F40","v":14000},"MJ/ton"]
[46,"Madera en astillas/pellets",{"$f":"E41","v":17584},"MJ/ton"]
[47,"Mezcla de parafinas",43513,"MJ/ton"]
[48,"Paja de arroz",{"$f":"F42","v":14441.5},"MJ/ton"]
[49,"Paneles-fibras-partículas y pedacería de madera",{"$f":"F50","v":19046.5},"MJ/ton"]
[50,"Papel ordinario o kraft",{"$f":"F51","v":16744},"MJ/ton"]
[51,"Petróleo crudo (promedio de la producción)",{"$f":"E20/$G$5","v":39.921427686362371},"MJ/l"]
[52,"Petróleo crudo ligero",{"$f":"E21/$G$5","v":36.644436379509557},"MJ/l"]
[53,"Petróleo crudo pesado",37.990455841441424,"MJ/l"]
[54,"Petróleo crudo superligero",36.021745133101824,"MJ/l"]
[55,"Querosenos",37.03440463483561,"MJ/l"]
[56,"Turba (35 % de humedad)",{"$f":"F43","v":13000},"MJ/ton"]
[57,"Turbosina",{"$f":"E24/$G$5","v":37.03440463483561},"MJ/l"]

{"sheet":"Ecuaciones y FE","index":2,"n_rows":678,"n_cols":48,"rows_kept":678,"cut":false,"hidden":true,"merged":[]}
[]
[null,null,null,null,null,null,null,{"$f":"MATCH(Calculadora!$H$11,Calculadora!$C$11:$H$11,0)","v":6},null,null,null,null,null,null,null,null,null,null,null,null,null,null,null,null,null,null,null,null,null,null,null,null,null,"PCG"]
["ID","SECTOR","SUBSECTOR","ACTIVIDAD",null,"Datos de Actividad",null,null,null,null,null,null,null,null,null,null,null,null,null,null,null,null,null,null,null,null,null,null,null,null,null,null,null,"CH4",28]
[null,null,null,null,null,null,null,null,null,null,null,null,null,null,null,null,null,null,null,null,null,null,null,null,null,null,null,null,null,null,null,null,null,"N20",265]
["To","TODOS",null,null,"Energía eléctrica","Consumo","Unidades consumo",null,null,null,null,null,null,null,"FE (tCO2/MWh)",null,null,null,null,null,null,null,"Emisiones ton CO2",null,null,null,null,null,null,null,null,"Emisiones ton CO2e",null,"CF4",6630]
["Ed1","Todos","Consumo_Electricidad","Electricidad_Consumida","Electricidad_Consumida",{"$f":"INDEX(Calculadora!$C$11:$H$60,MATCH('Ecuaciones y FE'!A6,Calculadora!$B$11:$B$60,0),MATCH(Calculadora!$H$11,Calculadora!$C$11:$H$11,0))","v":{"$error":"#N/A"}},"MWh",null,null,null,null,null,null,null,0.49399999999999999,null,null,null,null,null,null,null,{"$f":"$F$6*$O$6","v":{"$error":"#N/A"}},null,null,null,null,null,null,null,null,{"$f":"$W$6","v":{"$error":"#N/A"}},null,"C2F6",11100]
[null,null,null,null,"Combustible","Consumo","Unidades consumo",null,"PC","Unidades PC",null,null,null,null,"FE CO2 \n(ton CO2/MJ)","FE CH4\n(ton CH4/MJ)","FE N2O\n(ton CO2/MJ)",null,null,null,null,null,"Emisiones ton CO2","Emisiones CH4","Emisiones N2O",null,null,null,null,null,null,"Emisiones ton CO2e",null,"SF6",23500]
["To2","Todos","Consumo_combustibles","Combustibles_consumidos","Diesel",{"$f":"INDEX(Calculadora!$C$11:$H$60,MATCH('Ecuaciones y FE'!A8,Calculadora!$B$11:$B$60,0),MATCH(Calculadora!$H$11,Calculadora!$C$11:$H$11,0))","v":{"$error":"#N/A"}},"L",null,{"$f":"Combustibles!E11","v":6065},"MJ/bl",null,null,null,null,7.4099999999999999E-5,3E-9,6E-10,null,null,null,null,null,{"$f":"F8*($I$8/159)*O8","v":{"$error":"#N/A"}},{"$f":"F8*(I8/159)*P8","v":{"$error":"#N/A"}},{"$f":"F8*(I8/159)*Q8","v":{"$error":"#N/A"}},null,null,null,null,null,null,{"$f":"W8+(X8*$AI$3)+(Y8*$AI$4)","v":{"$error":"#N/A"}},null,"CHF3",12400]
["To3","Todos","Consumo_combustibles","Combustibles_consumidos","Gasolinas y Naftas",{"$f":"INDEX(Calculadora!$C$11:$H$60,MATCH('Ecuaciones y FE'!A9,Calculadora!$B$11:$B$60,0),MATCH(Calculadora!$H$11,Calculadora!$C$11:$H$11,0))","v":{"$error":"#N/A"}},"L",null,{"$f":"Combustibles!E16","v":5613},"MJ/bl",null,null,null,null,6.9300000000000004E-5,3E-9,6E-10,null,null,null,null,null,{"$f":"F9*(I9/159)*O9","v":{"$error":"#N/A"}},{"$f":"F9*(I9/159)*P9","v":{"$error":"#N/A"}},{"$f":"F9*(I9/159)*Q9","v":{"$error":"#N/A"}},null,null,null,null,null,null,{"$f":"W9+(X9*AI3)+(Y9*$AI$4)","v":{"$error":"#N/A"}},null,"C3F8",8900]
["To4","Todos","Consumo_combustibles","Combustibles_consumidos","Gas Natural",{"$f":"INDEX(Calculadora!$C$11:$H$60,MATCH('Ecuaciones y FE'!A10,Calculadora!$B$11:$B$60,0),MATCH(Calculadora!$H$11,Calculadora!$C$11:$H$11,0))","v":{"$error":"#N/A"}},"m3",null,{"$f":"Combustibles!E6","v":33543},"kJ/m3",null,null,null,null,5.6100000000000002E-5,9.9999999999999986E-10,9.9999999999999991E-11,null,null,null,null,null,{"$f":"F10*I10*O10","v":{"$error":"#N/A"}},{"$f":"F10*I10*P10","v":{"$error":"#N/A"}},{"$f":"F10*I10*Q10","v":{"$error":"#N/A"}},null,null,null,null,null,null,{"$f":"W10+(X10*AI3)+(Y10*$AI$4)","v":{"$error":"#N/A"}},null,"NF3",16100]
["To5","Todos","Consumo_combustibles","Combustibles_consumidos","Gas Licuado",{"$f":"INDEX(Calculadora!$C$11:$H$60,MATCH('Ecuaciones y FE'!A11,Calculadora!$B$11:$B$60,0),MATCH(Calculadora!$H$11,Calculadora!$C$11:$H$11,0))","v":{"$error":"#N/A"}},"L",null,{"$f":"Combustibles!E13/Combustibles!G5","v":26.121583296275865},"MJ/l",null,null,null,null,6.3100000000000002E-5,6.1999999999999999E-8,2.0000000000000001E-10,null,null,null,null,null,{"$f":"F11*I11*O11","v":{"$error":"#N/A"}},{"$f":"F11*I11*P11","v":{"$error":"#N/A"}},{"$f":"F11*I11*Q11","v":{"$error":"#N/A"}},null,null,null,null,null,null,{"$f":"W11+(X11*AI4)+(Y11*$AI$4)","v":{"$error":"#N/A"}}]
[null,null,null,null,null,null,null,null,null,null,null,null,null,null,null,null,null,null,null,null,null,null,null,null,null,null,null,null,null,null,null,null,null,"C6F14",7910]
["Ea","ENERGÍA ELÉCTRICA","Subsector generación, transmisión y distribución de electricidad","Generación, transmisión y distribución de energía eléctrica","Combustible ","Volumen consumido","Unidades consumo",null,"PC","Unidades PC",null,null,null,null,"FE_CO2 (ton/MJ)","FE_CH4 \n(ton/MJ)","FE_N20 \n(ton/MJ)",null,null,null,null,null,"Emisiones CO2","Emisiones CH4","Emisiones N2O",null,null,null,null,null,null,"Emisiones CO2e"]
["Ea01","Energía","Subsector generación, transmisión y distribución de electricidad","Generación, transmisión y distribución de energía eléctrica","Algodón",{"$f":"INDEX(Calculadora!$C$11:$H$60,MATCH('Ecuaciones y FE'!A14,Calculadora!$B$11:$B$60,0),MATCH(Calculadora!$H$11,Calculadora!$C$11:$H$11,0))","v":{"$error":"#N/A"}},"ton",null,{"$f":"Combustibles!C71","v":16744},"MJ/ton",null,null,null,null,1E-4,3.0000000000000004E-8,3.9999999999999994E-9,null,null,null,null,null,{"$f":"F14*I14*O14","v":{"$error":"#N/A"}},{"$f":"F14*I14*P14","v":{"$error":"#N/A"}},{"$f":"F14*I14*Q14","v":{"$error":"#N/A"}},null,null,null,null,null,null,{"$f":"W14+(X14*$AI$3)+(Y14*$AI$4)","v":{"$error":"#N/A"}}]
["Ea02","Energía","Subsector generación, transmisión y distribución de electricidad","Generación, transmisión y distribución de energía eléctrica","Alquitrán",{"$f":"INDEX(Calculadora!$C$11:$H$60,MATCH('Ecuaciones y FE'!A15,Calculadora!$B$11:$B$60,0),MATCH(Calculadora!$H$11,Calculadora!$C$11:$H$11,0))","v":{"$error":"#N/A"}},"ton",null,{"$f":"Combustibles!C72","v":28000},"MJ/ton",null,null,null,null,8.0699999999999996E-5,9.9999999999999986E-10,1.5E-9,null,null,null,null,null,{"$error":"#N/A"},{"$error":"#N/A"},{"$error":"#N/A"},null,null,null,null,null,null,{"$f":"W15+(X15*$AI$3)+(Y15*$AI$4)","v":{"$error":"#N/A"}}]
["Ea03","Energía","Subsector generación, transmisión y distribución de electricidad","Generación, transmisión y distribución de energía eléctrica","Bagazo de caña",{"$f":"INDEX(Calculadora!$C$11:$H$60,MATCH('Ecuaciones y FE'!A16,Calculadora!$B$11:$B$60,0),MATCH(Calculadora!$H$11,Calculadora!$C$11:$H$11,0))","v":{"$error":"#N/A"}},"ton",null,{"$f":"Combustibles!C73","v":7055},"MJ/ton",null,null,null,null,1E-4,3.0000000000000004E-8,3.9999999999999994E-9,null,null,null,null,null,{"$error":"#N/A"},{"$error":"#N/A"},{"$error":"#N/A"},null,null,null,null,null,null,{"$error":"#N/A"}]
["Ea04","Energía","Subsector generación, transmisión y distribución de electricidad","Generación, transmisión y distribución de energía eléctrica","Bagazo de Malta",{"$f":"INDEX(Calculadora!$C$11:$H$60,MATCH('Ecuaciones y FE'!A17,Calculadora!$B$11:$B$60,0),MATCH(Calculadora!$H$11,Calculadora!$C$11:$H$11,0))","v":{"$error":"#N/A"}},"ton",null,{"$f":"Combustibles!C74","v":7056},"MJ/ton",null,null,null,null,1E-4,3.0000000000000004E-8,3.9999999999999994E-9,null,null,null,null,null,{"$error":"#N/A"},{"$error":"#N/A"},{"$error":"#N/A"},null,null,null,null,null,null,{"$error":"#N/A"}]
["Ea05","Energía","Subsector generación, transmisión y distribución de electricidad","Generación, transmisión y distribución de energía eléctrica","Basura (residuos sólidos urbanos)",{"$f":"INDEX(Calculadora!$C$11:$H$60,MATCH('Ecuaciones y FE'!A18,Calculadora!$B$11:$B$60,0),MATCH(Calculadora!$H$11,Calculadora!$C$11:$H$11,0))","v":{"$error":"#N/A"}},"ton",null,{"$f":"Combustibles!C75","v":11600},"MJ/ton",null,null,null,null,9.1700000000000006E-5,3.0000000000000004E-8,3.9999999999999994E-9,null,null,null,null,null,{"$error":"#N/A"},{"$error":"#N/A"},{"$error":"#N/A"},null,null,null,null,null,null,{"$error":"#N/A"}]
["Ea06","Energía","Subsector generación, transmisión y distribución de electricidad","Generación, transmisión y distribución de energía eléctrica","Biocombustible líquido",{"$f":"INDEX(Calculadora!$C$11:$H$60,MATCH('Ecuaciones y FE'!A19,Calculadora!$B$11:$B$60,0),MATCH(Calculadora!$H$11,Calculadora!$C$11:$H$11,0))","v":{"$error":"#N/A"}},"ton",null,{"$f":"Combustibles!C76","v":27000},"MJ/ton",null,null,null,null,7.9599999999999997E-5,3E-9,6E-10,null,null,null,null,null,{"$error":"#N/A"},{"$error":"#N/A"},{"$error":"#N/A"},null,null,null,null,null,null,{"$error":"#N/A"}]
["Ea07","Energía","Subsector generación, transmisión y distribución de electricidad","Generación, transmisión y distribución de energía eléctrica","Biodiesel",{"$f":"INDEX(Calculadora!$C$11:$H$60,MATCH('Ecuaciones y FE'!A20,Calculadora!$B$11:$B$60,0),MATCH(Calculadora!$H$11,Calculadora!$C$11:$H$11,0))","v":{"$error":"#N/A"}},"l",null,{"$f":"Combustibles!C77","v":18.837},"MJ/l",null,null,null,null,7.08E-5,3E-9,6E-10,null,null,null,null,null,{"$f":"F20*I20*O20","v":{"$error":"#N/A"}},{"$f":"F20*I20*P20","v":{"$error":"#N/A"}},{"$f":"F20*I20*Q20","v":{"$error":"#N/A"}},null,null,null,null,null,null,{"$error":"#N/A"}]
["Ea08","Energía","Subsector generación, transmisión y distribución de electricidad","Generación, transmisión y distribución de energía eléctrica","Biogás (metano)",{"$f":"INDEX(Calculadora!$C$11:$H$60,MATCH('Ecuaciones y FE'!A21,Calculadora!$B$11:$B$60,0),MATCH(Calculadora!$H$11,Calculadora!$C$11:$H$11,0))","v":{"$error":"#N/A"}},"m3",null,{"$f":"Combustibles!C78","v":20},"MJ/m3",null,null,null,null,5.4599999999999999E-5,1.0000000000000001E-9,1E-10,null,null,null,null,null,{"$f":"F21*I21*O21","v":{"$error":"#N/A"}},{"$f":"F21*I21*P21","v":{"$error":"#N/A"}},{"$f":"F21*I21*Q21","v":{"$error":"#N/A"}},null,null,null,null,null,null,{"$error":"#N/A"}]
["Ea09","Energía","Subsector generación, transmisión y distribución de electricidad","Generación, transmisión y distribución de energía eléctrica","Biogasolina",{"$f":"INDEX(Calculadora!$C$11:$H$60,MATCH('Ecuaciones y FE'!A22,Calculadora!$B$11:$B$60,0),MATCH(Calculadora!$H$11,Calculadora!$C$11:$H$11,0))","v":{"$error":"#N/A"}},"l",null,{"$f":"Combustibles!C79","v":27.537671247955025},"MJ/l",null,null,null,null,7.08E-5,3E-9,6E-10,null,null,null,null,null,{"$f":"F22*I22*O22","v":{"$error":"#N/A"}},{"$f":"F22*I22*P22","v":{"$error":"#N/A"}},{"$f":"F22*I22*Q22","v":{"$error":"#N/A"}},null,null,null,null,null,null,{"$error":"#N/A"}]
["Ea10","Energía","Subsector generación, transmisión y distribución de electricidad","Generación, transmisión y distribución de energía eléctrica","Caña de maíz",{"$f":"INDEX(Calculadora!$C$11:$H$60,MATCH('Ecuaciones y FE'!A23,Calculadora!$B$11:$B$60,0),MATCH(Calculadora!$H$11,Calculadora!$C$11:$H$11,0))","v":{"$error":"#N/A"}},"ton",null,{"$f":"Combustibles!C80","v":14651},"MJ/ton",null,null,null,null,1E-4,3.0000000000000004E-8,3.9999999999999994E-9,null,null,null,null,null,{"$error":"#N/A"},{"$error":"#N/A"},{"$error":"#N/A"},null,null,null,null,null,null,{"$error":"#N/A"}]
["Ea11","Energía","Subsector generación, transmisión y distribución de electricidad","Generación, transmisión y distribución de energía eléctrica","Carbón antracita",{"$f":"INDEX(Calculadora!$C$11:$H$60,MATCH('Ecuaciones y FE'!A24,Calculadora!$B$11:$B$60,0),MATCH(Calculadora!$H$11,Calculadora!$C$11:$H$11,0))","v":{"$error":"#N/A"}},"ton",null,{"$f":"Combustibles!C81","v":26700},"MJ/ton",null,null,null,null,9.8300000000000004E-5,9.9999999999999986E-10,1.5E-9,null,null,null,null,null,{"$error":"#N/A"},{"$error":"#N/A"},{"$error":"#N/A"},null,null,null,null,null,null,{"$error":"#N/A"}]
["Ea12","Energía","Subsector generación, transmisión y distribución de electricidad","Generación, transmisión y distribución de energía eléctrica","Carbón bituminoso",{"$f":"INDEX(Calculadora!$C$11:$H$60,MATCH('Ecuaciones y FE'!A25,Calculadora!$B$11:$B$60,0),MATCH(Calculadora!$H$11,Calculadora!$C$11:$H$11,0))","v":{"$error":"#N/A"}},"ton",null,{"$f":"Combustibles!C82","v":25800},"MJ/ton",null,null,null,null,9.4599999999999996E-5,9.9999999999999986E-10,1.5E-9,null,null,null,null,null,{"$error":"#N/A"},{"$error":"#N/A"},{"$error":"#N/A"},null,null,null,null,null,null,{"$error":"#N/A"}]
["Ea13","Energía","Subsector generación, transmisión y distribución de electricidad","Generación, transmisión y distribución de energía eléctrica","Carbón mineral",{"$f":"INDEX(Calculadora!$C$11:$H$60,MATCH('Ecuaciones y FE'!A26,Calculadora!$B$11:$B$60,0),MATCH(Calculadora!$H$11,Calculadora!$C$11:$H$11,0))","v":{"$error":"#N/A"}},"ton",null,{"$f":"Combustibles!C83","v":18900},"MJ/ton",null,null,null,null,9.6100000000000005E-5,9.9999999999999986E-10,1.5E-9,null,null,null,null,null,{"$error":"#N/A"},{"$error":"#N/A"},{"$error":"#N/A"},null,null,null,null,null,null,{"$error":"#N/A"}]
["Ea14","Energía","Subsector generación, transmisión y distribución de electricidad","Generación, transmisión y distribución de energía eléctrica","Carbón siderúrgico de importación",{"$f":"INDEX(Calculadora!$C$11:$H$60,MATCH('Ecuaciones y FE'!A27,Calculadora!$B$11:$B$60,0),MATCH(Calculadora!$H$11,Calculadora!$C$11:$H$11,0))","v":{"$error":"#N/A"}},"ton",null,{"$f":"Combustibles!C84","v":28954},"MJ/ton",null,null,null,null,9.4599999999999996E-5,9.9999999999999986E-10,1.5E-9,null,null,null,null,null,{"$error":"#N/A"},{"$error":"#N/A"},{"$error":"#N/A"},null,null,null,null,null,null,{"$error":"#N/A"}]
["Ea15","Energía","Subsector generación, transmisión y distribución de electricidad","Generación, transmisión y distribución de energía eléctrica","Carbón siderúrgico nacional",{"$f":"INDEX(Calculadora!$C$11:$H$60,MATCH('Ecuaciones y FE'!A28,Calculadora!$B$11:$B$60,0),MATCH(Calculadora!$H$11,Calculadora!$C$11:$H$11,0))","v":{"$error":"#N/A"}},"ton",null,{"$f":"Combustibles!C85","v":29335},"MJ/ton",null,null,null,null,9.4599999999999996E-5,9.9999999999999986E-10,1.5E-9,null,null,null,null,null,{"$error":"#N/A"},{"$error":"#N/A"},{"$error":"#N/A"},null,null,null,null,null,null,{"$error":"#N/A"}]
["Ea16","Energía","Subsector generación, transmisión y distribución de electricidad","Generación, transmisión y distribución de energía eléctrica","Carbón térmico de importación",{"$f":"INDEX(Calculadora!$C$11:$H$60,MATCH('Ecuaciones y FE'!A29,Calculadora!$B$11:$B$60,0),MATCH(Calculadora!$H$11,Calculadora!$C$11:$H$11,0))","v":{"$error":"#N/A"}},"ton",null,{"$f":"Combustibles!C86","v":22543},"MJ/ton",null,null,null,null,9.4599999999999996E-5,9.9999999999999986E-10,1.5E-9,null,null,null,null,null,{"$error":"#N/A"},{"$error":"#N/A"},{"$error":"#N/A"},null,null,null,null,null,null,{"$error":"#N/A"}]
["Ea17","Energía","Subsector generación, transmisión y distribución de electricidad","Generación, transmisión y distribución de energía eléctrica","Carbón térmico nacional",{"$f":"INDEX(Calculadora!$C$11:$H$60,MATCH('Ecuaciones y FE'!A30,Calculadora!$B$11:$B$60,0),MATCH(Calculadora!$H$11,Calculadora!$C$11:$H$11,0))","v":{"$error":"#N/A"}},"ton",null,{"$f":"Combustibles!C87","v":19432},"MJ/ton",null,null,null,null,9.4599999999999996E-5,9.9999999999999986E-10,1.5E-9,null,null,null,null,null,{"$error":"#N/A"},{"$error":"#N/A"},{"$error":"#N/A"},null,null,null,null,null,null,{"$error":"#N/A"}]
["Ea18","Energía","Subsector generación, transmisión y distribución de electricidad","Generación, transmisión y distribución de energía eléctrica","Carbón vegetal",{"$f":"INDEX(Calculadora!$C$11:$H$60,MATCH('Ecuaciones y FE'!A31,Calculadora!$B$11:$B$60,0),MATCH(Calculadora!$H$11,Calculadora!$C$11:$H$11,0))","v":{"$error":"#N/A"}},"ton",null,{"$f":"Combustibles!C88","v":29500},"MJ/ton",null,null,null,null,1.12E-4,2.0000000000000002E-7,3.9999999999999994E-9,null,null,null,null,null,{"$error":"#N/A"},{"$error":"#N/A"},{"$error":"#N/A"},null,null,null,null,null,null,{"$error":"#N/A"}]
["Ea19","Energía","Subsector generación, transmisión y distribución de electricidad","Generación, transmisión y distribución de energía eléctrica","Cartón ordinario-empaques-envases",{"$f":"INDEX(Calculadora!$C$11:$H$60,MATCH('Ecuaciones y FE'!A32,Calculadora!$B$11:$B$60,0),MATCH(Calculadora!$H$11,Calculadora!$C$11:$H$11,0))","v":{"$error":"#N/A"}},"ton",null,{"$f":"Combustibles!C89","v":14441.5},"MJ/ton",null,null,null,null,1E-4,3.0000000000000004E-8,3.9999999999999994E-9,null,null,null,null,null,{"$error":"#N/A"},{"$error":"#N/A"},{"$error":"#N/A"},null,null,null,null,null,null,{"$error":"#N/A"}]
["Ea20","Energía","Subsector generación, transmisión y distribución de electricidad","Generación, transmisión y distribución de energía eléctrica","Combustóleo ligero",{"$f":"INDEX(Calculadora!$C$11:$H$60,MATCH('Ecuaciones y FE'!A33,Calculadora!$B$11:$B$60,0),MATCH(Calculadora!$H$11,Calculadora!$C$11:$H$11,0))","v":{"$error":"#N/A"}},"l",null,{"$f":"Combustibles!C90","v":41.864979152422862},"MJ/l",null,null,null,null,7.7399999999999998E-5,3E-9,6E-10,null,null,null,null,null,{"$error":"#N/A"},{"$error":"#N/A"},{"$error":"#N/A"},null,null,null,null,null,null,{"$error":"#N/A"}]
["Ea21","Energía","Subsector generación, transmisión y distribución de electricidad","Generación, transmisión y distribución de energía eléctrica","Combustóleo pesado",{"$f":"INDEX(Calculadora!$C$11:$H$60,MATCH('Ecuaciones y FE'!A34,Calculadora!$B$11:$B$60,0),MATCH(Calculadora!$H$11,Calculadora!$C$11:$H$11,0))","v":{"$error":"#N/A"}},"l",null,{"$f":"Combustibles!C91","v":41.864979152422862},"MJ/l",null,null,null,null,7.7399999999999998E-5,3E-9,6E-10,null,null,null,null,null,{"$error":"#N/A"},{"$error":"#N/A"},{"$error":"#N/A"},null,null,null,null,null,null,{"$error":"#N/A"}]
["Ea22","Energía","Subsector generación, transmisión y distribución de electricidad","Generación, transmisión y distribución de energía eléctrica","Coque de carbón",{"$f":"INDEX(Calculadora!$C$11:$H$60,MATCH('Ecuaciones y FE'!A35,Calculadora!$B$11:$B$60,0),MATCH(Calculadora!$H$11,Calculadora!$C$11:$H$11,0))","v":{"$error":"#N/A"}},"ton",null,{"$f":"Combustibles!C92","v":26521},"MJ/ton",null,null,null,null,9.4599999999999996E-5,9.9999999999999986E-10,1.5E-9,null,null,null,null,null,{"$error":"#N/A"},{"$error":"#N/A"},{"$error":"#N/A"},null,null,null,null,null,null,{"$error":"#N/A"}]
["Ea23","Energía","Subsector generación, transmisión y distribución de electricidad","Generación, transmisión y distribución de energía eléctrica","Coque de petróleo",{"$f":"INDEX(Calculadora!$C$11:$H$60,MATCH('Ecuaciones y FE'!A36,Calculadora!$B$11:$B$60,0),MATCH(Calculadora!$H$11,Calculadora!$C$11:$H$11,0))","v":{"$error":"#N/A"}},"ton",null,{"$f":"Combustibles!C93","v":34518},"MJ/ton",null,null,null,null,9.7499999999999998E-5,3E-9,6E-10,null,null,null,null,null,{"$error":"#N/A"},{"$error":"#N/A"},{"$error":"#N/A"},null,null,null,null,null,null,{"$error":"#N/A"}]
["Ea24","Energía","Subsector generación, transmisión y distribución de electricidad","Generación, transmisión y distribución de energía eléctrica","Diáfano",{"$f":"INDEX(Calculadora!$C$11:$H$60,MATCH('Ecuaciones y FE'!A37,Calculadora!$B$11:$B$60,0),MATCH(Calculadora!$H$11,Calculadora!$C$11:$H$11,0))","v":{"$error":"#N/A"}},"l",null,{"$f":"Combustibles!C94","v":35.657094000000001},"MJ/l",null,null,null,null,7.1899999999999999E-5,3E-9,6E-10,null,null,null,null,null,{"$error":"#N/A"},{"$error":"#N/A"},{"$error":"#N/A"},null,null,null,null,null,null,{"$error":"#N/A"}]
["Ea25","Energía","Subsector generación, transmisión y distribución de electricidad","Generación, transmisión y distribución de energía eléctrica","Diésel",{"$f":"INDEX(Calculadora!$C$11:$H$60,MATCH('Ecuaciones y FE'!A38,Calculadora!$B$11:$B$60,0),MATCH(Calculadora!$H$11,Calculadora!$C$11:$H$11,0))","v":{"$error":"#N/A"}},"l",null,{"$f":"Combustibles!C95","v":38.147701105685798},"MJ/l",null,null,null,null,7.4099999999999999E-5,3E-9,6E-10,null,null,null,null,null,{"$error":"#N/A"},{"$error":"#N/A"},{"$error":"#N/A"},null,null,null,null,null,null,{"$error":"#N/A"}]
["Ea26","Energía","Subsector generación, transmisión y distribución de electricidad","Generación, transmisión y distribución de energía eléctrica","Esquisto bituminoso y alquitrán",{"$f":"INDEX(Calculadora!$C$11:$H$60,MATCH('Ecuaciones y FE'!A39,Calculadora!$B$11:$B$60,0),MATCH(Calculadora!$H$11,Calculadora!$C$11:$H$11,0))","v":{"$error":"#N/A"}},"ton",null,{"$f":"Combustibles!C96","v":5600},"MJ/ton",null,null,null,null,1.07E-4,3E-10,1.5E-9,null,null,null,null,null,{"$f":"F39*I39*O39","v":{"$error":"#N/A"}},{"$f":"F39*I39*P39","v":{"$error":"#N/A"}},{"$f":"F39*I39*Q39","v":{"$error":"#N/A"}},null,null,null,null,null,null,{"$error":"#N/A"}]
["Ea27","Energía","Subsector generación, transmisión y distribución de electricidad","Generación, transmisión y distribución de energía eléctrica","Etano",{"$f":"INDEX(Calculadora!$C$11:$H$60,MATCH('Ecuaciones y FE'!A40,Calculadora!$B$11:$B$60,0),MATCH(Calculadora!$H$11,Calculadora!$C$11:$H$11,0))","v":{"$error":"#N/A"}},"l",null,{"$f":"Combustibles!C97","v":18.039176714114902},"MJ/l",null,null,null,null,6.1600000000000007E-5,9.9999999999999986E-10,9.9999999999999991E-11,null,null,null,null,null,{"$error":"#N/A"},{"$error":"#N/A"},{"$error":"#N/A"},null,null,null,null,null,null,{"$error":"#N/A"}]
["Ea28","Energía","Subsector generación, transmisión y distribución de electricidad","Generación, transmisión y distribución de energía eléctrica","Gas de alto horno ",{"$f":"INDEX(Calculadora!$C$11:$H$60,MATCH('Ecuaciones y FE'!A41,Calculadora!$B$11:$B$60,0),MATCH(Calculadora!$H$11,Calculadora!$C$11:$H$11,0))","v":{"$error":"#N/A"}},"m3",null,{"$f":"Combustibles!C98","v":3.4540000000000002},"MJ/m3",null,null,null,null,2.5999999999999998E-4,9.9999999999999986E-10,9.9999999999999991E-11,null,null,null,null,null,{"$error":"#N/A"},{"$error":"#N/A"},{"$error":"#N/A"},null,null,null,null,null,null,{"$error":"#N/A"}]
["Ea29","Energía","Subsector generación, transmisión y distribución de electricidad","Generación, transmisión y distribución de energía eléctrica","Gas de coque ",{"$f":"INDEX(Calculadora!$C$11:$H$60,MATCH('Ecuaciones y FE'!A42,Calculadora!$B$11:$B$60,0),MATCH(Calculadora!$H$11,Calculadora!$C$11:$H$11,0))","v":{"$error":"#N/A"}},"m3",null,{"$f":"Combustibles!C99","v":18.422999999999998},"MJ/m3",null,null,null,null,4.4400000000000002E-5,9.9999999999999986E-10,9.9999999999999991E-11,null,null,null,null,null,{"$error":"#N/A"},{"$error":"#N/A"},{"$error":"#N/A"},null,null,null,null,null,null,{"$error":"#N/A"}]
["Ea30","Energía","Subsector generación, transmisión y distribución de electricidad","Generación, transmisión y distribución de energía eléctrica","Gas licuado",{"$f":"INDEX(Calculadora!$C$11:$H$60,MATCH('Ecuaciones y FE'!A43,Calculadora!$B$11:$B$60,0),MATCH(Calculadora!$H$11,Calculadora!$C$11:$H$11,0))","v":{"$error":"#N/A"}},"l",null,{"$f":"Combustibles!C100","v":26.121583296275865},"MJ/l",null,null,null,null,6.3100000000000002E-5,9.9999999999999986E-10,9.9999999999999991E-11,null,null,null,null,null,{"$error":"#N/A"},{"$error":"#N/A"},{"$error":"#N/A"},null,null,null,null,null,null,{"$error":"#N/A"}]
["Ea31","Energía","Subsector generación, transmisión y distribución de electricidad","Generación, transmisión y distribución de energía eléctrica","Gas natural (promedio asociado y no asociado)",{"$f":"INDEX(Calculadora!$C$11:$H$60,MATCH('Ecuaciones y FE'!A44,Calculadora!$B$11:$B$60,0),MATCH(Calculadora!$H$11,Calculadora!$C$11:$H$11,0))","v":{"$error":"#N/A"}},"m3",null,{"$f":"Combustibles!C101","v":39.082999999999998},"MJ/m3",null,null,null,null,5.6100000000000002E-5,9.9999999999999986E-10,9.9999999999999991E-11,null,null,null,null,null,{"$error":"#N/A"},{"$error":"#N/A"},{"$error":"#N/A"},null,null,null,null,null,null,{"$error":"#N/A"}]
["Ea32","Energía","Subsector generación, transmisión y distribución de electricidad","Generación, transmisión y distribución de energía eléctrica","Gas natural asociado",{"$f":"INDEX(Calculadora!$C$11:$H$60,MATCH('Ecuaciones y FE'!A45,Calculadora!$B$11:$B$60,0),MATCH(Calculadora!$H$11,Calculadora!$C$11:$H$11,0))","v":{"$error":"#N/A"}},"m3",null,{"$f":"Combustibles!C102","v":40.356999999999999},"MJ/m3",null,null,null,null,5.6100000000000002E-5,9.9999999999999986E-10,9.9999999999999991E-11,null,null,null,null,null,{"$error":"#N/A"},{"$error":"#N/A"},{"$error":"#N/A"},null,null,null,null,null,null,{"$error":"#N/A"}]
["Ea33","Energía","Subsector generación, transmisión y distribución de electricidad","Generación, transmisión y distribución de energía eléctrica","Gas natural no asociado ",{"$f":"INDEX(Calculadora!$C$11:$H$60,MATCH('Ecuaciones y FE'!A46,Calculadora!$B$11:$B$60,0),MATCH(Calculadora!$H$11,Calculadora!$C$11:$H$11,0))","v":{"$error":"#N/A"}},"m3",null,{"$f":"Combustibles!C103","v":37.808},"MJ/m3",null,null,null,null,5.6100000000000002E-5,9.9999999999999986E-10,9.9999999999999991E-11,null,null,null,null,null,{"$error":"#N/A"},{"$error":"#N/A"},{"$error":"#N/A"},null,null,null,null,null,null,{"$error":"#N/A"}]
["Ea34","Energía","Subsector generación, transmisión y distribución de electricidad","Generación, transmisión y distribución de energía eléctrica","Gas seco ",{"$f":"INDEX(Calculadora!$C$11:$H$60,MATCH('Ecuaciones y FE'!A47,Calculadora!$B$11:$B$60,0),MATCH(Calculadora!$H$11,Calculadora!$C$11:$H$11,0))","v":{"$error":"#N/A"}},"m3",null,{"$f":"Combustibles!C104","v":33.542999999999999},"MJ/m3",null,null,null,null,5.6100000000000002E-5,9.9999999999999986E-10,9.9999999999999991E-11,null,null,null,null,null,{"$error":"#N/A"},{"$error":"#N/A"},{"$error":"#N/A"},null,null,null,null,null,null,{"$error":"#N/A"}]
["Ea35","Energía","Subsector generación, transmisión y distribución de electricidad","Generación, transmisión y distribución de energía eléctrica","Gas seco de exportación",{"$f":"INDEX(Calculadora!$C$11:$H$60,MATCH('Ecuaciones y FE'!A48,Calculadora!$B$11:$B$60,0),MATCH(Calculadora!$H$11,Calculadora!$C$11:$H$11,0))","v":{"$error":"#N/A"}},"m3",null,{"$f":"Combustibles!C105","v":33.804000000000002},"MJ/m3",null,null,null,null,5.6100000000000002E-5,9.9999999999999986E-10,9.9999999999999991E-11,null,null,null,null,null,{"$error":"#N/A"},{"$error":"#N/A"},{"$error":"#N/A"},null,null,null,null,null,null,{"$error":"#N/A"}]
["Ea36","Energía","Subsector generación, transmisión y distribución de electricidad","Generación, transmisión y distribución de energía eléctrica","Gas seco de importación",{"$f":"INDEX(Calculadora!$C$11:$H$60,MATCH('Ecuaciones y FE'!A49,Calculadora!$B$11:$B$60,0),MATCH(Calculadora!$H$11,Calculadora!$C$11:$H$11,0))","v":{"$error":"#N/A"}},"m3",null,{"$f":"Combustibles!C106","v":38.24},"MJ/m3",null,null,null,null,5.6100000000000002E-5,9.9999999999999986E-10,9.9999999999999991E-11,null,null,null,null,null,{"$error":"#N/A"},{"$error":"#N/A"},{"$error":"#N/A"},null,null,null,null,null,null,{"$error":"#N/A"}]
["Ea37","Energía","Subsector generación, transmisión y distribución de electricidad","Generación, transmisión y distribución de energía eléctrica","Gasóleo",{"$f":"INDEX(Calculadora!$C$11:$H$60,MATCH('Ecuaciones y FE'!A50,Calculadora!$B$11:$B$60,0),MATCH(Calculadora!$H$11,Calculadora!$C$11:$H$11,0))","v":{"$error":"#N/A"}},"m3",null,{"$f":"Combustibles!C107","v":42.523000000000003},"MJ/m3",null,null,null,null,7.4099999999999999E-5,3E-9,6E-10,null,null,null,null,null,{"$error":"#N/A"},{"$error":"#N/A"},{"$error":"#N/A"},null,null,null,null,null,null,{"$error":"#N/A"}]
["Ea38","Energía","Subsector generación, transmisión y distribución de electricidad","Generación, transmisión y distribución de energía eléctrica","Gasolinas naturales",{"$f":"INDEX(Calculadora!$C$11:$H$60,MATCH('Ecuaciones y FE'!A51,Calculadora!$B$11:$B$60,0),MATCH(Calculadora!$H$11,Calculadora!$C$11:$H$11,0))","v":{"$error":"#N/A"}},"l",null,{"$f":"Combustibles!C108","v":30.071584334094609},"MJ/l",null,null,null,null,6.9300000000000004E-5,3E-9,6E-10,null,null,null,null,null,{"$error":"#N/A"},{"$error":"#N/A"},{"$error":"#N/A"},null,null,null,null,null,null,{"$error":"#N/A"}]
["Ea39","Energía","Subsector generación, transmisión y distribución de electricidad","Generación, transmisión y distribución de energía eléctrica","Gasolinas y naftas",{"$f":"INDEX(Calculadora!$C$11:$H$60,MATCH('Ecuaciones y FE'!A52,Calculadora!$B$11:$B$60,0),MATCH(Calculadora!$H$11,Calculadora!$C$11:$H$11,0))","v":{"$error":"#N/A"}},"l",null,{"$f":"Combustibles!C109","v":35.304706728147465},"MJ/l",null,null,null,null,6.9300000000000004E-5,3E-9,6E-10,null,null,null,null,null,{"$error":"#N/A"},{"$error":"#N/A"},{"$error":"#N/A"},null,null,null,null,null,null,{"$error":"#N/A"}]
["Ea40","Energía","Subsector generación, transmisión y distribución de electricidad","Generación, transmisión y distribución de energía eléctrica","Hidrógeno",{"$f":"INDEX(Calculadora!$C$11:$H$60,MATCH('Ecuaciones y FE'!A53,Calculadora!$B$11:$B$60,0),MATCH(Calculadora!$H$11,Calculadora!$C$11:$H$11,0))","v":{"$error":"#N/A"}},"ton",null,{"$f":"Combustibles!C110","v":119956},"MJ/ton",null,null,null,null,0,0,0,null,null,null,null,null,{"$f":"F53*I53*O53","v":{"$error":"#N/A"}},{"$f":"F53*I53*P53","v":{"$error":"#N/A"}},{"$f":"F53*I53*Q53","v":{"$error":"#N/A"}},null,null,null,null,null,null,{"$error":"#N/A"}]
["Ea41","Energía","Subsector generación, transmisión y distribución de electricidad","Generación, transmisión y distribución de energía eléctrica","Lana y seda",{"$f":"INDEX(Calculadora!$C$11:$H$60,MATCH('Ecuaciones y FE'!A54,Calculadora!$B$11:$B$60,0),MATCH(Calculadora!$H$11,Calculadora!$C$11:$H$11,0))","v":{"$error":"#N/A"}},"ton",null,{"$f":"Combustibles!C111","v":19883.5},"MJ/ton",null,null,null,null,1E-4,3.0000000000000004E-8,3.9999999999999994E-9,null,null,null,null,null,{"$error":"#N/A"},{"$error":"#N/A"},{"$error":"#N/A"},null,null,null,null,null,null,{"$error":"#N/A"}]
["Ea42","Energía","Subsector generación, transmisión y distribución de electricidad","Generación, transmisión y distribución de energía eléctrica","Leña",{"$f":"INDEX(Calculadora!$C$11:$H$60,MATCH('Ecuaciones y FE'!A55,Calculadora!$B$11:$B$60,0),MATCH(Calculadora!$H$11,Calculadora!$C$11:$H$11,0))","v":{"$error":"#N/A"}},"ton",null,{"$f":"Combustibles!C112","v":14486},"MJ/ton",null,null,null,null,1.12E-4,3.0000000000000004E-8,3.9999999999999994E-9,null,null,null,null,null,{"$error":"#N/A"},{"$error":"#N/A"},{"$error":"#N/A"},null,null,null,null,null,null,{"$error":"#N/A"}]
["Ea43","Energía","Subsector generación, transmisión y distribución de electricidad","Generación, transmisión y distribución de energía eléctrica","Licor negro  ",{"$f":"INDEX(Calculadora!$C$11:$H$60,MATCH('Ecuaciones y FE'!A56,Calculadora!$B$11:$B$60,0),MATCH(Calculadora!$H$11,Calculadora!$C$11:$H$11,0))","v":{"$error":"#N/A"}},"ton",null,{"$f":"Combustibles!C113","v":15070},"MJ/ton",null,null,null,null,9.5299999999999999E-5,3E-9,1.9999999999999997E-9,null,null,null,null,null,{"$error":"#N/A"},{"$error":"#N/A"},{"$error":"#N/A"},null,null,null,null,null,null,{"$error":"#N/A"}]
["Ea44","Energía","Subsector generación, transmisión y distribución de electricidad","Generación, transmisión y distribución de energía eléctrica","Lubricantes",{"$f":"INDEX(Calculadora!$C$11:$H$60,MATCH('Ecuaciones y FE'!A57,Calculadora!$B$11:$B$60,0),MATCH(Calculadora!$H$11,Calculadora!$C$11:$H$11,0))","v":{"$error":"#N/A"}},"l",null,{"$f":"Combustibles!C114","v":37.971586409732097},"MJ/l",null,null,null,null,7.3300000000000006E-5,3E-9,6E-10,null,null,null,null,null,{"$error":"#N/A"},{"$error":"#N/A"},{"$error":"#N/A"},null,null,null,null,null,null,{"$error":"#N/A"}]
["Ea45","Energía","Subsector generación, transmisión y distribución de electricidad","Generación, transmisión y distribución de energía eléctrica","Madera  (20% de humedad)",{"$f":"INDEX(Calculadora!$C$11:$H$60,MATCH('Ecuaciones y FE'!A58,Calculadora!$B$11:$B$60,0),MATCH(Calculadora!$H$11,Calculadora!$C$11:$H$11,0))","v":{"$error":"#N/A"}},"ton",null,{"$f":"Combustibles!C115","v":14000},"MJ/ton",null,null,null,null,1.12E-4,3.0000000000000004E-8,3.9999999999999994E-9,null,null,null,null,null,{"$error":"#N/A"},{"$error":"#N/A"},{"$error":"#N/A"},null,null,null,null,null,null,{"$error":"#N/A"}]
["Ea46","Energía","Subsector generación, transmisión y distribución de electricidad","Generación, transmisión y distribución de energía eléctrica","Madera en astillas/pellets",{"$f":"INDEX(Calculadora!$C$11:$H$60,MATCH('Ecuaciones y FE'!A59,Calculadora!$B$11:$B$60,0),MATCH(Calculadora!$H$11,Calculadora!$C$11:$H$11,0))","v":{"$error":"#N/A"}},"ton",null,{"$f":"Combustibles!C116","v":17584},"MJ/ton",null,null,null,null,1.12E-4,3.0000000000000004E-8,3.9999999999999994E-9,null,null,null,null,null,{"$error":"#N/A"},{"$error":"#N/A"},{"$error":"#N/A"},null,null,null,null,null,null,{"$error":"#N/A"}]
["Ea47","Energía","Subsector generación, transmisión y distribución de electricidad","Generación, transmisión y distribución de energía eléctrica","Mezcla de parafinas",{"$f":"INDEX(Calculadora!$C$11:$H$60,MATCH('Ecuaciones y FE'!A60,Calculadora!$B$11:$B$60,0),MATCH(Calculadora!$H$11,Calculadora!$C$11:$H$11,0))","v":{"$error":"#N/A"}},"ton",null,{"$f":"Combustibles!C117","v":43513},"MJ/ton",null,null,null,null,7.3300000000000006E-5,3E-9,6E-10,null,null,null,null,null,{"$error":"#N/A"},{"$error":"#N/A"},{"$error":"#N/A"},null,null,null,null,null,null,{"$error":"#N/A"}]
["Ea48","Energía","Subsector generación, transmisión y distribución de electricidad","Generación, transmisión y distribución de energía eléctrica","Paja de arroz",{"$f":"INDEX(Calculadora!$C$11:$H$60,MATCH('Ecuaciones y FE'!A61,Calculadora!$B$11:$B$60,0),MATCH(Calculadora!$H$11,Calculadora!$C$11:$H$11,0))","v":{"$error":"#N/A"}},"ton",null,{"$f":"Combustibles!C118","v":14441.5},"MJ/ton",null,null,null,null,1E-4,3.0000000000000004E-8,3.9999999999999994E-9,null,null,null,null,null,{"$error":"#N/A"},{"$error":"#N/A"},{"$error":"#N/A"},null,null,null,null,null,null,{"$error":"#N/A"}]
["Ea49","Energía","Subsector generación, transmisión y distribución de electricidad","Generación, transmisión y distribución de energía eléctrica","Paneles-fibras-partículas y pedacería de madera",{"$f":"INDEX(Calculadora!$C$11:$H$60,MATCH('Ecuaciones y FE'!A62,Calculadora!$B$11:$B$60,0),MATCH(Calculadora!$H$11,Calculadora!$C$11:$H$11,0))","v":{"$error":"#N/A"}},"ton",null,{"$f":"Combustibles!C119","v":19046.5},"MJ/ton",null,null,null,null,1E-4,3.0000000000000004E-8,3.9999999999999994E-9,null,null,null,null,null,{"$error":"#N/A"},{"$error":"#N/A"},{"$error":"#N/A"},null,null,null,null,null,null,{"$error":"#N/A"}]
["Ea50","Energía","Subsector generación, transmisión y distribución de electricidad","Generación, transmisión y distribución de energía eléctrica","Papel ordinario o kraft",{"$f":"INDEX(Calculadora!$C$11:$H$60,MATCH('Ecuaciones y FE'!A63,Calculadora!$B$11:$B$60,0),MATCH(Calculadora!$H$11,Calculadora!$C$11:$H$11,0))","v":{"$error":"#N/A"}},"ton",null,{"$f":"Combustibles!C120","v":16744},"MJ/ton",null,null,null,null,1E-4,3.0000000000000004E-8,3.9999999999999994E-9,null,null,null,null,null,{"$error":"#N/A"},{"$error":"#N/A"},{"$error":"#N/A"},null,null,null,null,null,null,{"$error":"#N/A"}]
["Ea51","Energía","Subsector generación, transmisión y distribución de electricidad","Generación, transmisión y distribución de energía eléctrica","Petróleo crudo (promedio de la producción)",{"$f":"INDEX(Calculadora!$C$11:$H$60,MATCH('Ecuaciones y FE'!A64,Calculadora!$B$11:$B$60,0),MATCH(Calculadora!$H$11,Calculadora!$C$11:$H$11,0))","v":{"$error":"#N/A"}},"l",null,{"$f":"Combustibles!C121","v":39.921427686362371},"MJ/l",null,null,null,null,7.3300000000000006E-5,3E-9,6E-10,null,null,null,null,null,{"$error":"#N/A"},{"$error":"#N/A"},{"$error":"#N/A"},null,null,null,null,null,null,{"$error":"#N/A"}]
["Ea52","Energía","Subsector generación, transmisión y distribución de electricidad","Generación, transmisión y distribución de energía eléctrica","Petróleo crudo ligero",{"$f":"INDEX(Calculadora!$C$11:$H$60,MATCH('Ecuaciones y FE'!A65,Calculadora!$B$11:$B$60,0),MATCH(Calculadora!$H$11,Calculadora!$C$11:$H$11,0))","v":{"$error":"#N/A"}},"l",null,{"$f":"Combustibles!C122","v":36.644436379509557},"MJ/l",null,null,null,null,7.3300000000000006E-5,3E-9,6E-10,null,null,null,null,null,{"$error":"#N/A"},{"$error":"#N/A"},{"$error":"#N/A"},null,null,null,null,null,null,{"$error":"#N/A"}]
["Ea53","Energía","Subsector generación, transmisión y distribución de electricidad","Generación, transmisión y distribución de energía eléctrica","Petróleo crudo pesado",{"$f":"INDEX(Calculadora!$C$11:$H$60,MATCH('Ecuaciones y FE'!A66,Calculadora!$B$11:$B$60,0),MATCH(Calculadora!$H$11,Calculadora!$C$11:$H$11,0))","v":{"$error":"#N/A"}},"l",null,{"$f":"Combustibles!C123","v":37.990455841441424},"MJ/l",null,null,null,null,7.3300000000000006E-5,3E-9,6E-10,null,null,null,null,null,{"$error":"#N/A"},{"$error":"#N/A"},{"$error":"#N/A"},null,null,null,null,null,null,{"$error":"#N/A"}]
["Ea54","Energía","Subsector generación, transmisión y distribución de electricidad","Generación, transmisión y distribución de energía eléctrica","Petróleo crudo superligero",{"$f":"INDEX(Calculadora!$C$11:$H$60,MATCH('Ecuaciones y FE'!A67,Calculadora!$B$11:$B$60,0),MATCH(Calculadora!$H$11,Calculadora!$C$11:$H$11,0))","v":{"$error":"#N/A"}},"l",null,{"$f":"Combustibles!C124","v":36.021745133101824},"MJ/l",null,null,null,null,7.3300000000000006E-5,3E-9,6E-10,null,null,null,null,null,{"$error":"#N/A"},{"$error":"#N/A"},{"$error":"#N/A"},null,null,null,null,null,null,{"$error":"#N/A"}]
["Ea55","Energía","Subsector generación, transmisión y distribución de electricidad","Generación, transmisión y distribución de energía eléctrica","Querosenos",{"$f":"INDEX(Calculadora!$C$11:$H$60,MATCH('Ecuaciones y FE'!A68,Calculadora!$B$11:$B$60,0),MATCH(Calculadora!$H$11,Calculadora!$C$11:$H$11,0))","v":{"$error":"#N/A"}},"l",null,{"$f":"Combustibles!C125","v":37.03440463483561},"MJ/l",null,null,null,null,7.1899999999999999E-5,3E-9,6E-10,null,null,null,null,null,{"$error":"#N/A"},{"$error":"#N/A"},{"$error":"#N/A"},null,null,null,null,null,null,{"$error":"#N/A"}]
["Ea56","Energía","Subsector generación, transmisión y distribución de electricidad","Generación, transmisión y distribución de energía eléctrica","Turba (35 % de humedad)",{"$f":"INDEX(Calculadora!$C$11:$H$60,MATCH('Ecuaciones y FE'!A69,Calculadora!$B$11:$B$60,0),MATCH(Calculadora!$H$11,Calculadora!$C$11:$H$11,0))","v":{"$error":"#N/A"}},"ton",null,{"$f":"Combustibles!C126","v":13000},"MJ/ton",null,null,null,null,1.06E-4,9.9999999999999986E-10,1.5E-9,null,null,null,null,null,{"$f":"F69*I69*O69","v":{"$error":"#N/A"}},{"$f":"F69*I69*P69","v":{"$error":"#N/A"}},{"$f":"F69*I69*Q69","v":{"$error":"#N/A"}},null,null,null,null,null,null,{"$error":"#N/A"}]
["Ea57","Energía","Subsector generación, transmisión y distribución de electricidad","Generación, transmisión y distribución de energía eléctrica","Turbosina",{"$f":"INDEX(Calculadora!$C$11:$H$60,MATCH('Ecuaciones y FE'!A70,Calculadora!$B$11:$B$60,0),MATCH(Calculadora!$H$11,Calculadora!$C$11:$H$11,0))","v":{"$error":"#N/A"}},"l",null,{"$f":"Combustibles!C127","v":37.03440463483561},"MJ/l",null,null,null,null,1.06E-4,9.9999999999999986E-10,1.5E-9,null,null,null,null,null,{"$error":"#N/A"},{"$error":"#N/A"},{"$error":"#N/A"},null,null,null,null,null,null,{"$error":"#N/A"}]
[]
["Ec","ENERGÍA TÉRMICA","Subsector generación, transmisión y distribución de electricidad","Generación, transmisión y distribución de energía eléctrica","Combustible ","Volumen consumido","Unidades consumo",null,"PC","Unidades PC",null,null,null,null,"FE_CO2 (ton/MJ)","FE_CH4 \n(ton/MJ)","FE_N20 \n(ton/MJ)",null,null,null,null,null,"Emisiones CO2","Emisiones CH4","Emisiones N2O",null,null,null,null,null,null,"Emisiones CO2e"]
["Ec01","Energía","Energía térmica","Procesos térmicos","Algodón_PT",{"$f":"INDEX(Calculadora!$C$11:$H$60,MATCH('Ecuaciones y FE'!A73,Calculadora!$B$11:$B$60,0),MATCH(Calculadora!$H$11,Calculadora!$C$11:$H$11,0))","v":{"$error":"#N/A"}},"ton",null,{"$f":"Combustibles!C71","v":16744},"MJ/ton",null,null,null,null,1E-4,3.0000000000000004E-8,3.9999999999999994E-9,null,null,null,null,null,{"$f":"F73*I73*O73","v":{"$error":"#N/A"}},{"$f":"F73*I73*P73","v":{"$error":"#N/A"}},{"$f":"F73*I73*Q73","v":{"$error":"#N/A"}},null,null,null,null,null,null,{"$f":"W73+(X73*$AI$3)+(Y73*$AI$4)","v":{"$error":"#N/A"}}]
["Ec02","Energía","Energía térmica","Procesos térmicos","Alquitrán_PT",{"$f":"INDEX(Calculadora!$C$11:$H$60,MATCH('Ecuaciones y FE'!A74,Calculadora!$B$11:$B$60,0),MATCH(Calculadora!$H$11,Calculadora!$C$11:$H$11,0))","v":{"$error":"#N/A"}},"ton",null,{"$f":"Combustibles!C72","v":28000},"MJ/ton",null,null,null,null,8.0699999999999996E-5,9.9999999999999986E-10,1.5E-9,null,null,null,null,null,{"$error":"#N/A"},{"$error":"#N/A"},{"$error":"#N/A"},null,null,null,null,null,null,{"$f":"W74+(X74*$AI$3)+(Y74*$AI$4)","v":{"$error":"#N/A"}}]
["Ec03","Energía","Energía térmica","Procesos térmicos","Bagazo de caña_PT",{"$f":"INDEX(Calculadora!$C$11:$H$60,MATCH('Ecuaciones y FE'!A75,Calculadora!$B$11:$B$60,0),MATCH(Calculadora!$H$11,Calculadora!$C$11:$H$11,0))","v":{"$error":"#N/A"}},"ton",null,{"$f":"Combustibles!C73","v":7055},"MJ/ton",null,null,null,null,1E-4,3.0000000000000004E-8,3.9999999999999994E-9,null,null,null,null,null,{"$error":"#N/A"},{"$error":"#N/A"},{"$error":"#N/A"},null,null,null,null,null,null,{"$error":"#N/A"}]
["Ec04","Energía","Energía térmica","Procesos térmicos","Bagazo de Malta_PT",{"$f":"INDEX(Calculadora!$C$11:$H$60,MATCH('Ecuaciones y FE'!A76,Calculadora!$B$11:$B$60,0),MATCH(Calculadora!$H$11,Calculadora!$C$11:$H$11,0))","v":{"$error":"#N/A"}},"ton",null,{"$f":"Combustibles!C74","v":7056},"MJ/ton",null,null,null,null,1E-4,3.0000000000000004E-8,3.9999999999999994E-9,null,null,null,null,null,{"$error":"#N/A"},{"$error":"#N/A"},{"$error":"#N/A"},null,null,null,null,null,null,{"$error":"#N/A"}]
["Ec05","Energía","Energía térmica","Procesos térmicos","Basura (residuos sólidos urbanos)_PT",{"$f":"INDEX(Calculadora!$C$11:$H$60,MATCH('Ecuaciones y FE'!A77,Calculadora!$B$11:$B$60,0),MATCH(Calculadora!$H$11,Calculadora!$C$11:$H$11,0))","v":{"$error":"#N/A"}},"ton",null,{"$f":"Combustibles!C75","v":11600},"MJ/ton",null,null,null,null,9.1700000000000006E-5,3.0000000000000004E-8,3.9999999999999994E-9,null,null,null,null,null,{"$error":"#N/A"},{"$error":"#N/A"},{"$error":"#N/A"},null,null,null,null,null,null,{"$error":"#N/A"}]
["Ec06","Energía","Energía térmica","Procesos térmicos","Biocombustible líquido_PT",{"$f":"INDEX(Calculadora!$C$11:$H$60,MATCH('Ecuaciones y FE'!A78,Calculadora!$B$11:$B$60,0),MATCH(Calculadora!$H$11,Calculadora!$C$11:$H$11,0))","v":{"$error":"#N/A"}},"ton",null,{"$f":"Combustibles!C76","v":27000},"MJ/ton",null,null,null,null,7.9599999999999997E-5,3E-9,6E-10,null,null,null,null,null,{"$error":"#N/A"},{"$error":"#N/A"},{"$error":"#N/A"},null,null,null,null,null,null,{"$error":"#N/A"}]
["Ec07","Energía","Energía térmica","Procesos térmicos","Biodiesel_PT",{"$f":"INDEX(Calculadora!$C$11:$H$60,MATCH('Ecuaciones y FE'!A79,Calculadora!$B$11:$B$60,0),MATCH(Calculadora!$H$11,Calculadora!$C$11:$H$11,0))","v":0},"l",null,{"$f":"Combustibles!C77","v":18.837},"MJ/l",null,null,null,null,7.08E-5,3E-9,6E-10,null,null,null,null,null,0,0,0,null,null,null,null,null,null,0]
["Ec08","Energía","Energía térmica","Procesos térmicos","Biogás (metano)_PT",{"$f":"INDEX(Calculadora!$C$11:$H$60,MATCH('Ecuaciones y FE'!A80,Calculadora!$B$11:$B$60,0),MATCH(Calculadora!$H$11,Calculadora!$C$11:$H$11,0))","v":{"$error":"#N/A"}},"m3",null,{"$f":"Combustibles!C78","v":20},"MJ/m3",null,null,null,null,5.4599999999999999E-5,1.0000000000000001E-9,1E-10,null,null,null,null,null,{"$error":"#N/A"},{"$error":"#N/A"},{"$error":"#N/A"},null,null,null,null,null,null,{"$error":"#N/A"}]
["Ec09","Energía","Energía térmica","Procesos térmicos","Biogasolina_PT",{"$f":"INDEX(Calculadora!$C$11:$H$60,MATCH('Ecuaciones y FE'!A81,Calculadora!$B$11:$B$60,0),MATCH(Calculadora!$H$11,Calculadora!$C$11:$H$11,0))","v":{"$error":"#N/A"}},"l",null,{"$f":"Combustibles!C79","v":27.537671247955025},"MJ/l",null,null,null,null,7.08E-5,3E-9,6E-10,null,null,null,null,null,{"$error":"#N/A"},{"$error":"#N/A"},{"$error":"#N/A"},null,null,null,null,null,null,{"$error":"#N/A"}]
["Ec10","Energía","Energía térmica","Procesos térmicos","Caña de maíz_PT",{"$f":"INDEX(Calculadora!$C$11:$H$60,MATCH('Ecuaciones y FE'!A82,Calculadora!$B$11:$B$60,0),MATCH(Calculadora!$H$11,Calculadora!$C$11:$H$11,0))","v":{"$error":"#N/A"}},"ton",null,{"$f":"Combustibles!C80","v":14651},"MJ/ton",null,null,null,null,1E-4,3.0000000000000004E-8,3.9999999999999994E-9,null,null,null,null,null,{"$error":"#N/A"},{"$error":"#N/A"},{"$error":"#N/A"},null,null,null,null,null,null,{"$error":"#N/A"}]
["Ec11","Energía","Energía térmica","Procesos térmicos","Carbón antracita_PT",{"$f":"INDEX(Calculadora!$C$11:$H$60,MATCH('Ecuaciones y FE'!A83,Calculadora!$B$11:$B$60,0),MATCH(Calculadora!$H$11,Calculadora!$C$11:$H$11,0))","v":{"$error":"#N/A"}},"ton",null,{"$f":"Combustibles!C81","v":26700},"MJ/ton",null,null,null,null,9.8300000000000004E-5,9.9999999999999986E-10,1.5E-9,null,null,null,null,null,{"$error":"#N/A"},{"$error":"#N/A"},{"$error":"#N/A"},null,null,null,null,null,null,{"$error":"#N/A"}]
["Ec12","Energía","Energía térmica","Procesos térmicos","Carbón bituminoso_PT",{"$f":"INDEX(Calculadora!$C$11:$H$60,MATCH('Ecuaciones y FE'!A84,Calculadora!$B$11:$B$60,0),MATCH(Calculadora!$H$11,Calculadora!$C$11:$H$11,0))","v":{"$error":"#N/A"}},"ton",null,{"$f":"Combustibles!C82","v":25800},"MJ/ton",null,null,null,null,9.4599999999999996E-5,9.9999999999999986E-10,1.5E-9,null,null,null,null,null,{"$error":"#N/A"},{"$error":"#N/A"},{"$error":"#N/A"},null,null,null,null,null,null,{"$error":"#N/A"}]
["Ec13","Energía","Energía térmica","Procesos térmicos","Carbón mineral_PT",{"$f":"INDEX(Calculadora!$C$11:$H$60,MATCH('Ecuaciones y FE'!A85,Calculadora!$B$11:$B$60,0),MATCH(Calculadora!$H$11,Calculadora!$C$11:$H$11,0))","v":{"$error":"#N/A"}},"ton",null,{"$f":"Combustibles!C83","v":18900},"MJ/ton",null,null,null,null,9.6100000000000005E-5,9.9999999999999986E-10,1.5E-9,null,null,null,null,null,{"$error":"#N/A"},{"$error":"#N/A"},{"$error":"#N/A"},null,null,null,null,null,null,{"$error":"#N/A"}]
["Ec14","Energía","Energía térmica","Procesos térmicos","Carbón siderúrgico de importación_PT",{"$f":"INDEX(Calculadora!$C$11:$H$60,MATCH('Ecuaciones y FE'!A86,Calculadora!$B$11:$B$60,0),MATCH(Calculadora!$H$11,Calculadora!$C$11:$H$11,0))","v":{"$error":"#N/A"}},"ton",null,{"$f":"Combustibles!C84","v":28954},"MJ/ton",null,null,null,null,9.4599999999999996E-5,9.9999999999999986E-10,1.5E-9,null,null,null,null,null,{"$error":"#N/A"},{"$error":"#N/A"},{"$error":"#N/A"},null,null,null,null,null,null,{"$error":"#N/A"}]
["Ec15","Energía","Energía térmica","Procesos térmicos","Carbón siderúrgico nacional_PT",{"$f":"INDEX(Calculadora!$C$11:$H$60,MATCH('Ecuaciones y FE'!A87,Calculadora!$B$11:$B$60,0),MATCH(Calculadora!$H$11,Calculadora!$C$11:$H$11,0))","v":{"$error":"#N/A"}},"ton",null,{"$f":"Combustibles!C85","v":29335},"MJ/ton",null,null,null,null,9.4599999999999996E-5,9.9999999999999986E-10,1.5E-9,null,null,null,null,null,{"$error":"#N/A"},{"$error":"#N/A"},{"$error":"#N/A"},null,null,null,null,null,null,{"$error":"#N/A"}]
["Ec16","Energía","Energía térmica","Procesos térmicos","Carbón térmico de importación_PT",{"$f":"INDEX(Calculadora!$C$11:$H$60,MATCH('Ecuaciones y FE'!A88,Calculadora!$B$11:$B$60,0),MATCH(Calculadora!$H$11,Calculadora!$C$11:$H$11,0))","v":{"$error":"#N/A"}},"ton",null,{"$f":"Combustibles!C86","v":22543},"MJ/ton",null,null,null,null,9.4599999999999996E-5,9.9999999999999986E-10,1.5E-9,null,null,null,null,null,{"$error":"#N/A"},{"$error":"#N/A"},{"$error":"#N/A"},null,null,null,null,null,null,{"$error":"#N/A"}]
["Ec17","Energía","Energía térmica","Procesos térmicos","Carbón térmico nacional_PT",{"$f":"INDEX(Calculadora!$C$11:$H$60,MATCH('Ecuaciones y FE'!A89,Calculadora!$B$11:$B$60,0),MATCH(Calculadora!$H$11,Calculadora!$C$11:$H$11,0))","v":{"$error":"#N/A"}},"ton",null,{"$f":"Combustibles!C87","v":19432},"MJ/ton",null,null,null,null,9.4599999999999996E-5,9.9999999999999986E-10,1.5E-9,null,null,null,null,null,{"$error":"#N/A"},{"$error":"#N/A"},{"$error":"#N/A"},null,null,null,null,null,null,{"$error":"#N/A"}]
["Ec18","Energía","Energía térmica","Procesos térmicos","Carbón vegetal_PT",{"$f":"INDEX(Calculadora!$C$11:$H$60,MATCH('Ecuaciones y FE'!A90,Calculadora!$B$11:$B$60,0),MATCH(Calculadora!$H$11,Calculadora!$C$11:$H$11,0))","v":{"$error":"#N/A"}},"ton",null,{"$f":"Combustibles!C88","v":29500},"MJ/ton",null,null,null,null,1.12E-4,2.0000000000000002E-7,3.9999999999999994E-9,null,null,null,null,null,{"$error":"#N/A"},{"$error":"#N/A"},{"$error":"#N/A"},null,null,null,null,null,null,{"$error":"#N/A"}]
["Ec19","Energía","Energía térmica","Procesos térmicos","Cartón ordinario-empaques-envases_PT",{"$f":"INDEX(Calculadora!$C$11:$H$60,MATCH('Ecuaciones y FE'!A91,Calculadora!$B$11:$B$60,0),MATCH(Calculadora!$H$11,Calculadora!$C$11:$H$11,0))","v":{"$error":"#N/A"}},"ton",null,{"$f":"Combustibles!C89","v":14441.5},"MJ/ton",null,null,null,null,1E-4,3.0000000000000004E-8,3.9999999999999994E-9,null,null,null,null,null,{"$error":"#N/A"},{"$error":"#N/A"},{"$error":"#N/A"},null,null,null,null,null,null,{"$error":"#N/A"}]
["Ec20","Energía","Energía térmica","Procesos térmicos","Combustóleo ligero_PT",{"$f":"INDEX(Calculadora!$C$11:$H$60,MATCH('Ecuaciones y FE'!A92,Calculadora!$B$11:$B$60,0),MATCH(Calculadora!$H$11,Calculadora!$C$11:$H$11,0))","v":{"$error":"#N/A"}},"l",null,{"$f":"Combustibles!C90","v":41.864979152422862},"MJ/l",null,null,null,null,7.7399999999999998E-5,3E-9,6E-10,null,null,null,null,null,{"$error":"#N/A"},{"$error":"#N/A"},{"$error":"#N/A"},null,null,null,null,null,null,{"$error":"#N/A"}]
["Ec21","Energía","Energía térmica","Procesos térmicos","Combustóleo pesado_PT",{"$f":"INDEX(Calculadora!$C$11:$H$60,MATCH('Ecuaciones y FE'!A93,Calculadora!$B$11:$B$60,0),MATCH(Calculadora!$H$11,Calculadora!$C$11:$H$11,0))","v":{"$error":"#N/A"}},"l",null,{"$f":"Combustibles!C91","v":41.864979152422862},"MJ/l",null,null,null,null,7.7399999999999998E-5,3E-9,6E-10,null,null,null,null,null,{"$error":"#N/A"},{"$error":"#N/A"},{"$error":"#N/A"},null,null,null,null,null,null,{"$error":"#N/A"}]
["Ec22","Energía","Energía térmica","Procesos térmicos","Coque de carbón_PT",{"$f":"INDEX(Calculadora!$C$11:$H$60,MATCH('Ecuaciones y FE'!A94,Calculadora!$B$11:$B$60,0),MATCH(Calculadora!$H$11,Calculadora!$C$11:$H$11,0))","v":{"$error":"#N/A"}},"ton",null,{"$f":"Combustibles!C92","v":26521},"MJ/ton",null,null,null,null,9.4599999999999996E-5,9.9999999999999986E-10,1.5E-9,null,null,null,null,null,{"$error":"#N/A"},{"$error":"#N/A"},{"$error":"#N/A"},null,null,null,null,null,null,{"$error":"#N/A"}]
["Ec23","Energía","Energía térmica","Procesos térmicos","Coque de petróleo_PT",{"$f":"INDEX(Calculadora!$C$11:$H$60,MATCH('Ecuaciones y FE'!A95,Calculadora!$B$11:$B$60,0),MATCH(Calculadora!$H$11,Calculadora!$C$11:$H$11,0))","v":{"$error":"#N/A"}},"ton",null,{"$f":"Combustibles!C93","v":34518},"MJ/ton",null,null,null,null,9.7499999999999998E-5,3E-9,6E-10,null,null,null,null,null,{"$error":"#N/A"},{"$error":"#N/A"},{"$error":"#N/A"},null,null,null,null,null,null,{"$error":"#N/A"}]
["Ec24","Energía","Energía térmica","Procesos térmicos","Diáfano_PT",{"$f":"INDEX(Calculadora!$C$11:$H$60,MATCH('Ecuaciones y FE'!A96,Calculadora!$B$11:$B$60,0),MATCH(Calculadora!$H$11,Calculadora!$C$11:$H$11,0))","v":{"$error":"#N/A"}},"l",null,{"$f":"Combustibles!C94","v":35.657094000000001},"MJ/l",null,null,null,null,7.1899999999999999E-5,3E-9,6E-10,null,null,null,null,null,{"$error":"#N/A"},{"$error":"#N/A"},{"$error":"#N/A"},null,null,null,null,null,null,{"$error":"#N/A"}]
["Ec25","Energía","Energía térmica","Procesos térmicos","Diésel_PT",{"$f":"INDEX(Calculadora!$C$11:$H$60,MATCH('Ecuaciones y FE'!A97,Calculadora!$B$11:$B$60,0),MATCH(Calculadora!$H$11,Calculadora!$C$11:$H$11,0))","v":{"$error":"#N/A"}},"l",null,{"$f":"Combustibles!C95","v":38.147701105685798},"MJ/l",null,null,null,null,7.4099999999999999E-5,3E-9,6E-10,null,null,null,null,null,{"$error":"#N/A"},{"$error":"#N/A"},{"$error":"#N/A"},null,null,null,null,null,null,{"$error":"#N/A"}]
["Ec26","Energía","Energía térmica","Procesos térmicos","Esquisto bituminoso y alquitrán_PT",{"$f":"INDEX(Calculadora!$C$11:$H$60,MATCH('Ecuaciones y FE'!A98,Calculadora!$B$11:$B$60,0),MATCH(Calculadora!$H$11,Calculadora!$C$11:$H$11,0))","v":{"$error":"#N/A"}},"ton",null,{"$f":"Combustibles!C96","v":5600},"MJ/ton",null,null,null,null,1.07E-4,3E-10,1.5E-9,null,null,null,null,null,{"$error":"#N/A"},{"$error":"#N/A"},{"$error":"#N/A"},null,null,null,null,null,null,{"$error":"#N/A"}]
["Ec27","Energía","Energía térmica","Procesos térmicos","Etano_PT",{"$f":"INDEX(Calculadora!$C$11:$H$60,MATCH('Ecuaciones y FE'!A99,Calculadora!$B$11:$B$60,0),MATCH(Calculadora!$H$11,Calculadora!$C$11:$H$11,0))","v":{"$error":"#N/A"}},"l",null,{"$f":"Combustibles!C97","v":18.039176714114902},"MJ/l",null,null,null,null,6.1600000000000007E-5,9.9999999999999986E-10,9.9999999999999991E-11,null,null,null,null,null,{"$error":"#N/A"},{"$error":"#N/A"},{"$error":"#N/A"},null,null,null,null,null,null,{"$error":"#N/A"}]
["Ec28","Energía","Energía térmica","Procesos térmicos","Gas de alto horno _PT",{"$f":"INDEX(Calculadora!$C$11:$H$60,MATCH('Ecuaciones y FE'!A100,Calculadora!$B$11:$B$60,0),MATCH(Calculadora!$H$11,Calculadora!$C$11:$H$11,0))","v":{"$error":"#N/A"}},"m3",null,{"$f":"Combustibles!C98","v":3.4540000000000002},"MJ/m3",null,null,null,null,2.5999999999999998E-4,9.9999999999999986E-10,9.9999999999999991E-11,null,null,null,null,null,{"$error":"#N/A"},{"$error":"#N/A"},{"$error":"#N/A"},null,null,null,null,null,null,{"$error":"#N/A"}]
["Ec29","Energía","Energía térmica","Procesos térmicos","Gas de coque _PT",{"$f":"INDEX(Calculadora!$C$11:$H$60,MATCH('Ecuaciones y FE'!A101,Calculadora!$B$11:$B$60,0),MATCH(Calculadora!$H$11,Calculadora!$C$11:$H$11,0))","v":{"$error":"#N/A"}},"m3",null,{"$f":"Combustibles!C99","v":18.422999999999998},"MJ/m3",null,null,null,null,4.4400000000000002E-5,9.9999999999999986E-10,9.9999999999999991E-11,null,null,null,null,null,{"$error":"#N/A"},{"$error":"#N/A"},{"$error":"#N/A"},null,null,null,null,null,null,{"$error":"#N/A"}]
["Ec30","Energía","Energía térmica","Procesos térmicos","Gas licuado_PT",{"$f":"INDEX(Calculadora!$C$11:$H$60,MATCH('Ecuaciones y FE'!A102,Calculadora!$B$11:$B$60,0),MATCH(Calculadora!$H$11,Calculadora!$C$11:$H$11,0))","v":{"$error":"#N/A"}},"l",null,{"$f":"Combustibles!C100","v":26.121583296275865},"MJ/l",null,null,null,null,6.3100000000000002E-5,9.9999999999999986E-10,9.9999999999999991E-11,null,null,null,null,null,{"$error":"#N/A"},{"$error":"#N/A"},{"$error":"#N/A"},null,null,null,null,null,null,{"$error":"#N/A"}]
["Ec31","Energía","Energía térmica","Procesos térmicos","Gas natural (promedio asociado y no asociado)_PT",{"$f":"INDEX(Calculadora!$C$11:$H$60,MATCH('Ecuaciones y FE'!A103,Calculadora!$B$11:$B$60,0),MATCH(Calculadora!$H$11,Calculadora!$C$11:$H$11,0))","v":{"$error":"#N/A"}},"m3",null,{"$f":"Combustibles!C101","v":39.082999999999998},"MJ/m3",null,null,null,null,5.6100000000000002E-5,9.9999999999999986E-10,9.9999999999999991E-11,null,null,null,null,null,{"$error":"#N/A"},{"$error":"#N/A"},{"$error":"#N/A"},null,null,null,null,null,null,{"$error":"#N/A"}]
["Ec32","Energía","Energía térmica","Procesos térmicos","Gas natural asociado_PT",{"$f":"INDEX(Calculadora!$C$11:$H$60,MATCH('Ecuaciones y FE'!A104,Calculadora!$B$11:$B$60,0),MATCH(Calculadora!$H$11,Calculadora!$C$11:$H$11,0))","v":{"$error":"#N/A"}},"m3",null,{"$f":"Combustibles!C102","v":40.356999999999999},"MJ/m2",null,null,null,null,5.6100000000000002E-5,9.9999999999999986E-10,9.9999999999999991E-11,null,null,null,null,null,{"$error":"#N/A"},{"$error":"#N/A"},{"$error":"#N/A"},null,null,null,null,null,null,{"$error":"#N/A"}]
["Ec33","Energía","Energía térmica","Procesos térmicos","Gas natural no asociado _PT",{"$f":"INDEX(Calculadora!$C$11:$H$60,MATCH('Ecuaciones y FE'!A105,Calculadora!$B$11:$B$60,0),MATCH(Calculadora!$H$11,Calculadora!$C$11:$H$11,0))","v":{"$error":"#N/A"}},"m3",null,{"$f":"Combustibles!C103","v":37.808},"MJ/m1",null,null,null,null,5.6100000000000002E-5,9.9999999999999986E-10,9.9999999999999991E-11,null,null,null,null,null,{"$error":"#N/A"},{"$error":"#N/A"},{"$error":"#N/A"},null,null,null,null,null,null,{"$error":"#N/A"}]
["Ec34","Energía","Energía térmica","Procesos térmicos","Gas seco_PT",{"$f":"INDEX(Calculadora!$C$11:$H$60,MATCH('Ecuaciones y FE'!A106,Calculadora!$B$11:$B$60,0),MATCH(Calculadora!$H$11,Calculadora!$C$11:$H$11,0))","v":{"$error":"#N/A"}},"m3",null,{"$f":"Combustibles!C104","v":33.542999999999999},"MJ/m0",null,null,null,null,5.6100000000000002E-5,9.9999999999999986E-10,9.9999999999999991E-11,null,null,null,null,null,{"$error":"#N/A"},{"$error":"#N/A"},{"$error":"#N/A"},null,null,null,null,null,null,{"$error":"#N/A"}]
["Ec35","Energía","Energía térmica","Procesos térmicos","Gas seco de exportación_PT",{"$f":"INDEX(Calculadora!$C$11:$H$60,MATCH('Ecuaciones y FE'!A107,Calculadora!$B$11:$B$60,0),MATCH(Calculadora!$H$11,Calculadora!$C$11:$H$11,0))","v":{"$error":"#N/A"}},"m3",null,{"$f":"Combustibles!C105","v":33.804000000000002},"MJ/m1",null,null,null,null,5.6100000000000002E-5,9.9999999999999986E-10,9.9999999999999991E-11,null,null,null,null,null,{"$error":"#N/A"},{"$error":"#N/A"},{"$error":"#N/A"},null,null,null,null,null,null,{"$error":"#N/A"}]
["Ec36","Energía","Energía térmica","Procesos térmicos","Gas seco de importación_PT",{"$f":"INDEX(Calculadora!$C$11:$H$60,MATCH('Ecuaciones y FE'!A108,Calculadora!$B$11:$B$60,0),MATCH(Calculadora!$H$11,Calculadora!$C$11:$H$11,0))","v":{"$error":"#N/A"}},"m3",null,{"$f":"Combustibles!C106","v":38.24},"MJ/m3",null,null,null,null,5.6100000000000002E-5,9.9999999999999986E-10,9.9999999999999991E-11,null,null,null,null,null,{"$error":"#N/A"},{"$error":"#N/A"},{"$error":"#N/A"},null,null,null,null,null,null,{"$error":"#N/A"}]
["Ec37","Energía","Energía térmica","Procesos térmicos","Gasóleo_PT",{"$f":"INDEX(Calculadora!$C$11:$H$60,MATCH('Ecuaciones y FE'!A109,Calculadora!$B$11:$B$60,0),MATCH(Calculadora!$H$11,Calculadora!$C$11:$H$11,0))","v":{"$error":"#N/A"}},"m3",null,{"$f":"Combustibles!C107","v":42.523000000000003},"MJ/m3",null,null,null,null,7.4099999999999999E-5,3E-9,6E-10,null,null,null,null,null,{"$error":"#N/A"},{"$error":"#N/A"},{"$error":"#N/A"},null,null,null,null,null,null,{"$error":"#N/A"}]
["Ec38","Energía","Energía térmica","Procesos térmicos","Gasolinas naturales_PT",{"$f":"INDEX(Calculadora!$C$11:$H$60,MATCH('Ecuaciones y FE'!A110,Calculadora!$B$11:$B$60,0),MATCH(Calculadora!$H$11,Calculadora!$C$11:$H$11,0))","v":{"$error":"#N/A"}},"l",null,{"$f":"Combustibles!C108","v":30.071584334094609},"MJ/l",null,null,null,null,6.9300000000000004E-5,3E-9,6E-10,null,null,null,null,null,{"$error":"#N/A"},{"$error":"#N/A"},{"$error":"#N/A"},null,null,null,null,null,null,{"$error":"#N/A"}]
["Ec39","Energía","Energía térmica","Procesos térmicos","Gasolinas y naftas_PT",{"$f":"INDEX(Calculadora!$C$11:$H$60,MATCH('Ecuaciones y FE'!A111,Calculadora!$B$11:$B$60,0),MATCH(Calculadora!$H$11,Calculadora!$C$11:$H$11,0))","v":{"$error":"#N/A"}},"l",null,{"$f":"Combustibles!C109","v":35.304706728147465},"MJ/l",null,null,null,null,6.9300000000000004E-5,3E-9,6E-10,null,null,null,null,null,{"$error":"#N/A"},{"$error":"#N/A"},{"$error":"#N/A"},null,null,null,null,null,null,{"$error":"#N/A"}]
["Ec40","Energía","Energía térmica","Procesos térmicos","Hidrógeno_PT",{"$f":"INDEX(Calculadora!$C$11:$H$60,MATCH('Ecuaciones y FE'!A112,Calculadora!$B$11:$B$60,0),MATCH(Calculadora!$H$11,Calculadora!$C$11:$H$11,0))","v":{"$error":"#N/A"}},"ton",null,{"$f":"Combustibles!C110","v":119956},"MJ/ton",null,null,null,null,0,0,0,null,null,null,null,null,{"$error":"#N/A"},{"$error":"#N/A"},{"$error":"#N/A"},null,null,null,null,null,null,{"$error":"#N/A"}]
["Ec41","Energía","Energía térmica","Procesos térmicos","Lana y seda_PT",{"$f":"INDEX(Calculadora!$C$11:$H$60,MATCH('Ecuaciones y FE'!A113,Calculadora!$B$11:$B$60,0),MATCH(Calculadora!$H$11,Calculadora!$C$11:$H$11,0))","v":{"$error":"#N/A"}},"ton",null,{"$f":"Combustibles!C111","v":19883.5},"MJ/ton",null,null,null,null,1E-4,3.0000000000000004E-8,3.9999999999999994E-9,null,null,null,null,null,{"$error":"#N/A"},{"$error":"#N/A"},{"$error":"#N/A"},null,null,null,null,null,null,{"$error":"#N/A"}]
["Ec42","Energía","Energía térmica","Procesos térmicos","Leña_PT",{"$f":"INDEX(Calculadora!$C$11:$H$60,MATCH('Ecuaciones y FE'!A114,Calculadora!$B$11:$B$60,0),MATCH(Calculadora!$H$11,Calculadora!$C$11:$H$11,0))","v":{"$error":"#N/A"}},"ton",null,{"$f":"Combustibles!C112","v":14486},"MJ/ton",null,null,null,null,1.12E-4,3.0000000000000004E-8,3.9999999999999994E-9,null,null,null,null,null,{"$error":"#N/A"},{"$error":"#N/A"},{"$error":"#N/A"},null,null,null,null,null,null,{"$error":"#N/A"}]
["Ec43","Energía","Energía térmica","Procesos térmicos","Licor negro_PT",{"$f":"INDEX(Calculadora!$C$11:$H$60,MATCH('Ecuaciones y FE'!A115,Calculadora!$B$11:$B$60,0),MATCH(Calculadora!$H$11,Calculadora!$C$11:$H$11,0))","v":{"$error":"#N/A"}},"ton",null,{"$f":"Combustibles!C113","v":15070},"MJ/ton",null,null,null,null,9.5299999999999999E-5,3E-9,1.9999999999999997E-9,null,null,null,null,null,{"$error":"#N/A"},{"$error":"#N/A"},{"$error":"#N/A"},null,null,null,null,null,null,{"$error":"#N/A"}]
["Ec44","Energía","Energía térmica","Procesos térmicos","Lubricantes_PT",{"$f":"INDEX(Calculadora!$C$11:$H$60,MATCH('Ecuaciones y FE'!A116,Calculadora!$B$11:$B$60,0),MATCH(Calculadora!$H$11,Calculadora!$C$11:$H$11,0))","v":{"$error":"#N/A"}},"l",null,{"$f":"Combustibles!C114","v":37.971586409732097},"MJ/l",null,null,null,null,7.3300000000000006E-5,3E-9,6E-10,null,null,null,null,null,{"$error":"#N/A"},{"$error":"#N/A"},{"$error":"#N/A"},null,null,null,null,null,null,{"$error":"#N/A"}]
["Ec45","Energía","Energía térmica","Procesos térmicos","Madera  (20% de humedad)_PT",{"$f":"INDEX(Calculadora!$C$11:$H$60,MATCH('Ecuaciones y FE'!A117,Calculadora!$B$11:$B$60,0),MATCH(Calculadora!$H$11,Calculadora!$C$11:$H$11,0))","v":{"$error":"#N/A"}},"ton",null,{"$f":"Combustibles!C115","v":14000},"MJ/ton",null,null,null,null,1.12E-4,3.0000000000000004E-8,3.9999999999999994E-9,null,null,null,null,null,{"$error":"#N/A"},{"$error":"#N/A"},{"$error":"#N/A"},null,null,null,null,null,null,{"$error":"#N/A"}]
["Ec46","Energía","Energía térmica","Procesos térmicos","Madera en astillas/pellets_PT",{"$f":"INDEX(Calculadora!$C$11:$H$60,MATCH('Ecuaciones y FE'!A118,Calculadora!$B$11:$B$60,0),MATCH(Calculadora!$H$11,Calculadora!$C$11:$H$11,0))","v":{"$error":"#N/A"}},"ton",null,{"$f":"Combustibles!C116","v":17584},"MJ/ton",null,null,null,null,1.12E-4,3.0000000000000004E-8,3.9999999999999994E-9,null,null,null,null,null,{"$error":"#N/A"},{"$error":"#N/A"},{"$error":"#N/A"},null,null,null,null,null,null,{"$error":"#N/A"}]
["Ec47","Energía","Energía térmica","Procesos térmicos","Mezcla de parafinas_PT",{"$f":"INDEX(Calculadora!$C$11:$H$60,MATCH('Ecuaciones y FE'!A119,Calculadora!$B$11:$B$60,0),MATCH(Calculadora!$H$11,Calculadora!$C$11:$H$11,0))","v":{"$error":"#N/A"}},"ton",null,{"$f":"Combustibles!C117","v":43513},"MJ/ton",null,null,null,null,7.3300000000000006E-5,3E-9,6E-10,null,null,null,null,null,{"$error":"#N/A"},{"$error":"#N/A"},{"$error":"#N/A"},null,null,null,null,null,null,{"$error":"#N/A"}]
["Ec48","Energía","Energía térmica","Procesos térmicos","Paja de arroz_PT",{"$f":"INDEX(Calculadora!$C$11:$H$60,MATCH('Ecuaciones y FE'!A120,Calculadora!$B$11:$B$60,0),MATCH(Calculadora!$H$11,Calculadora!$C$11:$H$11,0))","v":{"$error":"#N/A"}},"ton",null,{"$f":"Combustibles!C118","v":14441.5},"MJ/ton",null,null,null,null,1E-4,3.0000000000000004E-8,3.9999999999999994E-9,null,null,null,null,null,{"$error":"#N/A"},{"$error":"#N/A"},{"$error":"#N/A"},null,null,null,null,null,null,{"$error":"#N/A"}]
["Ec49","Energía","Energía térmica","Procesos térmicos","Paneles-fibras-partículas y pedacería de madera_PT",{"$f":"INDEX(Calculadora!$C$11:$H$60,MATCH('Ecuaciones y FE'!A121,Calculadora!$B$11:$B$60,0),MATCH(Calculadora!$H$11,Calculadora!$C$11:$H$11,0))","v":{"$error":"#N/A"}},"ton",null,{"$f":"Combustibles!C119","v":19046.5},"MJ/ton",null,null,null,null,1E-4,3.0000000000000004E-8,3.9999999999999994E-9,null,null,null,null,null,{"$error":"#N/A"},{"$error":"#N/A"},{"$error":"#N/A"},null,null,null,null,null,null,{"$error":"#N/A"}]
["Ec50","Energía","Energía térmica","Procesos térmicos","Papel ordinario o kraft_PT",{"$f":"INDEX(Calculadora!$C$11:$H$60,MATCH('Ecuaciones y FE'!A122,Calculadora!$B$11:$B$60,0),MATCH(Calculadora!$H$11,Calculadora!$C$11:$H$11,0))","v":{"$error":"#N/A"}},"ton",null,{"$f":"Combustibles!C120","v":16744},"MJ/ton",null,null,null,null,1E-4,3.0000000000000004E-8,3.9999999999999994E-9,null,null,null,null,null,{"$error":"#N/A"},{"$error":"#N/A"},{"$error":"#N/A"},null,null,null,null,null,null,{"$error":"#N/A"}]
["Ec51","Energía","Energía térmica","Procesos térmicos","Petróleo crudo (promedio de la producción)_PT",{"$f":"INDEX(Calculadora!$C$11:$H$60,MATCH('Ecuaciones y FE'!A123,Calculadora!$B$11:$B$60,0),MATCH(Calculadora!$H$11,Calculadora!$C$11:$H$11,0))","v":{"$error":"#N/A"}},"l",null,{"$f":"Combustibles!C121","v":39.921427686362371},"MJ/l",null,null,null,null,7.3300000000000006E-5,3E-9,6E-10,null,null,null,null,null,{"$error":"#N/A"},{"$error":"#N/A"},{"$error":"#N/A"},null,null,null,null,null,null,{"$error":"#N/A"}]
["Ec52","Energía","Energía térmica","Procesos térmicos","Petróleo crudo ligero_PT",{"$f":"INDEX(Calculadora!$C$11:$H$60,MATCH('Ecuaciones y FE'!A124,Calculadora!$B$11:$B$60,0),MATCH(Calculadora!$H$11,Calculadora!$C$11:$H$11,0))","v":{"$error":"#N/A"}},"l",null,{"$f":"Combustibles!C122","v":36.644436379509557},"MJ/l",null,null,null,null,7.3300000000000006E-5,3E-9,6E-10,null,null,null,null,null,{"$error":"#N/A"},{"$error":"#N/A"},{"$error":"#N/A"},null,null,null,null,null,null,{"$error":"#N/A"}]
["Ec53","Energía","Energía térmica","Procesos térmicos","Petróleo crudo pesado_PT",{"$f":"INDEX(Calculadora!$C$11:$H$60,MATCH('Ecuaciones y FE'!A125,Calculadora!$B$11:$B$60,0),MATCH(Calculadora!$H$11,Calculadora!$C$11:$H$11,0))","v":{"$error":"#N/A"}},"l",null,{"$f":"Combustibles!C123","v":37.990455841441424},"MJ/l",null,null,null,null,7.3300000000000006E-5,3E-9,6E-10,null,null,null,null,null,{"$error":"#N/A"},{"$error":"#N/A"},{"$error":"#N/A"},null,null,null,null,null,null,{"$error":"#N/A"}]
["Ec54","Energía","Energía térmica","Procesos térmicos","Petróleo crudo superligero_PT",{"$f":"INDEX(Calculadora!$C$11:$H$60,MATCH('Ecuaciones y FE'!A126,Calculadora!$B$11:$B$60,0),MATCH(Calculadora!$H$11,Calculadora!$C$11:$H$11,0))","v":{"$error":"#N/A"}},"l",null,{"$f":"Combustibles!C124","v":36.021745133101824},"MJ/l",null,null,null,null,7.3300000000000006E-5,3E-9,6E-10,null,null,null,null,null,{"$error":"#N/A"},{"$error":"#N/A"},{"$error":"#N/A"},null,null,null,null,null,null,{"$error":"#N/A"}]
["Ec55","Energía","Energía térmica","Procesos térmicos","Querosenos_PT",{"$f":"INDEX(Calculadora!$C$11:$H$60,MATCH('Ecuaciones y FE'!A127,Calculadora!$B$11:$B$60,0),MATCH(Calculadora!$H$11,Calculadora!$C$11:$H$11,0))","v":{"$error":"#N/A"}},"l",null,{"$f":"Combustibles!C125","v":37.03440463483561},"MJ/l",null,null,null,null,7.1899999999999999E-5,3E-9,6E-10,null,null,null,null,null,{"$error":"#N/A"},{"$error":"#N/A"},{"$error":"#N/A"},null,null,null,null,null,null,{"$error":"#N/A"}]
["Ec56","Energía","Energía térmica","Procesos térmicos","Turba (35 % de humedad)_PT",{"$f":"INDEX(Calculadora!$C$11:$H$60,MATCH('Ecuaciones y FE'!A128,Calculadora!$B$11:$B$60,0),MATCH(Calculadora!$H$11,Calculadora!$C$11:$H$11,0))","v":{"$error":"#N/A"}},"ton",null,{"$f":"Combustibles!C126","v":13000},"MJ/ton",null,null,null,null,1.06E-4,9.9999999999999986E-10,1.5E-9,null,null,null,null,null,{"$error":"#N/A"},{"$error":"#N/A"},{"$error":"#N/A"},null,null,null,null,null,null,{"$error":"#N/A"}]
["Ec57","Energía","Energía térmica","Procesos térmicos","Turbosina_PT",{"$f":"INDEX(Calculadora!$C$11:$H$60,MATCH('Ecuaciones y FE'!A129,Calculadora!$B$11:$B$60,0),MATCH(Calculadora!$H$11,Calculadora!$C$11:$H$11,0))","v":{"$error":"#N/A"}},"l",null,{"$f":"Combustibles!C127","v":37.03440463483561},"MJ/l",null,null,null,null,1.06E-4,9.9999999999999986E-10,1.5E-9,null,null,null,null,null,{"$error":"#N/A"},{"$error":"#N/A"},{"$error":"#N/A"},null,null,null,null,null,null,{"$error":"#N/A"}]
[]
["Eb","ENERGÍA HIDROCARBUROS","Subsector explotación, producción, transporte y distribución de hidrocarburos","Actividad","Categoría","Dato de Actividad","Unidades Fuente Emisión","Unidades Factor de Emisión",null,null,null,null,null,null,"FE_CO2 (ton/un)","FE_CH4 (ton/un)","FE_N20 (ton/un)",null,null,null,null,null,"Emisiones CO2","Emisiones CH4","Emisiones N2O",null,null,null,null,null,null,"Emisiones CO2e",null,null,null,null,null,"Emisiones CH4 inferior","Emisiones CH4 superior","Emisiones CO2 inferior","Emisiones CO2 superior","Emisiones N2O inferior","Emisiones N2O superior"]
["Eb01","Energía","Subsector explotación, producción, transporte y distribución de hidrocarburos","Extracción_Petróleo_Convencional_y_No_Convencional","Emisiones Fugitivas Petróleo (costeras)",{"$f":"INDEX(Calculadora!$C$11:$H$60,MATCH('Ecuaciones y FE'!A132,Calculadora!$B$11:$B$60,0),MATCH(Calculadora!$H$11,Calculadora!$C$11:$H$11,0))","v":{"$error":"#N/A"}},"miles de m3 de producción de petróleo","t por miles de m3 de producción de petróleo",null,null,null,null,null,null,4.3,60,0,null,null,null,null,null,{"$f":"F132*O132","v":{"$error":"#N/A"}},{"$f":"F132*P132","v":{"$error":"#N/A"}},{"$f":"F132*Q132","v":{"$error":"#N/A"}},null,null,null,null,null,null,{"$f":"W132+(X132*$AI$3)+(Y132*$AI$4)","v":{"$error":"#N/A"}},null,null,null,null,null,1.5E-3,60,1.1E-4,4.3,0,0]
["Eb02","Energía","Subsector explotación, producción, transporte y distribución de hidrocarburos","Extracción_Petróleo_Convencional_y_No_Convencional","Emisiones Fugitivas Petróleo (alta mar)",{"$f":"INDEX(Calculadora!$C$11:$H$60,MATCH('Ecuaciones y FE'!A133,Calculadora!$B$11:$B$60,0),MATCH(Calculadora!$H$11,Calculadora!$C$11:$H$11,0))","v":{"$error":"#N/A"}},"miles de m3 de producción de petróleo","t por miles de m3 de producción de petróleo",null,null,null,null,null,null,4.3000000000000002E-5,5.9000000000000003E-4,0,null,null,null,null,null,{"$error":"#N/A"},{"$error":"#N/A"},{"$error":"#N/A"},null,null,null,null,null,null,{"$f":"W133+(X133*$AI$3)+(Y133*$AI$4)","v":{"$error":"#N/A"}},null,null,null,null,null,5.9000000000000003E-4,0,4.3000000000000002E-5,0,0,0]
["Eb03","Energía","Subsector explotación, producción, transporte y distribución de hidrocarburos","Extracción_Petróleo_Convencional_y_No_Convencional","Emisiones Fugitivas Petróleo por Venteo",{"$f":"INDEX(Calculadora!$C$11:$H$60,MATCH('Ecuaciones y FE'!A134,Calculadora!$B$11:$B$60,0),MATCH(Calculadora!$H$11,Calculadora!$C$11:$H$11,0))","v":{"$error":"#N/A"}},"miles de m3 de producción de petróleo","t por miles de m3 de producción de petróleo",null,null,null,null,null,null,0.13,0.99,0,null,null,null,null,null,{"$error":"#N/A"},{"$error":"#N/A"},{"$error":"#N/A"},null,null,null,null,null,null,{"$error":"#N/A"},null,null,null,null,null,0.72,0.99,9.5000000000000001E-2,0.13,0,0]
["Eb04","Energía","Subsector explotación, producción, transporte y distribución de hidrocarburos","Extracción_Petróleo_Convencional_y_No_Convencional","Emisiones Fugitivas Petróleo por Quema en Antorcha",{"$f":"INDEX(Calculadora!$C$11:$H$60,MATCH('Ecuaciones y FE'!A135,Calculadora!$B$11:$B$60,0),MATCH(Calculadora!$H$11,Calculadora!$C$11:$H$11,0))","v":{"$error":"#N/A"}},"miles de m3 de producción de petróleo","t por miles de m3 de producción de petróleo",null,null,null,null,null,null,56,3.4000000000000002E-2,8.8000000000000003E-4,null,null,null,null,null,{"$error":"#N/A"},{"$error":"#N/A"},{"$error":"#N/A"},null,null,null,null,null,null,{"$error":"#N/A"},null,null,null,null,null,2.5000000000000001E-2,3.4000000000000002E-2,41,56,6.4000000000000005E-4,8.8000000000000003E-4]
["Eb05","Energía","Subsector explotación, producción, transporte y distribución de hidrocarburos","Extracción_Gas_Asociado_y_No_Asociado","Emisiones Fugitivas Gas por Venteo",{"$f":"INDEX(Calculadora!$C$11:$H$60,MATCH('Ecuaciones y FE'!A136,Calculadora!$B$11:$B$60,0),MATCH(Calculadora!$H$11,Calculadora!$C$11:$H$11,0))","v":{"$error":"#N/A"}},"millones de m3 de producción de gas","t por millon de m3 de producción de gas",null,null,null,null,null,null,0.18,24,0,null,null,null,null,null,{"$error":"#N/A"},{"$error":"#N/A"},{"$error":"#N/A"},null,null,null,null,null,null,{"$error":"#N/A"},null,null,null,null,null,17,23,5.3,7.3,0,0]
["Eb06","Energía","Subsector explotación, producción, transporte y distribución de hidrocarburos","Extracción_Gas_Asociado_y_No_Asociado","Emisiones Fugitivas Gas por Quema en Antorcha",{"$f":"INDEX(Calculadora!$C$11:$H$60,MATCH('Ecuaciones y FE'!A137,Calculadora!$B$11:$B$60,0),MATCH(Calculadora!$H$11,Calculadora!$C$11:$H$11,0))","v":{"$error":"#N/A"}},"millones de m3 de producción de gas","t por millon de m3 de producción de gas",null,null,null,null,null,null,1.6,1E-3,2.9E-5,null,null,null,null,null,{"$error":"#N/A"},{"$error":"#N/A"},{"$error":"#N/A"},null,null,null,null,null,null,{"$error":"#N/A"},null,null,null,null,null,0.14000000000000001,0.19,22,30,4.6000000000000001E-4,6.3000000000000003E-4]
["Eb07","Energía","Subsector explotación, producción, transporte y distribución de hidrocarburos","Perforación_pozos_petróleo_y_gas","Emisiones por Quema en Antorcha y Venteo_Perforación",{"$f":"INDEX(Calculadora!$C$11:$H$60,MATCH('Ecuaciones y FE'!A138,Calculadora!$B$11:$B$60,0),MATCH(Calculadora!$H$11,Calculadora!$C$11:$H$11,0))","v":{"$error":"#N/A"}},"número de pozos perforados","t por pozo perforado",null,null,null,null,null,null,1.7,0.56000000000000005,0,null,null,null,null,null,{"$error":"#N/A"},{"$error":"#N/A"},{"$error":"#N/A"},null,null,null,null,null,null,{"$error":"#N/A"},null,null,null,null,null,7.9,130,0.54,9,0,0]
["Eb08","Energía","Subsector explotación, producción, transporte y distribución de hidrocarburos","Pozos_en_producción_petróleo_y_gas","Emisiones por Quema en Antorcha y Venteo_Producción",{"$f":"INDEX(Calculadora!$C$11:$H$60,MATCH('Ecuaciones y FE'!A139,Calculadora!$B$11:$B$60,0),MATCH(Calculadora!$H$11,Calculadora!$C$11:$H$11,0))","v":{"$error":"#N/A"}},"número de pozos en producción","t por pozo en producción",null,null,null,null,null,null,3.2000000000000001E-2,1.8,0,null,null,null,null,null,{"$error":"#N/A"},{"$error":"#N/A"},{"$error":"#N/A"},null,null,null,null,null,null,{"$error":"#N/A"},null,null,null,null,null,3.5,4.8,0.22,0.3,0,0]
["Eb09","Energía","Subsector explotación, producción, transporte y distribución de hidrocarburos","Procesamiento_Gas","Emisiones fugitivas_Procesamiento de Gas",{"$f":"INDEX(Calculadora!$C$11:$H$60,MATCH('Ecuaciones y FE'!A140,Calculadora!$B$11:$B$60,0),MATCH(Calculadora!$H$11,Calculadora!$C$11:$H$11,0))","v":{"$error":"#N/A"}},"millones de m3 de carga de gas de crudo","t por millon de m3 de carga de gas de crudo",null,null,null,null,null,null,1.7999999999999999E-2,0.22,0,null,null,null,null,null,{"$error":"#N/A"},{"$error":"#N/A"},{"$error":"#N/A"},null,null,null,null,null,null,{"$error":"#N/A"},null,null,null,null,null,1.6E-2,2.1999999999999999E-2,27,37,2.4000000000000001E-4,3.8000000000000002E-4]
["Eb10","Energía","Subsector explotación, producción, transporte y distribución de hidrocarburos","Procesamiento_Gas","Emisiones por Quema en Antorcha_Procesamiento de Gas",{"$f":"INDEX(Calculadora!$C$11:$H$60,MATCH('Ecuaciones y FE'!A141,Calculadora!$B$11:$B$60,0),MATCH(Calculadora!$H$11,Calculadora!$C$11:$H$11,0))","v":{"$error":"#N/A"}},"millones de m3 de carga de gas de crudo","t por millon de m3 de carga de gas de crudo",null,null,null,null,null,null,4.9000000000000004,3.3E-3,7.3999999999999996E-5,null,null,null,null,null,{"$error":"#N/A"},{"$error":"#N/A"},{"$error":"#N/A"},null,null,null,null,null,null,{"$error":"#N/A"},null,null,null,null,null,0.18,3,2.9000000000000001E-2,0.48,0,0]
["Eb11","Energía","Subsector explotación, producción, transporte y distribución de hidrocarburos","Procesamiento_Gas","Emisiones por Venteo_Procesamiento de Gas",{"$f":"INDEX(Calculadora!$C$11:$H$60,MATCH('Ecuaciones y FE'!A142,Calculadora!$B$11:$B$60,0),MATCH(Calculadora!$H$11,Calculadora!$C$11:$H$11,0))","v":{"$error":"#N/A"}},"millones de m3 de carga de gas de crudo","t por millon de m3 de carga de gas de crudo",null,null,null,null,null,null,150,0,0,null,null,null,null,null,{"$error":"#N/A"},{"$error":"#N/A"},{"$error":"#N/A"},null,null,null,null,null,null,{"$error":"#N/A"},null,null,null,null,null,2.2000000000000002,37,0.28000000000000003,4.7,0,0]
["Eb12","Energía","Subsector explotación, producción, transporte y distribución de hidrocarburos","Transporte_Petróleo","Transporte en tuberías",{"$f":"INDEX(Calculadora!$C$11:$H$60,MATCH('Ecuaciones y FE'!A143,Calculadora!$B$11:$B$60,0),MATCH(Calculadora!$H$11,Calculadora!$C$11:$H$11,0))","v":{"$error":"#N/A"}},"miles de m3 de petróleo transportado","t por miles de m3 de petróleo transportado",null,null,null,null,null,null,4.8999999999999998E-4,5.4000000000000003E-3,0,null,null,null,null,null,{"$error":"#N/A"},{"$error":"#N/A"},{"$error":"#N/A"},null,null,null,null,null,null,{"$error":"#N/A"},null,null,null,null,null,8.6999999999999993,12,1.8,2.5,0,0]
["Eb13","Energía","Subsector explotación, producción, transporte y distribución de hidrocarburos","Transporte_Petróleo","Transporte en camiones y vagones cisterna",{"$f":"INDEX(Calculadora!$C$11:$H$60,MATCH('Ecuaciones y FE'!A144,Calculadora!$B$11:$B$60,0),MATCH(Calculadora!$H$11,Calculadora!$C$11:$H$11,0))","v":{"$error":"#N/A"}},"miles de m3 de petróleo transportado","t por miles de m3 de petróleo transportado",null,null,null,null,null,null,2.3E-3,2.5000000000000001E-2,0,null,null,null,null,null,{"$error":"#N/A"},{"$error":"#N/A"},{"$error":"#N/A"},null,null,null,null,null,null,{"$error":"#N/A"},null,null,null,null,null,2.1000000000000001E-2,2.9000000000000001E-2,34,47,5.4000000000000001E-4,7.3999999999999999E-4]
["Eb14","Energía","Subsector explotación, producción, transporte y distribución de hidrocarburos","Transporte_Gas_almacenamiento","Almacenamiento de Gas Natural",{"$f":"INDEX(Calculadora!$C$11:$H$60,MATCH('Ecuaciones y FE'!A145,Calculadora!$B$11:$B$60,0),MATCH(Calculadora!$H$11,Calculadora!$C$11:$H$11,0))","v":{"$error":"#N/A"}},"millones de m3 de gas comercializable","t por millón de m3 de gas comercializable",null,null,null,null,null,null,2.5999999999999998E-4,5.8000000000000003E-2,0,null,null,null,null,null,{"$error":"#N/A"},{"$error":"#N/A"},{"$error":"#N/A"},null,null,null,null,null,null,{"$error":"#N/A"},null,null,null,null,null,0.38,24,1.4E-2,0.18,0,0]
["Eb15","Energía","Subsector explotación, producción, transporte y distribución de hidrocarburos","Distribución_gas_natural_ductos","Emisiones Fugitivas Distribución Gas Natural",{"$f":"INDEX(Calculadora!$C$11:$H$60,MATCH('Ecuaciones y FE'!A146,Calculadora!$B$11:$B$60,0),MATCH(Calculadora!$H$11,Calculadora!$C$11:$H$11,0))","v":{"$error":"#N/A"}},"millones de m3 de gas comercializable","t por millón de m3 de gas comercializable",null,null,null,null,null,null,2E-3,1.1000000000000001,0,null,null,null,null,null,{"$error":"#N/A"},{"$error":"#N/A"},{"$error":"#N/A"},null,null,null,null,null,null,{"$error":"#N/A"},null,null,null,null,null,7.6000000000000004E-4,1E-3,1.2,1.6,2.0999999999999999E-5,2.9E-5]
["Eb16","Energía","Subsector explotación, producción, transporte y distribución de hidrocarburos","Distribución_gas_natural_ductos","Emisiones por Venteo Distribución Gas Natural",{"$f":"INDEX(Calculadora!$C$11:$H$60,MATCH('Ecuaciones y FE'!A147,Calculadora!$B$11:$B$60,0),MATCH(Calculadora!$H$11,Calculadora!$C$11:$H$11,0))","v":{"$error":"#N/A"}},"millones de m3 de gas comercializable","t por millón de m3 de gas comercializable",null,null,null,null,null,null,7.3000000000000001E-3,0.74,0,null,null,null,null,null,{"$error":"#N/A"},{"$error":"#N/A"},{"$error":"#N/A"},null,null,null,null,null,null,{"$error":"#N/A"},null,null,null,null,null,3.3000000000000002E-2,0.56000000000000005,0.1,1.7,0,0]
["Eb17","Energía","Subsector explotación, producción, transporte y distribución de hidrocarburos","Suministro_gas_natural_al_consumidor_final","Emisiones fugitivas por suministro al consumidor final",{"$f":"INDEX(Calculadora!$C$11:$H$60,MATCH('Ecuaciones y FE'!A148,Calculadora!$B$11:$B$60,0),MATCH(Calculadora!$H$11,Calculadora!$C$11:$H$11,0))","v":{"$error":"#N/A"}},"millones de m3 de ventas de servicios","t por millón de m3 de ventas de servicios",null,null,null,null,null,null,0.14000000000000001,2.5,0,null,null,null,null,null,{"$error":"#N/A"},{"$error":"#N/A"},{"$error":"#N/A"},null,null,null,null,null,null,{"$error":"#N/A"},null,null,null,null,null,5.0999999999999997E-2,0.85,9,150,6.7999999999999999E-5,1.1000000000000001E-3]
[]
["Ta","TRANSPORTE AÉREO","Subsector","Actividad","Combustible","Consumo","Unidades consumo",null,"PC",null,null,null,null,null,"FE_CO2 (ton/MJ)","FE_CH4 (ton/MJ)","FE_N20 (ton/MJ)","FE_N0x (kg/TJ)",null,null,null,null,"Emisiones CO2","Emisiones CH4","Emisiones N2O",null,null,null,null,null,null,"Emisiones CO2e"]
["Ta1","Transporte","Transporte_Aéreo","Regular_de_carga_y_pasajeros","Turbosina",{"$f":"INDEX(Calculadora!$C$11:$H$60,MATCH('Ecuaciones y FE'!A151,Calculadora!$B$11:$B$60,0),MATCH(Calculadora!$H$11,Calculadora!$C$11:$H$11,0))","v":{"$error":"#N/A"}},"L",null,{"$f":"Combustibles!$H$75","v":37.03440463483561},"MJ/l",null,null,null,null,7.1500000000000003E-5,3E-9,6E-10,250,null,null,null,null,{"$f":"$F$151*$I$151*$O$151","v":{"$error":"#N/A"}},{"$f":"$F$151*$I$151*$P$151","v":{"$error":"#N/A"}},{"$f":"$F$151*$I$151*$Q$151","v":{"$error":"#N/A"}},null,null,null,null,null,null,{"$f":"W151+(X151*AI3)+(Y151*$AI$4)+Z151","v":{"$error":"#N/A"}}]
["Ta2","Transporte","Transporte_Aéreo","No_regular_de_carga_y_pasajeros","Turbosina",{"$f":"INDEX(Calculadora!$C$11:$H$60,MATCH('Ecuaciones y FE'!A152,Calculadora!$B$11:$B$60,0),MATCH(Calculadora!$H$11,Calculadora!$C$11:$H$11,0))","v":{"$error":"#N/A"}},"L",null,{"$f":"Combustibles!$H$75","v":37.03440463483561},"MJ/l",null,null,null,null,7.1500000000000003E-5,3E-9,6E-10,250,null,null,null,null,{"$f":"$F$152*$I$152*$O$152","v":{"$error":"#N/A"}},{"$f":"$F$152*$I$152*$P$152","v":{"$error":"#N/A"}},{"$f":"$F$152*$I$152*$Q$152","v":{"$error":"#N/A"}},null,null,null,null,null,null,{"$f":"W152+(X152*AI3)+(Y152*$AI$4)+Z152","v":{"$error":"#N/A"}}]
["Ta3","Transporte","Transporte_Aéreo","Servicios_de_transporte_aéreo","Turbosina",{"$f":"INDEX(Calculadora!$C$11:$H$60,MATCH('Ecuaciones y FE'!A153,Calculadora!$B$11:$B$60,0),MATCH(Calculadora!$H$11,Calculadora!$C$11:$H$11,0))","v":{"$error":"#N/A"}},"L",null,{"$f":"Combustibles!$H$75","v":37.03440463483561},"MJ/l",null,null,null,null,7.1500000000000003E-5,3E-9,6E-10,250,null,null,null,null,{"$f":"$F$153*$I$153*$O$153","v":{"$error":"#N/A"}},{"$f":"$F$153*$I$153*$P$153","v":{"$error":"#N/A"}},{"$f":"$F$153*$I$153*$Q$153","v":{"$error":"#N/A"}},null,null,null,null,null,null,{"$f":"W153+(X153*AI3)+(Y153*$AI$4)+Z153","v":{"$error":"#N/A"}}]
["Tb","TRANSPORTE FERROVIARIO","Transporte_Ferroviario",null,null,"Combustible ","Unidades consumo",null,"PC ","Unidades PC",null,null,null,null,"FE_CO2 (ton/MJ)","FE_CH4 (ton/MJ)","FE_N20 (ton/MJ)",null,null,null,null,null,"Emisiones CO2","Emisiones CH4","Emisiones N2O",null,null,null,null,null,null,"Emisiones CO2e"]
["Tb1","Transporte","Transporte_Ferroviario","Ferrocarril_de_carga_y_pasajeros","Diesel",{"$f":"INDEX(Calculadora!$C$11:$H$60,MATCH('Ecuaciones y FE'!A155,Calculadora!$B$11:$B$60,0),MATCH(Calculadora!$H$11,Calculadora!$C$11:$H$11,0))","v":{"$error":"#N/A"}},"L",null,{"$f":"5650/$B$678","v":35.537429719229145},"(MJ/l)",null,null,null,null,7.4099999999999999E-5,4.1499999999999999E-9,2.8600000000000001E-8,null,null,null,null,null,{"$f":"$F$155*($I$155)*$O$155","v":{"$error":"#N/A"}},{"$f":"$F$155*($I$155)*$P$155","v":{"$error":"#N/A"}},{"$f":"$F$155*($I$155)*$Q$155","v":{"$error":"#N/A"}},null,null,null,null,null,null,{"$f":"W155+(X155*AI3)+(Y155*$AI$4)","v":{"$error":"#N/A"}}]
["Tc","TRANSPORTE MARÍTIMO","Transporte_Marítimo",null,null,null,null,null,null,null,null,null,null,null,"FE_CO2 (ton/MJ)","FE_CH4 (ton/MJ)","FE_N20 (ton/MJ)",null,null,null,null,null,"Emisiones CO2","Emisiones CH4","Emisiones N2O",null,null,null,null,null,null,"Emisiones CO2e"]
["Tc1","Transporte","Transporte_Marítimo","Marítimo_de_carga_y_pasajeros","Diesel",{"$f":"INDEX(Calculadora!$C$11:$H$60,MATCH('Ecuaciones y FE'!A157,Calculadora!$B$11:$B$60,0),MATCH(Calculadora!$H$11,Calculadora!$C$11:$H$11,0))","v":{"$error":"#N/A"}},"L",null,{"$f":"Combustibles!H71","v":38.147701105685798},"(MJ/l)",null,null,null,null,7.4099999999999999E-5,0,0,null,null,null,null,null,{"$f":"$F$157*($I$157)*$O$157","v":{"$error":"#N/A"}},null,null,null,null,null,null,null,null,{"$f":"W157","v":{"$error":"#N/A"}}]
["Tc2","Transporte","Transporte_Marítimo","Marítimo_de_carga_y_pasajeros","Gasolinas y Naftas",{"$f":"INDEX(Calculadora!$C$11:$H$60,MATCH('Ecuaciones y FE'!A158,Calculadora!$B$11:$B$60,0),MATCH(Calculadora!$H$11,Calculadora!$C$11:$H$11,0))","v":{"$error":"#N/A"}},"L",null,{"$f":"Combustibles!H74","v":35.304706728147465},"(MJ/l)",null,null,null,null,6.9300000000000004E-5,0,0,null,null,null,null,null,{"$f":"$F$158*($I$158)*$O$158","v":{"$error":"#N/A"}},{"$f":"$F$158*($I$158)*$P$158","v":{"$error":"#N/A"}},{"$f":"$F$158*($I$158)*$Q$158","v":{"$error":"#N/A"}},null,null,null,null,null,null,{"$f":"W158+(X158*AI3)+(Y158*$AI$4)","v":{"$error":"#N/A"}}]
["Tc3","Transporte","Transporte_Marítimo","Marítimo_de_carga_y_pasajeros","Combustoleo",{"$f":"INDEX(Calculadora!$C$11:$H$60,MATCH('Ecuaciones y FE'!A159,Calculadora!$B$11:$B$60,0),MATCH(Calculadora!$H$11,Calculadora!$C$11:$H$11,0))","v":{"$error":"#N/A"}},"L",null,{"$f":"Combustibles!H76","v":41.864979152422862},"MJ/l",null,null,null,null,7.7399999999999998E-5,6.9999999999999998E-9,2.0000000000000001E-9,null,null,null,null,null,{"$f":"$F$159*($I$159)*$O$159","v":{"$error":"#N/A"}},{"$f":"$F$159*($I$159)*$P$159","v":{"$error":"#N/A"}},{"$f":"$F$159*($I$159)*$Q$159","v":{"$error":"#N/A"}},null,null,null,null,null,null,{"$f":"W159+(X159*AI3)+(Y159*$AI$4)","v":{"$error":"#N/A"}}]
["Td","TRANSPORTE TERRESTRE",null,null,null,null,null,null,null,null,null,null,null,null,"FE_CO2 (ton/MJ)","FE_CH4 (ton/MJ)","FE_N20 (ton/MJ)",null,null,null,null,null,"Emisiones CO2","Emisiones CH4","Emisiones N2O",null,null,null,null,null,null,"Emisiones CO2e"]
["Td01","Transporte","Transporte_Terrestre","Automoviles_Motocicletas_Montacargas","Diesel_A",{"$f":"INDEX(Calculadora!$C$11:$H$60,MATCH('Ecuaciones y FE'!A161,Calculadora!$B$11:$B$60,0),MATCH(Calculadora!$H$11,Calculadora!$C$11:$H$11,0))","v":{"$error":"#N/A"}},"L",null,{"$f":"Combustibles!H71","v":38.147701105685798},"(MJ/l)",null,null,null,null,7.4099999999999999E-5,3.9000000000000002E-9,3.9000000000000002E-9,null,null,null,null,null,{"$f":"$F161*($I161)*O161","v":{"$error":"#N/A"}},{"$f":"$F161*($I161)*P161","v":{"$error":"#N/A"}},{"$f":"$F161*($I161)*Q161","v":{"$error":"#N/A"}},null,null,null,null,null,null,{"$f":"W161+(X161*$AI$3)+(Y161*$AI$4)","v":{"$error":"#N/A"}}]
["Td02","Transporte","Transporte_Terrestre","Automoviles_Motocicletas_Montacargas","Gas Natural_A",{"$f":"INDEX(Calculadora!$C$11:$H$60,MATCH('Ecuaciones y FE'!A162,Calculadora!$B$11:$B$60,0),MATCH(Calculadora!$H$11,Calculadora!$C$11:$H$11,0))","v":{"$error":"#N/A"}},"m3",null,{"$f":"Combustibles!H72","v":33.542999999999999},"MJ/m3",null,null,null,null,5.6100000000000002E-5,9.2000000000000003E-8,3E-9,null,null,null,null,null,{"$f":"$F162*($I162)*O162","v":{"$error":"#N/A"}},{"$f":"$F162*($I162)*P162","v":{"$error":"#N/A"}},{"$f":"$F162*($I162)*Q162","v":{"$error":"#N/A"}},null,null,null,null,null,null,{"$f":"W162+(X162*$AI$3)+(Y162*$AI$4)","v":{"$error":"#N/A"}}]
["Td03","Transporte","Transporte_Terrestre","Automoviles_Motocicletas_Montacargas","Gas_licuado_A",{"$f":"INDEX(Calculadora!$C$11:$H$60,MATCH('Ecuaciones y FE'!A163,Calculadora!$B$11:$B$60,0),MATCH(Calculadora!$H$11,Calculadora!$C$11:$H$11,0))","v":{"$error":"#N/A"}},"L",null,{"$f":"Combustibles!H73","v":26.121583296275865},"(MJ/l)",null,null,null,null,6.3100000000000002E-5,6.1999999999999999E-8,2.0000000000000001E-10,null,null,null,null,null,{"$error":"#N/A"},{"$error":"#N/A"},{"$error":"#N/A"},null,null,null,null,null,null,{"$error":"#N/A"}]
["Td04","Transporte","Transporte_Terrestre","Automoviles_Motocicletas_Montacargas","Gasolina_A",{"$f":"INDEX(Calculadora!$C$11:$H$60,MATCH('Ecuaciones y FE'!A164,Calculadora!$B$11:$B$60,0),MATCH(Calculadora!$H$11,Calculadora!$C$11:$H$11,0))","v":{"$error":"#N/A"}},"L",null,{"$f":"Combustibles!H74","v":35.304706728147465},"(MJ/l)",null,null,null,null,6.9300000000000004E-5,2.4999999999999999E-8,8.0000000000000005E-9,null,null,null,null,null,{"$error":"#N/A"},{"$error":"#N/A"},{"$error":"#N/A"},null,null,null,null,null,null,{"$error":"#N/A"}]
["Td05","Transporte","Transporte_Terrestre","Camionetas_CamionesLigeros","Diesel_B",{"$f":"INDEX(Calculadora!$C$11:$H$60,MATCH('Ecuaciones y FE'!A165,Calculadora!$B$11:$B$60,0),MATCH(Calculadora!$H$11,Calculadora!$C$11:$H$11,0))","v":{"$error":"#N/A"}},"L",null,{"$f":"Combustibles!H71","v":38.147701105685798},"(MJ/l)",null,null,null,null,7.4099999999999999E-5,3.9000000000000002E-9,3.9000000000000002E-9,null,null,null,null,null,{"$error":"#N/A"},{"$error":"#N/A"},{"$error":"#N/A"},null,null,null,null,null,null,{"$error":"#N/A"}]
["Td06","Transporte","Transporte_Terrestre","Camionetas_CamionesLigeros","Gas Natural_B",{"$f":"INDEX(Calculadora!$C$11:$H$60,MATCH('Ecuaciones y FE'!A166,Calculadora!$B$11:$B$60,0),MATCH(Calculadora!$H$11,Calculadora!$C$11:$H$11,0))","v":{"$error":"#N/A"}},"m3",null,{"$f":"Combustibles!H72","v":33.542999999999999},"MJ/m3",null,null,null,null,5.6100000000000002E-5,9.2000000000000003E-8,3E-9,null,null,null,null,null,{"$error":"#N/A"},{"$error":"#N/A"},{"$error":"#N/A"},null,null,null,null,null,null,{"$error":"#N/A"}]
["Td07","Transporte","Transporte_Terrestre","Camionetas_CamionesLigeros","Gas_licuado_B",{"$f":"INDEX(Calculadora!$C$11:$H$60,MATCH('Ecuaciones y FE'!A167,Calculadora!$B$11:$B$60,0),MATCH(Calculadora!$H$11,Calculadora!$C$11:$H$11,0))","v":{"$error":"#N/A"}},"L",null,{"$f":"Combustibles!H73","v":26.121583296275865},"(MJ/l)",null,null,null,null,6.3100000000000002E-5,6.1999999999999999E-8,2.0000000000000001E-10,null,null,null,null,null,{"$error":"#N/A"},{"$error":"#N/A"},{"$error":"#N/A"},null,null,null,null,null,null,{"$error":"#N/A"}]
["Td08","Transporte","Transporte_Terrestre","Camionetas_CamionesLigeros","Gasolina_B",{"$f":"INDEX(Calculadora!$C$11:$H$60,MATCH('Ecuaciones y FE'!A168,Calculadora!$B$11:$B$60,0),MATCH(Calculadora!$H$11,Calculadora!$C$11:$H$11,0))","v":{"$error":"#N/A"}},"L",null,{"$f":"Combustibles!H74","v":35.304706728147465},"(MJ/l)",null,null,null,null,6.9300000000000004E-5,2.4999999999999999E-8,8.0000000000000005E-9,null,null,null,null,null,{"$error":"#N/A"},{"$error":"#N/A"},{"$error":"#N/A"},null,null,null,null,null,null,{"$error":"#N/A"}]
["Td09","Transporte","Transporte_Terrestre","Autobuses","Diesel_C",{"$f":"INDEX(Calculadora!$C$11:$H$60,MATCH('Ecuaciones y FE'!A169,Calculadora!$B$11:$B$60,0),MATCH(Calculadora!$H$11,Calculadora!$C$11:$H$11,0))","v":{"$error":"#N/A"}},"L",null,{"$f":"Combustibles!H71","v":38.147701105685798},"(MJ/l)",null,null,null,null,7.4099999999999999E-5,3.9000000000000002E-9,3.9000000000000002E-9,null,null,null,null,null,{"$error":"#N/A"},{"$error":"#N/A"},{"$error":"#N/A"},null,null,null,null,null,null,{"$error":"#N/A"}]
["Td10","Transporte","Transporte_Terrestre","Autobuses","Gas Natural_C",{"$f":"INDEX(Calculadora!$C$11:$H$60,MATCH('Ecuaciones y FE'!A170,Calculadora!$B$11:$B$60,0),MATCH(Calculadora!$H$11,Calculadora!$C$11:$H$11,0))","v":{"$error":"#N/A"}},"m3",null,{"$f":"Combustibles!H72","v":33.542999999999999},"MJ/m3",null,null,null,null,5.6100000000000002E-5,9.2000000000000003E-8,3E-9,null,null,null,null,null,{"$error":"#N/A"},{"$error":"#N/A"},{"$error":"#N/A"},null,null,null,null,null,null,{"$error":"#N/A"}]
["Td11","Transporte","Transporte_Terrestre","Autobuses","Gas_licuado_C",{"$f":"INDEX(Calculadora!$C$11:$H$60,MATCH('Ecuaciones y FE'!A171,Calculadora!$B$11:$B$60,0),MATCH(Calculadora!$H$11,Calculadora!$C$11:$H$11,0))","v":{"$error":"#N/A"}},"L",null,{"$f":"Combustibles!H73","v":26.121583296275865},"(MJ/l)",null,null,null,null,6.3100000000000002E-5,6.1999999999999999E-8,2.0000000000000001E-10,null,null,null,null,null,{"$error":"#N/A"},{"$error":"#N/A"},{"$error":"#N/A"},null,null,null,null,null,null,{"$error":"#N/A"}]
["Td12","Transporte","Transporte_Terrestre","Autobuses","Gasolina_C",{"$f":"INDEX(Calculadora!$C$11:$H$60,MATCH('Ecuaciones y FE'!A172,Calculadora!$B$11:$B$60,0),MATCH(Calculadora!$H$11,Calculadora!$C$11:$H$11,0))","v":{"$error":"#N/A"}},"L",null,{"$f":"Combustibles!H74","v":35.304706728147465},"(MJ/l)",null,null,null,null,6.9300000000000004E-5,2.4999999999999999E-8,8.0000000000000005E-9,null,null,null,null,null,{"$error":"#N/A"},{"$error":"#N/A"},{"$error":"#N/A"},null,null,null,null,null,null,{"$error":"#N/A"}]
["Td13","Transporte","Transporte_Terrestre","Camiones_Tractocamiones","Diesel_D",{"$f":"INDEX(Calculadora!$C$11:$H$60,MATCH('Ecuaciones y FE'!A173,Calculadora!$B$11:$B$60,0),MATCH(Calculadora!$H$11,Calculadora!$C$11:$H$11,0))","v":{"$error":"#N/A"}},"L",null,{"$f":"Combustibles!H71","v":38.147701105685798},"(MJ/l)",null,null,null,null,7.4099999999999999E-5,3.9000000000000002E-9,3.9000000000000002E-9,null,null,null,null,null,{"$error":"#N/A"},{"$error":"#N/A"},{"$error":"#N/A"},null,null,null,null,null,null,{"$error":"#N/A"}]
["Td14","Transporte","Transporte_Terrestre","Camiones_Tractocamiones","Gas Natural_D",{"$f":"INDEX(Calculadora!$C$11:$H$60,MATCH('Ecuaciones y FE'!A174,Calculadora!$B$11:$B$60,0),MATCH(Calculadora!$H$11,Calculadora!$C$11:$H$11,0))","v":{"$error":"#N/A"}},"m3",null,{"$f":"Combustibles!H72","v":33.542999999999999},"MJ/m3",null,null,null,null,5.6100000000000002E-5,9.2000000000000003E-8,3E-9,null,null,null,null,null,{"$error":"#N/A"},{"$error":"#N/A"},{"$error":"#N/A"},null,null,null,null,null,null,{"$error":"#N/A"}]
["Td15","Transporte","Transporte_Terrestre","Camiones_Tractocamiones","Gas_licuado_D",{"$f":"INDEX(Calculadora!$C$11:$H$60,MATCH('Ecuaciones y FE'!A175,Calculadora!$B$11:$B$60,0),MATCH(Calculadora!$H$11,Calculadora!$C$11:$H$11,0))","v":{"$error":"#N/A"}},"L",null,{"$f":"Combustibles!H73","v":26.121583296275865},"(MJ/l)",null,null,null,null,6.3100000000000002E-5,6.1999999999999999E-8,2.0000000000000001E-10,null,null,null,null,null,{"$error":"#N/A"},{"$error":"#N/A"},{"$error":"#N/A"},null,null,null,null,null,null,{"$error":"#N/A"}]
["Td16","Transporte","Transporte_Terrestre","Camiones_Tractocamiones","Gasolina_D",{"$f":"INDEX(Calculadora!$C$11:$H$60,MATCH('Ecuaciones y FE'!A176,Calculadora!$B$11:$B$60,0),MATCH(Calculadora!$H$11,Calculadora!$C$11:$H$11,0))","v":{"$error":"#N/A"}},"L",null,{"$f":"Combustibles!H74","v":35.304706728147465},"(MJ/l)",null,null,null,null,6.9300000000000004E-5,2.4999999999999999E-8,8.0000000000000005E-9,null,null,null,null,null,{"$error":"#N/A"},{"$error":"#N/A"},{"$error":"#N/A"},null,null,null,null,null,null,{"$error":"#N/A"}]
[]
["Ia","INDUSTRIA QUÍMICA","Subsector","Actividad","Producto","Cantidad producida","Unidades producción",null,null,null,null,null,null,null,"FE_CO2 (ton/MJ)","FE_CH4 (kg/MJ)","FE_N20 (ton/MJ)",null,null,null,null,null,"Emisiones CO2","Emisiones CH4","Emisiones N2O",null,null,null,null,null,null,"Emisiones CO2e"]
["Ia01","Industrial","Subsector industria química","Productos químicos básicos","Amoníaco",{"$f":"INDEX(Calculadora!$C$11:$H$60,MATCH('Ecuaciones y FE'!A179,Calculadora!$B$11:$B$60,0),MATCH(Calculadora!$H$11,Calculadora!$C$11:$H$11,0))","v":{"$error":"#N/A"}},"ton",null,null,null,null,null,null,null,3.2730000000000001,null,null,null,null,null,null,null,{"$f":"F179*O179","v":{"$error":"#N/A"}},0,0,null,null,null,null,null,null,{"$f":"$W$179","v":{"$error":"#N/A"}}]
["Ia02","Industrial","Subsector industria química","Productos químicos básicos","Ácido Nítrico",{"$f":"INDEX(Calculadora!$C$11:$H$60,MATCH('Ecuaciones y FE'!A180,Calculadora!$B$11:$B$60,0),MATCH(Calculadora!$H$11,Calculadora!$C$11:$H$11,0))","v":{"$error":"#N/A"}},"ton",null,null,null,null,null,null,null,null,null,{"$f":"6/1000","v":6.0000000000000001E-3},null,null,null,null,null,0,0,{"$f":"F180*Q180","v":{"$error":"#N/A"}},null,null,null,null,null,null,{"$f":"Y180*$AI$4","v":{"$error":"#N/A"}}]
["Ia03","Industrial","Subsector industria química","Productos químicos básicos","Ácido Adípico",{"$f":"INDEX(Calculadora!$C$11:$H$60,MATCH('Ecuaciones y FE'!A181,Calculadora!$B$11:$B$60,0),MATCH(Calculadora!$H$11,Calculadora!$C$11:$H$11,0))","v":{"$error":"#N/A"}},"ton",null,null,null,null,null,null,null,null,null,{"$f":"300/1000","v":0.3},null,null,null,null,null,0,0,{"$f":"F181*Q181","v":{"$error":"#N/A"}},null,null,null,null,null,null,{"$f":"Y181*$AI$4","v":{"$error":"#N/A"}}]
[null,null,null,null,null,"Producción carburos","Unidades Producción",null,null,null,null,null,null,null,"FE (ton C2O/ton carburo","FE (ton CH4/ton carburo",null,null,null,null,null,null,"Emisiones C2O","Emisiones CH4",null,null,null,null,null,null,null,"Emisiones CO2e"]
["Ia04","Industrial","Subsector industria química","Productos químicos básicos","Carburo de Silicio",{"$f":"INDEX(Calculadora!$C$11:$H$60,MATCH('Ecuaciones y FE'!A183,Calculadora!$B$11:$B$60,0),MATCH(Calculadora!$H$11,Calculadora!$C$11:$H$11,0))","v":{"$error":"#N/A"}},"ton",null,null,null,null,null,null,null,2.62,{"$f":"11.6/1000","v":1.1599999999999999E-2},null,null,null,null,null,null,{"$f":"F183*O183","v":{"$error":"#N/A"}},{"$f":"F183*P183","v":{"$error":"#N/A"}},0,null,null,null,null,null,null,{"$f":"(W183+(X183*AI3))","v":{"$error":"#N/A"}}]
["Ia05","Industrial","Subsector industria química","Productos químicos básicos","Carburo de Calcio",{"$f":"INDEX(Calculadora!$C$11:$H$60,MATCH('Ecuaciones y FE'!A184,Calculadora!$B$11:$B$60,0),MATCH(Calculadora!$H$11,Calculadora!$C$11:$H$11,0))","v":{"$error":"#N/A"}},"ton",null,null,null,null,null,null,null,1.0900000000000001," NA",null,null,null,null,null,null,{"$f":"F184*O184","v":{"$error":"#N/A"}},"NA",0,null,null,null,null,null,null,{"$f":"W184","v":{"$error":"#N/A"}}]
["Ia06","Industrial","Subsector industria química","Fabricación de resinas y hules sintéticos y de fibras químicas","Únicamente reporta consumo energético - Sector Todos",{"$f":"INDEX(Calculadora!$C$11:$H$60,MATCH('Ecuaciones y FE'!A185,Calculadora!$B$11:$B$60,0),MATCH(Calculadora!$H$11,Calculadora!$C$11:$H$11,0))","v":{"$error":"#N/A"}},"NA",null,null,null,null,null,null,null,null,null,null,null,null,null,null,null,null,null,null,null,null,null,null,null,null,0]
["Ia07","Industrial","Subsector industria química","Fabricación de fertilizantes, pesticidas y otros agroquímicos","Únicamente reporta consumo energético - Sector Todos",{"$f":"INDEX(Calculadora!$C$11:$H$60,MATCH('Ecuaciones y FE'!A186,Calculadora!$B$11:$B$60,0),MATCH(Calculadora!$H$11,Calculadora!$C$11:$H$11,0))","v":{"$error":"#N/A"}},"NA",null,null,null,null,null,null,null,null,null,null,null,null,null,null,null,null,null,null,null,null,null,null,null,null,0]
["Ia08","Industrial","Subsector industria química","Fabricación de productos farmacéuticos","Únicamente reporta consumo energético - Sector Todos",{"$f":"INDEX(Calculadora!$C$11:$H$60,MATCH('Ecuaciones y FE'!A187,Calculadora!$B$11:$B$60,0),MATCH(Calculadora!$H$11,Calculadora!$C$11:$H$11,0))","v":{"$error":"#N/A"}},"NA",null,null,null,null,null,null,null,null,null,null,null,null,null,null,null,null,null,null,null,null,null,null,null,null,0]
["Ia09","Industrial","Subsector industria química","Fabricación de pinturas, recubrimientos y adhesivos","Únicamente reporta consumo energético - Sector Todos",{"$f":"INDEX(Calculadora!$C$11:$H$60,MATCH('Ecuaciones y FE'!A188,Calculadora!$B$11:$B$60,0),MATCH(Calculadora!$H$11,Calculadora!$C$11:$H$11,0))","v":{"$error":"#N/A"}},"NA",null,null,null,null,null,null,null,null,null,null,null,null,null,null,null,null,null,null,null,null,null,null,null,null,0]
["Ia10","Industrial","Subsector industria química","Fabricación de jabones, limpiadores y preparaciones de tocador","Únicamente reporta consumo energético - Sector Todos",{"$f":"INDEX(Calculadora!$C$11:$H$60,MATCH('Ecuaciones y FE'!A189,Calculadora!$B$11:$B$60,0),MATCH(Calculadora!$H$11,Calculadora!$C$11:$H$11,0))","v":{"$error":"#N/A"}},"NA",null,null,null,null,null,null,null,null,null,null,null,null,null,null,null,null,null,null,null,null,null,null,null,null,0]
["Ia11","Industrial","Subsector industria química","Fabricación de productos de plástico","Únicamente reporta consumo energético - Sector Todos",{"$f":"INDEX(Calculadora!$C$11:$H$60,MATCH('Ecuaciones y FE'!A190,Calculadora!$B$11:$B$60,0),MATCH(Calculadora!$H$11,Calculadora!$C$11:$H$11,0))","v":{"$error":"#N/A"}},"NA",null,null,null,null,null,null,null,null,null,null,null,null,null,null,null,null,null,null,null,null,null,null,null,null,0]
["Ia12","Industrial","Subsector industria química","Fabricación de productos de hule","Únicamente reporta consumo energético - Sector Todos",{"$f":"INDEX(Calculadora!$C$11:$H$60,MATCH('Ecuaciones y FE'!A191,Calculadora!$B$11:$B$60,0),MATCH(Calculadora!$H$11,Calculadora!$C$11:$H$11,0))","v":{"$error":"#N/A"}},"NA",null,null,null,null,null,null,null,null,null,null,null,null,null,null,null,null,null,null,null,null,null,null,null,null,0]
["Ib","INDUSTRIA SIDERÚRGICA","Subsector industria siderúrgica","Actividad","Insumo","Producción","Unidades Producción",null,null,null,null,null,null,null,"FE (ton CO2/unidad)","FE (ton CH4/unidad)",null,null,null,null,null,null,"Emisiones C2O","Emisiones CH4",null,null,null,null,null,null,null,"Emisiones CO2e"]
["lb01","Industrial","Subsector industria siderúrgica","Industria básica del hierro y el acero","Carbón coquizable",{"$f":"INDEX(Calculadora!$C$11:$H$60,MATCH('Ecuaciones y FE'!A193,Calculadora!$B$11:$B$60,0),MATCH(Calculadora!$H$11,Calculadora!$C$11:$H$11,0))","v":{"$error":"#N/A"}},"tseca",null,null,null,null,null,null,null,3.0590000000000002,0,null,null,null,null,null,null,{"$f":"F193*O193","v":{"$error":"#N/A"}},{"$f":"F193*P193","v":{"$error":"#N/A"}},null,null,null,null,null,null,null,{"$f":"W193+(X193*$AI$3)","v":{"$error":"#N/A"}}]
["lb02","Industrial","Subsector industria siderúrgica","Industria básica del hierro y el acero","Carbón de inyección al Alto Horno",{"$f":"INDEX(Calculadora!$C$11:$H$60,MATCH('Ecuaciones y FE'!A194,Calculadora!$B$11:$B$60,0),MATCH(Calculadora!$H$11,Calculadora!$C$11:$H$11,0))","v":{"$error":"#N/A"}},"tseca",null,null,null,null,null,null,null,2.9550000000000001,0,null,null,null,null,null,null,{"$f":"F194*O194","v":{"$error":"#N/A"}},{"$f":"F194*P194","v":{"$error":"#N/A"}},null,null,null,null,null,null,null,{"$f":"W194+(X194*$AI$3)","v":{"$error":"#N/A"}}]
["lb03","Industrial","Subsector industria siderúrgica","Industria básica del hierro y el acero","Carbón a la Sintetizadora o al Horno Básico de oxígeno",{"$f":"INDEX(Calculadora!$C$11:$H$60,MATCH('Ecuaciones y FE'!A195,Calculadora!$B$11:$B$60,0),MATCH(Calculadora!$H$11,Calculadora!$C$11:$H$11,0))","v":{"$error":"#N/A"}},"tseca",null,null,null,null,null,null,null,2.7839999999999998,0,null,null,null,null,null,null,{"$error":"#N/A"},{"$error":"#N/A"},null,null,null,null,null,null,null,{"$error":"#N/A"}]
["lb04","Industrial","Subsector industria siderúrgica","Industria básica del hierro y el acero","Carbón para vapor",{"$f":"INDEX(Calculadora!$C$11:$H$60,MATCH('Ecuaciones y FE'!A196,Calculadora!$B$11:$B$60,0),MATCH(Calculadora!$H$11,Calculadora!$C$11:$H$11,0))","v":{"$error":"#N/A"}},"tseca",null,null,null,null,null,null,null,2.4609999999999999,0,null,null,null,null,null,null,{"$error":"#N/A"},{"$error":"#N/A"},null,null,null,null,null,null,null,{"$error":"#N/A"}]
["lb05","Industrial","Subsector industria siderúrgica","Industria básica del hierro y el acero","Carbón para el Horno de Arco Eléctrico",{"$f":"INDEX(Calculadora!$C$11:$H$60,MATCH('Ecuaciones y FE'!A197,Calculadora!$B$11:$B$60,0),MATCH(Calculadora!$H$11,Calculadora!$C$11:$H$11,0))","v":{"$error":"#N/A"}},"tseca",null,null,null,null,null,null,null,3.2570000000000001,0,null,null,null,null,null,null,{"$error":"#N/A"},{"$error":"#N/A"},null,null,null,null,null,null,null,{"$error":"#N/A"}]
["lb06","Industrial","Subsector industria siderúrgica","Industria básica del hierro y el acero","Carbón para el Horno de Reducción Directa",{"$f":"INDEX(Calculadora!$C$11:$H$60,MATCH('Ecuaciones y FE'!A198,Calculadora!$B$11:$B$60,0),MATCH(Calculadora!$H$11,Calculadora!$C$11:$H$11,0))","v":{"$error":"#N/A"}},"tseca",null,null,null,null,null,null,null,2.9550000000000001,0,null,null,null,null,null,null,{"$error":"#N/A"},{"$error":"#N/A"},null,null,null,null,null,null,null,{"$error":"#N/A"}]
["lb07","Industrial","Subsector industria siderúrgica","Industria básica del hierro y el acero","Coque_Siderurgia",{"$f":"INDEX(Calculadora!$C$11:$H$60,MATCH('Ecuaciones y FE'!A199,Calculadora!$B$11:$B$60,0),MATCH(Calculadora!$H$11,Calculadora!$C$11:$H$11,0))","v":{"$error":"#N/A"}},"tseca",null,null,null,null,null,null,null,3.2570000000000001,0,null,null,null,null,null,null,{"$error":"#N/A"},{"$error":"#N/A"},null,null,null,null,null,null,null,{"$error":"#N/A"}]
["lb08","Industrial","Subsector industria siderúrgica","Industria básica del hierro y el acero","Caliza",{"$f":"INDEX(Calculadora!$C$11:$H$60,MATCH('Ecuaciones y FE'!A200,Calculadora!$B$11:$B$60,0),MATCH(Calculadora!$H$11,Calculadora!$C$11:$H$11,0))","v":{"$error":"#N/A"}},"tseca",null,null,null,null,null,null,null,0.44,0,null,null,null,null,null,null,{"$error":"#N/A"},{"$error":"#N/A"},null,null,null,null,null,null,null,{"$error":"#N/A"}]
["lb09","Industrial","Subsector industria siderúrgica","Industria básica del hierro y el acero","Dolomita cruda",{"$f":"INDEX(Calculadora!$C$11:$H$60,MATCH('Ecuaciones y FE'!A201,Calculadora!$B$11:$B$60,0),MATCH(Calculadora!$H$11,Calculadora!$C$11:$H$11,0))","v":{"$error":"#N/A"}},"tseca",null,null,null,null,null,null,null,0.47099999999999997,0,null,null,null,null,null,null,{"$error":"#N/A"},{"$error":"#N/A"},null,null,null,null,null,null,null,{"$error":"#N/A"}]
["lb10","Industrial","Subsector industria siderúrgica","Industria básica del hierro y el acero","Electrodos del Horno de Arco Eléctrico o del Horno Básico de Oxígeno",{"$f":"INDEX(Calculadora!$C$11:$H$60,MATCH('Ecuaciones y FE'!A202,Calculadora!$B$11:$B$60,0),MATCH(Calculadora!$H$11,Calculadora!$C$11:$H$11,0))","v":{"$error":"#N/A"}},"t",null,null,null,null,null,null,null,3.6629999999999998,0,null,null,null,null,null,null,{"$error":"#N/A"},{"$error":"#N/A"},null,null,null,null,null,null,null,{"$error":"#N/A"}]
["lb11","Industrial","Subsector industria siderúrgica","Industria básica del hierro y el acero","Arrabio",{"$f":"INDEX(Calculadora!$C$11:$H$60,MATCH('Ecuaciones y FE'!A203,Calculadora!$B$11:$B$60,0),MATCH(Calculadora!$H$11,Calculadora!$C$11:$H$11,0))","v":{"$error":"#N/A"}},"t",null,null,null,null,null,null,null,0.17199999999999999,0,null,null,null,null,null,null,{"$error":"#N/A"},{"$error":"#N/A"},null,null,null,null,null,null,null,{"$error":"#N/A"}]
["lb12","Industrial","Subsector industria siderúrgica","Industria básica del hierro y el acero","Arrabio frío (Cold iron)",{"$f":"INDEX(Calculadora!$C$11:$H$60,MATCH('Ecuaciones y FE'!A204,Calculadora!$B$11:$B$60,0),MATCH(Calculadora!$H$11,Calculadora!$C$11:$H$11,0))","v":{"$error":"#N/A"}},"t",null,null,null,null,null,null,null,0.17199999999999999,0,null,null,null,null,null,null,{"$error":"#N/A"},{"$error":"#N/A"},null,null,null,null,null,null,null,{"$error":"#N/A"}]
["lb13","Industrial","Subsector industria siderúrgica","Industria básica del hierro y el acero","Fierro Esponja o Hierro de Reducción Directa Base Gas Natural",{"$f":"INDEX(Calculadora!$C$11:$H$60,MATCH('Ecuaciones y FE'!A205,Calculadora!$B$11:$B$60,0),MATCH(Calculadora!$H$11,Calculadora!$C$11:$H$11,0))","v":{"$error":"#N/A"}},"t",null,null,null,null,null,null,null,7.2999999999999995E-2,0,null,null,null,null,null,null,{"$error":"#N/A"},{"$error":"#N/A"},null,null,null,null,null,null,null,{"$error":"#N/A"}]
["lb14","Industrial","Subsector industria siderúrgica","Industria básica del hierro y el acero","Fierro Esponja o Hierro de Reducción Directa Base Carbón",{"$f":"INDEX(Calculadora!$C$11:$H$60,MATCH('Ecuaciones y FE'!A206,Calculadora!$B$11:$B$60,0),MATCH(Calculadora!$H$11,Calculadora!$C$11:$H$11,0))","v":{"$error":"#N/A"}},"t",null,null,null,null,null,null,null,7.2999999999999995E-2,0,null,null,null,null,null,null,{"$error":"#N/A"},{"$error":"#N/A"},null,null,null,null,null,null,null,{"$error":"#N/A"}]
["lb15","Industrial","Subsector industria siderúrgica","Industria básica del hierro y el acero","Ferroníquel",{"$f":"INDEX(Calculadora!$C$11:$H$60,MATCH('Ecuaciones y FE'!A207,Calculadora!$B$11:$B$60,0),MATCH(Calculadora!$H$11,Calculadora!$C$11:$H$11,0))","v":{"$error":"#N/A"}},"t",null,null,null,null,null,null,null,3.6999999999999998E-2,0,null,null,null,null,null,null,{"$error":"#N/A"},{"$error":"#N/A"},null,null,null,null,null,null,null,{"$error":"#N/A"}]
["lb16","Industrial","Subsector industria siderúrgica","Industria básica del hierro y el acero","Ferrocromo",{"$f":"INDEX(Calculadora!$C$11:$H$60,MATCH('Ecuaciones y FE'!A208,Calculadora!$B$11:$B$60,0),MATCH(Calculadora!$H$11,Calculadora!$C$11:$H$11,0))","v":{"$error":"#N/A"}},"t",null,null,null,null,null,null,null,0.27500000000000002,0,null,null,null,null,null,null,{"$error":"#N/A"},{"$error":"#N/A"},null,null,null,null,null,null,null,{"$error":"#N/A"}]
["lb17","Industrial","Subsector industria siderúrgica","Industria básica del hierro y el acero","Ferromolibdeno",{"$f":"INDEX(Calculadora!$C$11:$H$60,MATCH('Ecuaciones y FE'!A209,Calculadora!$B$11:$B$60,0),MATCH(Calculadora!$H$11,Calculadora!$C$11:$H$11,0))","v":{"$error":"#N/A"}},"t",null,null,null,null,null,null,null,1.7999999999999999E-2,0,null,null,null,null,null,null,{"$error":"#N/A"},{"$error":"#N/A"},null,null,null,null,null,null,null,{"$error":"#N/A"}]
["lb18","Industrial","Subsector industria siderúrgica","Industria básica del hierro y el acero","Gas de coquizadora_Siderurgia",{"$f":"INDEX(Calculadora!$C$11:$H$60,MATCH('Ecuaciones y FE'!A210,Calculadora!$B$11:$B$60,0),MATCH(Calculadora!$H$11,Calculadora!$C$11:$H$11,0))","v":{"$error":"#N/A"}},"1000m3",null,null,null,null,null,null,null,0.83599999999999997,0,null,null,null,null,null,null,{"$error":"#N/A"},{"$error":"#N/A"},null,null,null,null,null,null,null,{"$error":"#N/A"}]
["lb19","Industrial","Subsector industria siderúrgica","Industria básica del hierro y el acero","Gas de Alto Horno_Siderurgia",{"$f":"INDEX(Calculadora!$C$11:$H$60,MATCH('Ecuaciones y FE'!A211,Calculadora!$B$11:$B$60,0),MATCH(Calculadora!$H$11,Calculadora!$C$11:$H$11,0))","v":{"$error":"#N/A"}},"1000m3",null,null,null,null,null,null,null,0.89100000000000001,0,null,null,null,null,null,null,{"$error":"#N/A"},{"$error":"#N/A"},null,null,null,null,null,null,null,{"$error":"#N/A"}]
["lb20","Industrial","Subsector industria siderúrgica","Industria básica del hierro y el acero","Gas de Horno Básico de Oxígeno_Siderurgia",{"$f":"INDEX(Calculadora!$C$11:$H$60,MATCH('Ecuaciones y FE'!A212,Calculadora!$B$11:$B$60,0),MATCH(Calculadora!$H$11,Calculadora!$C$11:$H$11,0))","v":{"$error":"#N/A"}},"1000m3",null,null,null,null,null,null,null,1.512,0,null,null,null,null,null,null,{"$error":"#N/A"},{"$error":"#N/A"},null,null,null,null,null,null,null,{"$error":"#N/A"}]
["lb21","Industrial","Subsector industria siderúrgica","Industria básica del hierro y el acero","CO2 a uso externo",{"$f":"INDEX(Calculadora!$C$11:$H$60,MATCH('Ecuaciones y FE'!A213,Calculadora!$B$11:$B$60,0),MATCH(Calculadora!$H$11,Calculadora!$C$11:$H$11,0))","v":{"$error":"#N/A"}},"t",null,null,null,null,null,null,null,1,0,null,null,null,null,null,null,{"$error":"#N/A"},{"$error":"#N/A"},null,null,null,null,null,null,null,{"$error":"#N/A"}]
["lb22","Industrial","Subsector industria siderúrgica","Industria básica del hierro y el acero","Alquitrán_Siderurgia",{"$f":"INDEX(Calculadora!$C$11:$H$60,MATCH('Ecuaciones y FE'!A214,Calculadora!$B$11:$B$60,0),MATCH(Calculadora!$H$11,Calculadora!$C$11:$H$11,0))","v":{"$error":"#N/A"}},"t",null,null,null,null,null,null,null,3.3889999999999998,0,null,null,null,null,null,null,{"$error":"#N/A"},{"$error":"#N/A"},null,null,null,null,null,null,null,{"$error":"#N/A"}]
["lb23","Industrial","Subsector industria siderúrgica","Industria básica del hierro y el acero","Benzol",{"$f":"INDEX(Calculadora!$C$11:$H$60,MATCH('Ecuaciones y FE'!A215,Calculadora!$B$11:$B$60,0),MATCH(Calculadora!$H$11,Calculadora!$C$11:$H$11,0))","v":{"$error":"#N/A"}},"t",null,null,null,null,null,null,null,3.3820000000000001,0,null,null,null,null,null,null,{"$error":"#N/A"},{"$error":"#N/A"},null,null,null,null,null,null,null,{"$error":"#N/A"}]
["lb24","Industrial","Subsector industria siderúrgica","Industria básica del hierro y el acero","Combustóleo_Siderurgia",{"$f":"INDEX(Calculadora!$C$11:$H$60,MATCH('Ecuaciones y FE'!A216,Calculadora!$B$11:$B$60,0),MATCH(Calculadora!$H$11,Calculadora!$C$11:$H$11,0))","v":{"$error":"#N/A"}},"m3",null,null,null,null,null,null,null,2.907,0,null,null,null,null,null,null,{"$error":"#N/A"},{"$error":"#N/A"},null,null,null,null,null,null,null,{"$error":"#N/A"}]
["lb25","Industrial","Subsector industria siderúrgica","Industria básica del hierro y el acero","Diésel_Siderurgia",{"$f":"INDEX(Calculadora!$C$11:$H$60,MATCH('Ecuaciones y FE'!A217,Calculadora!$B$11:$B$60,0),MATCH(Calculadora!$H$11,Calculadora!$C$11:$H$11,0))","v":{"$error":"#N/A"}},"m3",null,null,null,null,null,null,null,2.601,0,null,null,null,null,null,null,{"$error":"#N/A"},{"$error":"#N/A"},null,null,null,null,null,null,null,{"$error":"#N/A"}]
["lb26","Industrial","Subsector industria siderúrgica","Industria básica del hierro y el acero","Keroseno_Siderurgia",{"$f":"INDEX(Calculadora!$C$11:$H$60,MATCH('Ecuaciones y FE'!A218,Calculadora!$B$11:$B$60,0),MATCH(Calculadora!$H$11,Calculadora!$C$11:$H$11,0))","v":{"$error":"#N/A"}},"m3",null,null,null,null,null,null,null,2.4809999999999999,0,null,null,null,null,null,null,{"$error":"#N/A"},{"$error":"#N/A"},null,null,null,null,null,null,null,{"$error":"#N/A"}]
["lb27","Industrial","Subsector industria siderúrgica","Industria básica del hierro y el acero","GLP_Siderurgia",{"$f":"INDEX(Calculadora!$C$11:$H$60,MATCH('Ecuaciones y FE'!A219,Calculadora!$B$11:$B$60,0),MATCH(Calculadora!$H$11,Calculadora!$C$11:$H$11,0))","v":{"$error":"#N/A"}},"t",null,null,null,null,null,null,null,2.9849999999999999,0,null,null,null,null,null,null,{"$error":"#N/A"},{"$error":"#N/A"},null,null,null,null,null,null,null,{"$error":"#N/A"}]
["lb28","Industrial","Subsector industria siderúrgica","Industria básica del hierro y el acero","Gas Natural_Siderurgia",{"$f":"INDEX(Calculadora!$C$11:$H$60,MATCH('Ecuaciones y FE'!A220,Calculadora!$B$11:$B$60,0),MATCH(Calculadora!$H$11,Calculadora!$C$11:$H$11,0))","v":{"$error":"#N/A"}},"1000m3",null,null,null,null,null,null,null,2.0139999999999998,0,null,null,null,null,null,null,{"$error":"#N/A"},{"$error":"#N/A"},null,null,null,null,null,null,null,{"$error":"#N/A"}]
[null,null,null,"Fabricación de productos de hierro y acero","Agente Reductor","Producción","t",null,null,null,null,null,null,null,"FE (ton CO2/ton producto)","FE (ton CH4/ton producto)",null,null,null,null,null,null,"Emisiones C2O","Emisiones CH4",null,null,null,null,null,null,null,"Emisiones C2Oe"]
["lb29","Industrial","Subsector industria siderúrgica","Establecimientos que producen ferroaleaciones","FeSi 65",{"$f":"INDEX(Calculadora!$C$11:$H$60,MATCH('Ecuaciones y FE'!A222,Calculadora!$B$11:$B$60,0),MATCH(Calculadora!$H$11,Calculadora!$C$11:$H$11,0))","v":{"$error":"#N/A"}},"t",null,null,null,null,null,null,null,0,{"$f":"1/1000","v":1E-3},null,null,null,null,null,null,{"$f":"F222*O222","v":{"$error":"#N/A"}},{"$f":"F222*P222","v":{"$error":"#N/A"}},null,null,null,null,null,null,null,{"$f":"W222+(X222*AI3)","v":{"$error":"#N/A"}},null,null,null,null,null,1,1.3]
["lb30","Industrial","Subsector industria siderúrgica","Establecimientos que producen ferroaleaciones","FeSi 75",{"$f":"INDEX(Calculadora!$C$11:$H$60,MATCH('Ecuaciones y FE'!A223,Calculadora!$B$11:$B$60,0),MATCH(Calculadora!$H$11,Calculadora!$C$11:$H$11,0))","v":{"$error":"#N/A"}},"t",null,null,null,null,null,null,null,0,{"$f":"1/1000","v":1E-3},null,null,null,null,null,null,{"$error":"#N/A"},{"$error":"#N/A"},null,null,null,null,null,null,null,{"$f":"W223+(X223*AI3)","v":{"$error":"#N/A"}},null,null,null,null,null,1,1.3]
["lb31","Industrial","Subsector industria siderúrgica","Establecimientos que producen ferroaleaciones","FeSi 90",{"$f":"INDEX(Calculadora!$C$11:$H$60,MATCH('Ecuaciones y FE'!A224,Calculadora!$B$11:$B$60,0),MATCH(Calculadora!$H$11,Calculadora!$C$11:$H$11,0))","v":{"$error":"#N/A"}},"t",null,null,null,null,null,null,null,0,{"$f":"1.1/1000","v":1.1000000000000001E-3},null,null,null,null,null,null,{"$error":"#N/A"},{"$error":"#N/A"},null,null,null,null,null,null,null,{"$f":"W224+(X224*AI3)","v":{"$error":"#N/A"}},null,null,null,null,null,1.1000000000000001,1.4]
["lb32","Industrial","Subsector industria siderúrgica","Establecimientos que producen ferroaleaciones","Metal-Si",{"$f":"INDEX(Calculadora!$C$11:$H$60,MATCH('Ecuaciones y FE'!A225,Calculadora!$B$11:$B$60,0),MATCH(Calculadora!$H$11,Calculadora!$C$11:$H$11,0))","v":{"$error":"#N/A"}},"t",null,null,null,null,null,null,null,0,{"$f":"1.2/1000","v":1.1999999999999999E-3},null,null,null,null,null,null,{"$error":"#N/A"},{"$error":"#N/A"},null,null,null,null,null,null,null,{"$f":"W225+(X225*AI3)","v":{"$error":"#N/A"}},null,null,null,null,null,1.2,1.5]
[]
["Ic","INDUSTRIA METALÚRGICA",null,null,null,"Producción","Unidades Producción",null,null,null,null,null,null,null,"FE (ton CO2/ton producto)",null,null,null,"FE CF4 (ton/ton producto)","FE C2F6 (ton/ton producto)",null,null,"Emisiones C2O",null,null,null,"Emisiones CF4 ","Emisiones C2F6",null,null,null,"Emisiones CO2e"]
["Ic1","Industrial","Subsector industria metalúrgica","Industria básica del aluminio","Ánodos precocidos - CWPB",{"$f":"INDEX(Calculadora!$C$11:$H$60,MATCH('Ecuaciones y FE'!A228,Calculadora!$B$11:$B$60,0),MATCH(Calculadora!$H$11,Calculadora!$C$11:$H$11,0))","v":{"$error":"#N/A"}},"ton",null,null,null,null,null,null,null,1.6,null,null,null,{"$f":"0.4/1000","v":4.0000000000000002E-4},{"$f":"0.04/1000","v":4.0000000000000003E-5},null,null,{"$f":"F228*O228","v":{"$error":"#N/A"}},null,null,null,{"$f":"F228*S228","v":{"$error":"#N/A"}},{"$f":"F228*T228","v":{"$error":"#N/A"}},null,null,null,{"$f":"W228+(AA228*$AI$5)+(AB228*$AI$6)","v":{"$error":"#N/A"}}]
["Ic2","Industrial","Subsector industria metalúrgica","Industria básica del aluminio","Ánodos precocidos - SWPB",{"$f":"INDEX(Calculadora!$C$11:$H$60,MATCH('Ecuaciones y FE'!A229,Calculadora!$B$11:$B$60,0),MATCH(Calculadora!$H$11,Calculadora!$C$11:$H$11,0))","v":{"$error":"#N/A"}},"ton",null,null,null,null,null,null,null,1.6,null,null,null,{"$f":"1.6/1000","v":1.6000000000000001E-3},{"$f":"0.4/1000","v":4.0000000000000002E-4},null,null,{"$f":"F229*O229","v":{"$error":"#N/A"}},null,null,null,{"$f":"F229*S229","v":{"$error":"#N/A"}},{"$f":"F229*T229","v":{"$error":"#N/A"}},null,null,null,{"$f":"W229+(AA229*$AI$5)+(AB229*$AI$6)","v":{"$error":"#N/A"}}]
["Ic3","Industrial","Subsector industria metalúrgica","Industria básica del aluminio","Søderberg - VSS",{"$f":"INDEX(Calculadora!$C$11:$H$60,MATCH('Ecuaciones y FE'!A230,Calculadora!$B$11:$B$60,0),MATCH(Calculadora!$H$11,Calculadora!$C$11:$H$11,0))","v":{"$error":"#N/A"}},"ton",null,null,null,null,null,null,null,1.7,null,null,null,{"$f":"0.8/1000","v":8.0000000000000004E-4},{"$f":"0.04/1000","v":4.0000000000000003E-5},null,null,{"$f":"F230*O230","v":{"$error":"#N/A"}},null,null,null,{"$f":"F230*S230","v":{"$error":"#N/A"}},{"$f":"F230*T230","v":{"$error":"#N/A"}},null,null,null,{"$f":"W230+(AA230*$AI$5)+(AB230*$AI$6)","v":{"$error":"#N/A"}}]
["Ic4","Industrial","Subsector industria metalúrgica","Industria básica del aluminio","Søderberg - HSS",{"$f":"INDEX(Calculadora!$C$11:$H$60,MATCH('Ecuaciones y FE'!A231,Calculadora!$B$11:$B$60,0),MATCH(Calculadora!$H$11,Calculadora!$C$11:$H$11,0))","v":{"$error":"#N/A"}},"ton",null,null,null,null,null,null,null,1.7,null,null,null,{"$f":"0.4/1000","v":4.0000000000000002E-4},{"$f":"0.03/1000","v":2.9999999999999997E-5},null,null,{"$f":"F231*O231","v":{"$error":"#N/A"}},null,null,null,{"$f":"F231*S231","v":{"$error":"#N/A"}},{"$f":"F231*T231","v":{"$error":"#N/A"}},null,null,null,{"$f":"W231+(AA231*$AI$5)+(AB231*$AI$6)","v":{"$error":"#N/A"}}]
["Ic7","Industrial","Subsector industria metalúrgica","Establecimientos que producen plomo","Producción en hornos\nImperial Smelt Furnace (ISF)",{"$f":"INDEX(Calculadora!$C$11:$H$60,MATCH('Ecuaciones y FE'!A232,Calculadora!$B$11:$B$60,0),MATCH(Calculadora!$H$11,Calculadora!$C$11:$H$11,0))","v":{"$error":"#N/A"}},"ton",null,null,null,null,null,null,null,0.59,null,null,null,null,null,null,null,{"$f":"F232*O232","v":{"$error":"#N/A"}},null,null,null,null,null,null,null,null,{"$f":"W232","v":{"$error":"#N/A"}}]
["Ic8","Industrial","Subsector industria metalúrgica","Establecimientos que producen plomo","Producción por fundición directa (DS)",{"$f":"INDEX(Calculadora!$C$11:$H$60,MATCH('Ecuaciones y FE'!A233,Calculadora!$B$11:$B$60,0),MATCH(Calculadora!$H$11,Calculadora!$C$11:$H$11,0))","v":{"$error":"#N/A"}},"ton",null,null,null,null,null,null,null,0.25,null,null,null,null,null,null,null,{"$f":"F233*O233","v":{"$error":"#N/A"}},null,null,null,null,null,null,null,null,{"$f":"W233","v":{"$error":"#N/A"}}]
["Ic9","Industrial","Subsector industria metalúrgica","Establecimientos que producen plomo","Por tratamiento de materias primas secundarias",{"$f":"INDEX(Calculadora!$C$11:$H$60,MATCH('Ecuaciones y FE'!A234,Calculadora!$B$11:$B$60,0),MATCH(Calculadora!$H$11,Calculadora!$C$11:$H$11,0))","v":{"$error":"#N/A"}},"ton",null,null,null,null,null,null,null,0.2,null,null,null,null,null,null,null,{"$error":"#N/A"},null,null,null,null,null,null,null,null,{"$f":"W234","v":{"$error":"#N/A"}}]
["Ic10","Industrial","Subsector industria metalúrgica","Establecimientos que producen zinc","Waelz Kiln",{"$f":"INDEX(Calculadora!$C$11:$H$60,MATCH('Ecuaciones y FE'!A235,Calculadora!$B$11:$B$60,0),MATCH(Calculadora!$H$11,Calculadora!$C$11:$H$11,0))","v":{"$error":"#N/A"}},"ton",null,null,null,null,null,null,null,3.66,null,null,null,null,null,null,null,{"$error":"#N/A"},null,null,null,null,null,null,null,null,{"$f":"W235","v":{"$error":"#N/A"}}]
["Ic11","Industrial","Subsector industria metalúrgica","Establecimientos que producen zinc","Pirometalúrgico (Imperial Smelting Furnace) ",{"$f":"INDEX(Calculadora!$C$11:$H$60,MATCH('Ecuaciones y FE'!A236,Calculadora!$B$11:$B$60,0),MATCH(Calculadora!$H$11,Calculadora!$C$11:$H$11,0))","v":{"$error":"#N/A"}},"ton",null,null,null,null,null,null,null,0.43,null,null,null,null,null,null,null,{"$error":"#N/A"},null,null,null,null,null,null,null,null,{"$f":"W236","v":{"$error":"#N/A"}}]
["Ic12","Industrial","Subsector industria metalúrgica","Establecimientos que producen magnesio","Dolomita",{"$f":"INDEX(Calculadora!$C$11:$H$60,MATCH('Ecuaciones y FE'!A237,Calculadora!$B$11:$B$60,0),MATCH(Calculadora!$H$11,Calculadora!$C$11:$H$11,0))","v":{"$error":"#N/A"}},"ton",null,null,null,null,null,null,null,5.13,null,null,null,null,null,null,null,{"$error":"#N/A"},null,null,null,null,null,null,null,null,{"$f":"W237+(AC237*$AI$6)","v":{"$error":"#N/A"}}]
["Ic13","Industrial","Subsector industria metalúrgica","Establecimientos que producen magnesio","Magnesita",{"$f":"INDEX(Calculadora!$C$11:$H$60,MATCH('Ecuaciones y FE'!A238,Calculadora!$B$11:$B$60,0),MATCH(Calculadora!$H$11,Calculadora!$C$11:$H$11,0))","v":{"$error":"#N/A"}},"ton",null,null,null,null,null,null,null,2.83,null,null,null,null,null,"FE (ton SF6/ton producto)",null,{"$error":"#N/A"},null,null,null,null,null,"Emisiones SF6",null,null,{"$f":"W238+(AC238*$AI$7)","v":{"$error":"#N/A"}}]
["Ic14","Industrial","Subsector industria metalúrgica","Establecimientos que producen magnesio","Todos los procesos de moldeo",{"$f":"INDEX(Calculadora!$C$11:$H$60,MATCH('Ecuaciones y FE'!A239,Calculadora!$B$11:$B$60,0),MATCH(Calculadora!$H$11,Calculadora!$C$11:$H$11,0))","v":{"$error":"#N/A"}},"ton",null,null,null,null,null,null,null,null,null,null,null,null,null,{"$f":"1/1000","v":1E-3},null,null,null,null,null,null,null,{"$f":"F239*U239","v":{"$error":"#N/A"}},null,null,{"$f":"(AC239*$AI$7)","v":{"$error":"#N/A"}}]
["Ic15","Industrial","Subsector industria metalúrgica","Moldeo por fundición de piezas metálicas","Ic15. Únicamente reporta consumo energético - Sector Todos",{"$f":"INDEX(Calculadora!$C$11:$H$60,MATCH('Ecuaciones y FE'!A240,Calculadora!$B$11:$B$60,0),MATCH(Calculadora!$H$11,Calculadora!$C$11:$H$11,0))","v":{"$error":"#N/A"}},"NA",null,null,null,null,null,null,null,null,null,null,null,null,null,null,null,null,null,null,null,null,null,null,null,null,0]
["Id","INDUSTRIA METAL-MECÁNICA","Subsector industria metal-mecánica","Actividad",null,"Producción","Unidades Producción"]
["Id1","Industrial","Subsector industria metal-mecánica","Fabricación de productos metálicos forjados y troquelados","Id1. Únicamente reporta consumo energético - Sector Todos",{"$f":"INDEX(Calculadora!$C$11:$H$60,MATCH('Ecuaciones y FE'!A242,Calculadora!$B$11:$B$60,0),MATCH(Calculadora!$H$11,Calculadora!$C$11:$H$11,0))","v":{"$error":"#N/A"}},"NA",null,null,null,null,null,null,null,null,null,null,null,null,null,null,null,null,null,null,null,null,null,null,null,null,0]
["Id2","Industrial","Subsector industria metal-mecánica","Fabricación de calderas, tanques y envases metálicos","Id2. Únicamente reporta consumo energético - Sector Todos",{"$f":"INDEX(Calculadora!$C$11:$H$60,MATCH('Ecuaciones y FE'!A243,Calculadora!$B$11:$B$60,0),MATCH(Calculadora!$H$11,Calculadora!$C$11:$H$11,0))","v":{"$error":"#N/A"}},"NA",null,null,null,null,null,null,null,null,null,null,null,null,null,null,null,null,null,null,null,null,null,null,null,null,0]
["Id3","Industrial","Subsector industria metal-mecánica","Fabricación de herrajes y cerraduras","Id3. Únicamente reporta consumo energético - Sector Todos",{"$f":"INDEX(Calculadora!$C$11:$H$60,MATCH('Ecuaciones y FE'!A244,Calculadora!$B$11:$B$60,0),MATCH(Calculadora!$H$11,Calculadora!$C$11:$H$11,0))","v":{"$error":"#N/A"}},"NA",null,null,null,null,null,null,null,null,null,null,null,null,null,null,null,null,null,null,null,null,null,null,null,null,0]
["Id4","Industrial","Subsector industria metal-mecánica","Maquinado de piezas metálicas y fabricación de tornillos","Id4. Únicamente reporta consumo energético - Sector Todos",{"$f":"INDEX(Calculadora!$C$11:$H$60,MATCH('Ecuaciones y FE'!A245,Calculadora!$B$11:$B$60,0),MATCH(Calculadora!$H$11,Calculadora!$C$11:$H$11,0))","v":{"$error":"#N/A"}},"NA",null,null,null,null,null,null,null,null,null,null,null,null,null,null,null,null,null,null,null,null,null,null,null,null,0]
["Id5","Industrial","Subsector industria metal-mecánica","Fabricación de otros productos metálicos","Id5. Únicamente reporta consumo energético - Sector Todos",{"$f":"INDEX(Calculadora!$C$11:$H$60,MATCH('Ecuaciones y FE'!A246,Calculadora!$B$11:$B$60,0),MATCH(Calculadora!$H$11,Calculadora!$C$11:$H$11,0))","v":{"$error":"#N/A"}},"NA",null,null,null,null,null,null,null,null,null,null,null,null,null,null,null,null,null,null,null,null,null,null,null,null,0]
["Id6","Industrial","Subsector industria metal-mecánica","Fabricación de maquinaria y equipo para el comercio y los servicios","Id6. Únicamente reporta consumo energético - Sector Todos",{"$f":"INDEX(Calculadora!$C$11:$H$60,MATCH('Ecuaciones y FE'!A247,Calculadora!$B$11:$B$60,0),MATCH(Calculadora!$H$11,Calculadora!$C$11:$H$11,0))","v":{"$error":"#N/A"}},"NA",null,null,null,null,null,null,null,null,null,null,null,null,null,null,null,null,null,null,null,null,null,null,null,null,0]
["Ie","INDUSTRIA MINERA",null,"Actividad","Producto","Producción","Unidades Producción",null,null,null,null,null,null,null,"FE (ton C2O/ton producto)",null,null,null,null,null,null,null,"Emisiones C2O",null,null,null,null,null,null,null,null,"Emisiones CO2e"]
["Ie1","Industrial","Subsector industria minera","Minería de minerales metálicos","Ie1. Únicamente reporta consumo energético - Sector Todos",{"$f":"INDEX(Calculadora!$C$11:$H$60,MATCH('Ecuaciones y FE'!A249,Calculadora!$B$11:$B$60,0),MATCH(Calculadora!$H$11,Calculadora!$C$11:$H$11,0))","v":{"$error":"#N/A"}},"NA",null,null,null,null,null,null,null,null,null,null,null,null,null,null,null,null,null,null,null,null,null,null,null,null,0]
[null,null,null,"Minería de minerales no metálicos"]
["Ie2","Industrial","Subsector industria minera","Establecimientos que producen carbonato de sodio (ceniza de sosa)","Trona",{"$f":"INDEX(Calculadora!$C$11:$H$60,MATCH('Ecuaciones y FE'!A251,Calculadora!$B$11:$B$60,0),MATCH(Calculadora!$H$11,Calculadora!$C$11:$H$11,0))","v":{"$error":"#N/A"}},"ton",null,null,null,null,null,null,null,9.7000000000000003E-2,null,null,null,null,null,null,null,{"$f":"F251*O251","v":{"$error":"#N/A"}},null,null,null,null,null,null,null,null,{"$f":"W251","v":{"$error":"#N/A"}}]
["Ie3","Industrial","Subsector industria minera","Establecimientos que producen carbonato de sodio (ceniza de sosa)","Ceniza de sosa",{"$f":"INDEX(Calculadora!$C$11:$H$60,MATCH('Ecuaciones y FE'!A252,Calculadora!$B$11:$B$60,0),MATCH(Calculadora!$H$11,Calculadora!$C$11:$H$11,0))","v":{"$error":"#N/A"}},"ton",null,null,null,null,null,null,null,0.13800000000000001,null,null,null,null,null,null,null,{"$f":"F252*O252","v":{"$error":"#N/A"}},null,null,null,null,null,null,null,null,{"$f":"W252","v":{"$error":"#N/A"}}]
["Ie4","Industrial","Subsector industria minera","Establecimientos que producen carbonato de calcio","Carbonato de calcio",{"$f":"INDEX(Calculadora!$C$11:$H$60,MATCH('Ecuaciones y FE'!A253,Calculadora!$B$11:$B$60,0),MATCH(Calculadora!$H$11,Calculadora!$C$11:$H$11,0))","v":{"$error":"#N/A"}},"ton",null,null,null,null,null,null,null,0.43970999999999999,null,null,null,null,null,null,null,{"$f":"F253*O253","v":{"$error":"#N/A"}},null,null,null,null,null,null,null,null,{"$f":"W253","v":{"$error":"#N/A"}}]
["Ie5","Industrial","Subsector industria minera","Establecimientos que producen carbonato de calcio","Magnesita I.Minera",{"$f":"INDEX(Calculadora!$C$11:$H$60,MATCH('Ecuaciones y FE'!A254,Calculadora!$B$11:$B$60,0),MATCH(Calculadora!$H$11,Calculadora!$C$11:$H$11,0))","v":{"$error":"#N/A"}},"ton",null,null,null,null,null,null,null,0.52197000000000005,null,null,null,null,null,null,null,{"$error":"#N/A"},null,null,null,null,null,null,null,null,{"$error":"#N/A"}]
["Ie6","Industrial","Subsector industria minera","Establecimientos que producen carbonato de calcio","Dolomita",{"$f":"INDEX(Calculadora!$C$11:$H$60,MATCH('Ecuaciones y FE'!A255,Calculadora!$B$11:$B$60,0),MATCH(Calculadora!$H$11,Calculadora!$C$11:$H$11,0))","v":{"$error":"#N/A"}},"ton",null,null,null,null,null,null,null,0.47732000000000002,null,null,null,null,null,null,null,{"$error":"#N/A"},null,null,null,null,null,null,null,null,{"$error":"#N/A"}]
["Ie7","Industrial","Subsector industria minera","Establecimientos que producen carbonato de calcio","Siderita",{"$f":"INDEX(Calculadora!$C$11:$H$60,MATCH('Ecuaciones y FE'!A256,Calculadora!$B$11:$B$60,0),MATCH(Calculadora!$H$11,Calculadora!$C$11:$H$11,0))","v":{"$error":"#N/A"}},"ton",null,null,null,null,null,null,null,0.37986999999999999,null,null,null,null,null,null,null,{"$error":"#N/A"},null,null,null,null,null,null,null,null,{"$error":"#N/A"}]
["Ie8","Industrial","Subsector industria minera","Establecimientos que producen carbonato de calcio","Ankerita (o espato)",{"$f":"INDEX(Calculadora!$C$11:$H$60,MATCH('Ecuaciones y FE'!A257,Calculadora!$B$11:$B$60,0),MATCH(Calculadora!$H$11,Calculadora!$C$11:$H$11,0))","v":{"$error":"#N/A"}},"ton",null,null,null,null,null,null,null,0.44196999999999997,null,null,null,null,null,null,null,{"$error":"#N/A"},null,null,null,null,null,null,null,null,{"$error":"#N/A"}]
["Ie9","Industrial","Subsector industria minera","Establecimientos que producen carbonato de calcio","Rhodochrosita",{"$f":"INDEX(Calculadora!$C$11:$H$60,MATCH('Ecuaciones y FE'!A258,Calculadora!$B$11:$B$60,0),MATCH(Calculadora!$H$11,Calculadora!$C$11:$H$11,0))","v":{"$error":"#N/A"}},"ton",null,null,null,null,null,null,null,0.38285999999999998,null,null,null,null,null,null,null,{"$error":"#N/A"},null,null,null,null,null,null,null,null,{"$error":"#N/A"}]
["Ie10","Industrial","Subsector industria minera","Establecimientos que producen carbonato de calcio","Carbonato de sodio o ceniza de sosa",{"$f":"INDEX(Calculadora!$C$11:$H$60,MATCH('Ecuaciones y FE'!A259,Calculadora!$B$11:$B$60,0),MATCH(Calculadora!$H$11,Calculadora!$C$11:$H$11,0))","v":{"$error":"#N/A"}},"ton",null,null,null,null,null,null,null,0.41492000000000001,null,null,null,null,null,null,null,{"$error":"#N/A"},null,null,null,null,null,null,null,null,{"$error":"#N/A"}]
["Ie11","Industrial","Subsector industria minera","Minería de carbón mineral","Ie11. Únicamente reporta consumo energético - Sector Todos",{"$f":"INDEX(Calculadora!$C$11:$H$60,MATCH('Ecuaciones y FE'!A260,Calculadora!$B$11:$B$60,0),MATCH(Calculadora!$H$11,Calculadora!$C$11:$H$11,0))","v":{"$error":"#N/A"}},"NA",null,null,null,null,null,null,null,null,null,null,null,null,null,null,null,null,null,null,null,null,null,null,null,null,0]
["Ie12","Industrial","Subsector industria minera","Servicios relacionados con minería","Ie12. Únicamente reporta consumo energético - Sector Todos",{"$f":"INDEX(Calculadora!$C$11:$H$60,MATCH('Ecuaciones y FE'!A261,Calculadora!$B$11:$B$60,0),MATCH(Calculadora!$H$11,Calculadora!$C$11:$H$11,0))","v":{"$error":"#N/A"}},"NA",null,null,null,null,null,null,null,null,null,null,null,null,null,null,null,null,null,null,null,null,null,null,null,null,0]
["If","INDUSTRIA AUTOMOTRIZ",null,"Actividad","Producto","Producción","Unidades Producción",null,null,null,null,null,null,null,null,null,null,null,null,null,null,null,null,null,null,null,null,null,null,null,null,"Emisiones CO2e"]
["If1","Industrial","Subsector industria automotriz y de otros medios de transporte","Fabricación de automóviles y camiones","If1. Únicamente reporta consumo energético - Sector Todos",{"$f":"INDEX(Calculadora!$C$11:$H$60,MATCH('Ecuaciones y FE'!A263,Calculadora!$B$11:$B$60,0),MATCH(Calculadora!$H$11,Calculadora!$C$11:$H$11,0))","v":{"$error":"#N/A"}},"NA",null,null,null,null,null,null,null,null,null,null,null,null,null,null,null,null,null,null,null,null,null,null,null,null,0]
["If2","Industrial","Subsector industria automotriz y de otros medios de transporte","Fabricación de carrocerías y remolques","If2. Únicamente reporta consumo energético - Sector Todos",{"$f":"INDEX(Calculadora!$C$11:$H$60,MATCH('Ecuaciones y FE'!A264,Calculadora!$B$11:$B$60,0),MATCH(Calculadora!$H$11,Calculadora!$C$11:$H$11,0))","v":{"$error":"#N/A"}},"NA",null,null,null,null,null,null,null,null,null,null,null,null,null,null,null,null,null,null,null,null,null,null,null,null,0]
["If3","Industrial","Subsector industria automotriz y de otros medios de transporte","Fabricación de partes para vehículos automotores","If3. Únicamente reporta consumo energético - Sector Todos",{"$f":"INDEX(Calculadora!$C$11:$H$60,MATCH('Ecuaciones y FE'!A265,Calculadora!$B$11:$B$60,0),MATCH(Calculadora!$H$11,Calculadora!$C$11:$H$11,0))","v":{"$error":"#N/A"}},"NA",null,null,null,null,null,null,null,null,null,null,null,null,null,null,null,null,null,null,null,null,null,null,null,null,0]
["If4","Industrial","Subsector industria automotriz y de otros medios de transporte","Fabricación de equipo aeroespacial","If4. Únicamente reporta consumo energético - Sector Todos",{"$f":"INDEX(Calculadora!$C$11:$H$60,MATCH('Ecuaciones y FE'!A266,Calculadora!$B$11:$B$60,0),MATCH(Calculadora!$H$11,Calculadora!$C$11:$H$11,0))","v":{"$error":"#N/A"}},"NA",null,null,null,null,null,null,null,null,null,null,null,null,null,null,null,null,null,null,null,null,null,null,null,null,0]
["If5","Industrial","Subsector industria automotriz y de otros medios de transporte","Fabricación de motores de combustión interna, turbinas y transmisiones","If5. Únicamente reporta consumo energético - Sector Todos",{"$f":"INDEX(Calculadora!$C$11:$H$60,MATCH('Ecuaciones y FE'!A267,Calculadora!$B$11:$B$60,0),MATCH(Calculadora!$H$11,Calculadora!$C$11:$H$11,0))","v":{"$error":"#N/A"}},"NA",null,null,null,null,null,null,null,null,null,null,null,null,null,null,null,null,null,null,null,null,null,null,null,null,0]
["Ig","INDUSTRIA DE LA CELULOSA Y EL PAPEL",null,"Actividad","Producto","Producción","Unidades Producción",null,null,null,null,null,null,null,null,null,null,null,null,null,null,null,null,null,null,null,null,null,null,null,null,"Emisiones CO2e"]
["Ig1","Industrial","Subsector industria de celulosa y papel","Fabricación de pulpa, papel y cartón","Ig1. Únicamente reporta consumo energético - Sector Todos",{"$f":"INDEX(Calculadora!$C$11:$H$60,MATCH('Ecuaciones y FE'!A269,Calculadora!$B$11:$B$60,0),MATCH(Calculadora!$H$11,Calculadora!$C$11:$H$11,0))","v":{"$error":"#N/A"}},"NA",null,null,null,null,null,null,null,null,null,null,null,null,null,null,null,null,null,null,null,null,null,null,null,null,0]
["Ig2","Industrial","Subsector industria de celulosa y papel","Fabricación de productos de cartón y papel","Ig2. Únicamente reporta consumo energético - Sector Todos",{"$f":"INDEX(Calculadora!$C$11:$H$60,MATCH('Ecuaciones y FE'!A270,Calculadora!$B$11:$B$60,0),MATCH(Calculadora!$H$11,Calculadora!$C$11:$H$11,0))","v":{"$error":"#N/A"}},"NA",null,null,null,null,null,null,null,null,null,null,null,null,null,null,null,null,null,null,null,null,null,null,null,null,0]
["Ih","INDUSTRIA DE LAS ARTES GRÁFICAS",null,"Actividad","Producto","Producción","Unidades Producción",null,null,null,null,null,null,null,null,null,null,null,null,null,null,null,null,null,null,null,null,null,null,null,null,"Emisiones CO2e"]
["Ih1","Industrial","Industria de las artes gráficas","Impresión de revistas, libros, periódicos, panfletos, promocionales, incluyendo la que se realice en talleres independientes que prestan ese servicio","Únicamente reporta consumo energético - Sector Todos",{"$f":"INDEX(Calculadora!$C$11:$H$60,MATCH('Ecuaciones y FE'!A272,Calculadora!$B$11:$B$60,0),MATCH(Calculadora!$H$11,Calculadora!$C$11:$H$11,0))","v":{"$error":"#N/A"}},"NA",null,null,null,null,null,null,null,null,null,null,null,null,null,null,null,null,null,null,null,null,null,null,null,null,0]
["Ih2","Industrial","Industria de las artes gráficas","Encuadernación de revistas, libros y toda clase de documentos","Únicamente reporta consumo energético - Sector Todos",{"$f":"INDEX(Calculadora!$C$11:$H$60,MATCH('Ecuaciones y FE'!A273,Calculadora!$B$11:$B$60,0),MATCH(Calculadora!$H$11,Calculadora!$C$11:$H$11,0))","v":{"$error":"#N/A"}},"NA",null,null,null,null,null,null,null,null,null,null,null,null,null,null,null,null,null,null,null,null,null,null,null,null,0]
["Ih3","Industrial","Industria de las artes gráficas","Impresión de textiles","Únicamente reporta consumo energético - Sector Todos",{"$f":"INDEX(Calculadora!$C$11:$H$60,MATCH('Ecuaciones y FE'!A274,Calculadora!$B$11:$B$60,0),MATCH(Calculadora!$H$11,Calculadora!$C$11:$H$11,0))","v":{"$error":"#N/A"}},"NA",null,null,null,null,null,null,null,null,null,null,null,null,null,null,null,null,null,null,null,null,null,null,null,null,0]
["Ih4","Industrial","Industria de las artes gráficas","Elaboración de placas, clichés y grabados","Únicamente reporta consumo energético - Sector Todos",{"$f":"INDEX(Calculadora!$C$11:$H$60,MATCH('Ecuaciones y FE'!A275,Calculadora!$B$11:$B$60,0),MATCH(Calculadora!$H$11,Calculadora!$C$11:$H$11,0))","v":{"$error":"#N/A"}},"NA",null,null,null,null,null,null,null,null,null,null,null,null,null,null,null,null,null,null,null,null,null,null,null,null,0]
["Ii","INDUSTRIA PETROQUÍMICA",null,"Actividad","Producto","Producción","Unidades Producción",null,null,null,null,null,null,null,"FE (ton C2O/ton producto)","FE (ton CH4/ton producto)",null,null,null,null,null,null,"Emisiones C2O","Emisiones CH4",null,null,null,null,null,null,null,"Emisiones CO2e"]
["Ii1","Industrial","Subsector de la industria petroquímica","Refinación del petróleo","Únicamente reporta consumo energético - Sector Todos",{"$f":"INDEX(Calculadora!$C$11:$H$60,MATCH('Ecuaciones y FE'!A277,Calculadora!$B$11:$B$60,0),MATCH(Calculadora!$H$11,Calculadora!$C$11:$H$11,0))","v":{"$error":"#N/A"}},"NA",null,null,null,null,null,null,null,"ND",null,"ND",null,"ND",null,null,null,null,null,null,null,null,null,null,null,null,0]
["Ii6","Industrial","Subsector de la industria petroquímica","Metanol","Reformado al vapor convencional, sin unida de reformado primaria (Proceso por defecto y Alimentación en gas natural por defecto)",{"$f":"INDEX(Calculadora!$C$11:$H$60,MATCH('Ecuaciones y FE'!A278,Calculadora!$B$11:$B$60,0),MATCH(Calculadora!$H$11,Calculadora!$C$11:$H$11,0))","v":{"$error":"#N/A"}},"ton",null,null,null,null,null,null,null,{"$f":"AVERAGE(AL278:AP278)","v":0.67},2.3E-3,null,null,null,null,null,null,{"$f":"$F278*O278","v":{"$error":"#N/A"}},{"$f":"$F278*P278","v":{"$error":"#N/A"}},null,null,null,null,null,null,null,{"$f":"W278+(X278*$AI$3)","v":{"$error":"#N/A"}},null,null,null,null,null,0.67," NA"," NA"," NA","NA "]
["Ii7","Industrial","Subsector de la industria petroquímica","Metanol","Reformado al vapor convencional, con unidad de reformado primaria",{"$f":"INDEX(Calculadora!$C$11:$H$60,MATCH('Ecuaciones y FE'!A279,Calculadora!$B$11:$B$60,0),MATCH(Calculadora!$H$11,Calculadora!$C$11:$H$11,0))","v":{"$error":"#N/A"}},"ton",null,null,null,null,null,null,null,0.497,2.3E-3,null,null,null,null,null,null,{"$f":"$F279*O279","v":{"$error":"#N/A"}},{"$f":"$F279*P279","v":{"$error":"#N/A"}},null,null,null,null,null,null,null,{"$f":"W279+(X279*$AI$3)","v":{"$error":"#N/A"}},null,null,null,null,null,0.497," NA"," NA"," NA","NA "]
["Ii8","Industrial","Subsector de la industria petroquímica","Metanol","Reformado al vapor convencional, proceso convencional de Lurgi",{"$f":"INDEX(Calculadora!$C$11:$H$60,MATCH('Ecuaciones y FE'!A280,Calculadora!$B$11:$B$60,0),MATCH(Calculadora!$H$11,Calculadora!$C$11:$H$11,0))","v":{"$error":"#N/A"}},"ton",null,null,null,null,null,null,null,0.32600000000000001,2.3E-3,null,null,null,null,null,null,{"$error":"#N/A"},{"$error":"#N/A"},null,null,null,null,null,null,null,{"$error":"#N/A"},null,null,null,null,null,0.38500000000000001,0.26700000000000002,"NA","NA","NA"]
["Ii9","Industrial","Subsector de la industria petroquímica","Metanol","Reformado al vapor convencional, proceso de baja presión de Lurgi",{"$f":"INDEX(Calculadora!$C$11:$H$60,MATCH('Ecuaciones y FE'!A281,Calculadora!$B$11:$B$60,0),MATCH(Calculadora!$H$11,Calculadora!$C$11:$H$11,0))","v":{"$error":"#N/A"}},"ton",null,null,null,null,null,null,null,0.26700000000000002,2.3E-3,null,null,null,null,null,null,{"$error":"#N/A"},{"$error":"#N/A"},null,null,null,null,null,null,null,{"$error":"#N/A"},null,null,null,null,null,0.26700000000000002,"NA ","NA","NA","NA"]
["Ii10","Industrial","Subsector de la industria petroquímica","Metanol","Reformado al vapor combinado, proceso combinado de Lurgi ",{"$f":"INDEX(Calculadora!$C$11:$H$60,MATCH('Ecuaciones y FE'!A282,Calculadora!$B$11:$B$60,0),MATCH(Calculadora!$H$11,Calculadora!$C$11:$H$11,0))","v":{"$error":"#N/A"}},"ton",null,null,null,null,null,null,null,0.39600000000000002,2.3E-3,null,null,null,null,null,null,{"$error":"#N/A"},{"$error":"#N/A"},null,null,null,null,null,null,null,{"$error":"#N/A"},null,null,null,null,null,0.39600000000000002,"NA ","NA","NA","NA"]
["Ii11","Industrial","Subsector de la industria petroquímica","Metanol","Reformado al vapor convencional, proceso Mega Metanol de Lurgi",{"$f":"INDEX(Calculadora!$C$11:$H$60,MATCH('Ecuaciones y FE'!A283,Calculadora!$B$11:$B$60,0),MATCH(Calculadora!$H$11,Calculadora!$C$11:$H$11,0))","v":{"$error":"#N/A"}},"ton",null,null,null,null,null,null,null,0.31,2.3E-3,null,null,null,null,null,null,{"$error":"#N/A"},{"$error":"#N/A"},null,null,null,null,null,null,null,{"$error":"#N/A"},null,null,null,null,null,0.31,"NA ","NA","NA","NA"]
["Ii12","Industrial","Subsector de la industria petroquímica","Metanol","Proceso de oxidación parcial",{"$f":"INDEX(Calculadora!$C$11:$H$60,MATCH('Ecuaciones y FE'!A284,Calculadora!$B$11:$B$60,0),MATCH(Calculadora!$H$11,Calculadora!$C$11:$H$11,0))","v":{"$error":"#N/A"}},"ton",null,null,null,null,null,null,null,3.8936666666666664,2.3E-3,null,null,null,null,null,null,{"$error":"#N/A"},{"$error":"#N/A"},null,null,null,null,null,null,null,{"$error":"#N/A"},null,null,null,null,null," NA","NA ",1.3759999999999999,5.2850000000000001,5.0199999999999996]
["Ii13","Industrial","Subsector de la industria petroquímica","Metanol","Reformado al vapor convencional con producción integrada de amoníaco",{"$f":"INDEX(Calculadora!$C$11:$H$60,MATCH('Ecuaciones y FE'!A285,Calculadora!$B$11:$B$60,0),MATCH(Calculadora!$H$11,Calculadora!$C$11:$H$11,0))","v":{"$error":"#N/A"}},"ton",null,null,null,null,null,null,null,1.02,2.3E-3,null,null,null,null,null,null,{"$error":"#N/A"},{"$error":"#N/A"},null,null,null,null,null,null,null,{"$error":"#N/A"},null,null,null,null,null,1.02," NA"," NA","NA "," NA"]
["Ii14","Industrial","Subsector de la industria petroquímica","Etileno","Etileno (Uso total del proceso y de la alimentación energética)",{"$f":"INDEX(Calculadora!$C$11:$H$60,MATCH('Ecuaciones y FE'!A286,Calculadora!$B$11:$B$60,0),MATCH(Calculadora!$H$11,Calculadora!$C$11:$H$11,0))","v":{"$error":"#N/A"}},"ton",null,null,null,null,null,null,null,{"$f":"AVERAGE(AL286:AQ286)","v":1.4683333333333335},{"$f":"AVERAGE(AR286:AV286)/1000","v":3.5999999999999999E-3},null,null,null,null,null,null,{"$error":"#N/A"},{"$error":"#N/A"},null,null,null,null,null,null,null,{"$error":"#N/A"},null,null,null,null,null,1.73,2.29,0.95,1.04,1.07,1.73,3,3,6,3,3]
["Ii15","Industrial","Subsector de la industria petroquímica","Etileno","Uso de la alimentación al proceso",{"$f":"INDEX(Calculadora!$C$11:$H$60,MATCH('Ecuaciones y FE'!A287,Calculadora!$B$11:$B$60,0),MATCH(Calculadora!$H$11,Calculadora!$C$11:$H$11,0))","v":{"$error":"#N/A"}},"ton",null,null,null,null,null,null,null,{"$f":"AVERAGE(AL287:AQ287)","v":1.4166666666666667},{"$f":"AVERAGE(AR287:AV287)/1000","v":3.5999999999999999E-3},null,null,null,null,null,null,{"$error":"#N/A"},{"$error":"#N/A"},null,null,null,null,null,null,null,{"$error":"#N/A"},null,null,null,null,null,1.73,2.17,0.76,1.04,1.07,1.73,3,3,6,3,3]
["Ii16","Industrial","Subsector de la industria petroquímica","Etileno","Uso de combustible complementario (alimentación energética)",{"$f":"INDEX(Calculadora!$C$11:$H$60,MATCH('Ecuaciones y FE'!A288,Calculadora!$B$11:$B$60,0),MATCH(Calculadora!$H$11,Calculadora!$C$11:$H$11,0))","v":{"$error":"#N/A"}},"ton",null,null,null,null,null,null,null,{"$f":"AVERAGE(AL288:AQ288)","v":5.1666666666666666E-2},{"$f":"AVERAGE(AR288:AV288)/1000","v":3.5999999999999999E-3},null,null,null,null,null,null,{"$error":"#N/A"},{"$error":"#N/A"},null,null,null,null,null,null,null,{"$error":"#N/A"},null,null,null,null,null,0,0.12,0.19,0,0,0,3,3,6,3,3]
["Ii17","Industrial","Subsector de la industria petroquímica","Dicloruro de etileno","Proceso de cloración directa",{"$f":"INDEX(Calculadora!$C$11:$H$60,MATCH('Ecuaciones y FE'!A289,Calculadora!$B$11:$B$60,0),MATCH(Calculadora!$H$11,Calculadora!$C$11:$H$11,0))","v":{"$error":"#N/A"}},"ton",null,null,null,null,null,null,null,0.191,{"$f":"0.0226/1000","v":2.2599999999999997E-5},null,null,null,null,null,null,{"$error":"#N/A"},{"$error":"#N/A"},null,null,null,null,null,null,null,{"$error":"#N/A"}]
["Ii18","Industrial","Subsector de la industria petroquímica","Dicloruro de etileno","Proceso de oxicloración",{"$f":"INDEX(Calculadora!$C$11:$H$60,MATCH('Ecuaciones y FE'!A290,Calculadora!$B$11:$B$60,0),MATCH(Calculadora!$H$11,Calculadora!$C$11:$H$11,0))","v":{"$error":"#N/A"}},"ton",null,null,null,null,null,null,null,0.20200000000000001,2.2599999999999997E-5,null,null,null,null,null,null,{"$error":"#N/A"},{"$error":"#N/A"},null,null,null,null,null,null,null,{"$error":"#N/A"}]
["Ii19","Industrial","Subsector de la industria petroquímica","Dicloruro de etileno","Proceso equilibrado [por defecto]",{"$f":"INDEX(Calculadora!$C$11:$H$60,MATCH('Ecuaciones y FE'!A291,Calculadora!$B$11:$B$60,0),MATCH(Calculadora!$H$11,Calculadora!$C$11:$H$11,0))","v":{"$error":"#N/A"}},"ton",null,null,null,null,null,null,null,0.19600000000000001,2.2599999999999997E-5,null,null,null,null,null,null,{"$error":"#N/A"},{"$error":"#N/A"},null,null,null,null,null,null,null,{"$error":"#N/A"}]
["Ii20","Industrial","Subsector de la industria petroquímica","Cloruro de vinilo","Proceso de cloración directa",{"$f":"INDEX(Calculadora!$C$11:$H$60,MATCH('Ecuaciones y FE'!A292,Calculadora!$B$11:$B$60,0),MATCH(Calculadora!$H$11,Calculadora!$C$11:$H$11,0))","v":{"$error":"#N/A"}},"ton",null,null,null,null,null,null,null,0.28599999999999998,2.2599999999999997E-5,null,null,null,null,null,null,{"$error":"#N/A"},{"$error":"#N/A"},null,null,null,null,null,null,null,{"$error":"#N/A"}]
["Ii21","Industrial","Subsector de la industria petroquímica","Cloruro de vinilo","Proceso de oxicloración",{"$f":"INDEX(Calculadora!$C$11:$H$60,MATCH('Ecuaciones y FE'!A293,Calculadora!$B$11:$B$60,0),MATCH(Calculadora!$H$11,Calculadora!$C$11:$H$11,0))","v":{"$error":"#N/A"}},"ton",null,null,null,null,null,null,null,0.30199999999999999,2.2599999999999997E-5,null,null,null,null,null,null,{"$error":"#N/A"},{"$error":"#N/A"},null,null,null,null,null,null,null,{"$error":"#N/A"}]
["Ii22","Industrial","Subsector de la industria petroquímica","Cloruro de vinilo","Proceso equilibrado [por defecto]",{"$f":"INDEX(Calculadora!$C$11:$H$60,MATCH('Ecuaciones y FE'!A294,Calculadora!$B$11:$B$60,0),MATCH(Calculadora!$H$11,Calculadora!$C$11:$H$11,0))","v":{"$error":"#N/A"}},"ton",null,null,null,null,null,null,null,0.29399999999999998,2.2599999999999997E-5,null,null,null,null,null,null,{"$error":"#N/A"},{"$error":"#N/A"},null,null,null,null,null,null,null,{"$error":"#N/A"}]
["Ii23","Industrial","Subsector de la industria petroquímica","Acrilonitrilo","Productos secundarios quemados para recuperación de energía y/o quemados en la antorcha (por defecto)",{"$f":"INDEX(Calculadora!$C$11:$H$60,MATCH('Ecuaciones y FE'!A295,Calculadora!$B$11:$B$60,0),MATCH(Calculadora!$H$11,Calculadora!$C$11:$H$11,0))","v":{"$error":"#N/A"}},"ton",null,null,null,null,null,null,null,1,1.8000000000000001E-4,null,null,null,null,null,null,{"$error":"#N/A"},{"$error":"#N/A"},null,null,null,null,null,null,null,{"$error":"#N/A"}]
["Ii24","Industrial","Subsector de la industria petroquímica","Acrilonitrilo","Acetonitrilo quemado para recuperación de energía y/o quemado en antorcha",{"$f":"INDEX(Calculadora!$C$11:$H$60,MATCH('Ecuaciones y FE'!A296,Calculadora!$B$11:$B$60,0),MATCH(Calculadora!$H$11,Calculadora!$C$11:$H$11,0))","v":{"$error":"#N/A"}},"ton",null,null,null,null,null,null,null,0.83,1.8000000000000001E-4,null,null,null,null,null,null,{"$error":"#N/A"},{"$error":"#N/A"},null,null,null,null,null,null,null,{"$error":"#N/A"}]
["Ii25","Industrial","Subsector de la industria petroquímica","Acrilonitrilo","Acetonitrilo y cianuro de hidrógeno recuperado como producto",{"$f":"INDEX(Calculadora!$C$11:$H$60,MATCH('Ecuaciones y FE'!A297,Calculadora!$B$11:$B$60,0),MATCH(Calculadora!$H$11,Calculadora!$C$11:$H$11,0))","v":{"$error":"#N/A"}},"ton",null,null,null,null,null,null,null,0.79,1.8000000000000001E-4,null,null,null,null,null,null,{"$error":"#N/A"},{"$error":"#N/A"},null,null,null,null,null,null,null,{"$error":"#N/A"}]
["Ii26","Industrial","Subsector de la industria petroquímica","Óxido de etileno","Proceso por aire (proceso por defecto)",{"$f":"INDEX(Calculadora!$C$11:$H$60,MATCH('Ecuaciones y FE'!A298,Calculadora!$B$11:$B$60,0),MATCH(Calculadora!$H$11,Calculadora!$C$11:$H$11,0))","v":{"$error":"#N/A"}},"ton",null,null,null,null,null,null,null,0.86299999999999999,{"$f":"AVERAGE(AL298:AM298)/1000","v":1.2900000000000001E-3},null,null,null,null,null,null,{"$error":"#N/A"},{"$error":"#N/A"},null,null,null,null,null,null,null,{"$error":"#N/A"},null,null,null,null,null,1.79,0.79]
["Ii27","Industrial","Subsector de la industria petroquímica","Óxido de etileno","Proceso por oxígeno",{"$f":"INDEX(Calculadora!$C$11:$H$60,MATCH('Ecuaciones y FE'!A299,Calculadora!$B$11:$B$60,0),MATCH(Calculadora!$H$11,Calculadora!$C$11:$H$11,0))","v":{"$error":"#N/A"}},"ton",null,null,null,null,null,null,null,0.66300000000000003,{"$f":"AVERAGE(AL299:AM299)/1000","v":1.2900000000000001E-3},null,null,null,null,null,null,{"$error":"#N/A"},{"$error":"#N/A"},null,null,null,null,null,null,null,{"$error":"#N/A"},null,null,null,null,null,1.79,0.79]
["Ii28","Industrial","Subsector de la industria petroquímica","Establecimientos que producen negro de humo","Proceso del negro de horno (proceso por defecto)",{"$f":"INDEX(Calculadora!$C$11:$H$60,MATCH('Ecuaciones y FE'!A300,Calculadora!$B$11:$B$60,0),MATCH(Calculadora!$H$11,Calculadora!$C$11:$H$11,0))","v":{"$error":"#N/A"}},"ton",null,null,null,null,null,null,null,2.62,0.06,null,null,null,null,null,null,{"$f":"F300*O300","v":{"$error":"#N/A"}},{"$f":"F300*P300","v":{"$error":"#N/A"}},null,null,null,null,null,null,null,{"$f":"W300+(X300*AI3)","v":{"$error":"#N/A"}},null,null,null,null,null,1.96,0.66,2.62,1.79,0.79]
["Ii29","Industrial","Subsector de la industria petroquímica","Establecimientos que producen negro de humo","Proceso del negro térmico",{"$f":"INDEX(Calculadora!$C$11:$H$60,MATCH('Ecuaciones y FE'!A301,Calculadora!$B$11:$B$60,0),MATCH(Calculadora!$H$11,Calculadora!$C$11:$H$11,0))","v":{"$error":"#N/A"}},"ton",null,null,null,null,null,null,null,5.25,0.06,null,null,null,null,null,null,{"$f":"F301*O301","v":{"$error":"#N/A"}},{"$f":"F301*P301","v":{"$error":"#N/A"}},null,null,null,null,null,null,null,{"$f":"W301+(X301*AI3)","v":{"$error":"#N/A"}},null,null,null,null,null,4.59,0.66,5.25,1.79,0.79]
["Ii30","Industrial","Subsector de la industria petroquímica","Establecimientos que producen negro de humo","Proceso del negro de acetileno",{"$f":"INDEX(Calculadora!$C$11:$H$60,MATCH('Ecuaciones y FE'!A302,Calculadora!$B$11:$B$60,0),MATCH(Calculadora!$H$11,Calculadora!$C$11:$H$11,0))","v":{"$error":"#N/A"}},"ton",null,null,null,null,null,null,null,0.78,0.06,null,null,null,null,null,null,{"$f":"F302*O302","v":{"$error":"#N/A"}},{"$f":"F302*P302","v":{"$error":"#N/A"}},null,null,null,null,null,null,null,{"$f":"W302+(X302*AI3)","v":{"$error":"#N/A"}},null,null,null,null,null,0.12,0.66,0.78,1.79,0.79]
["Ii31","Industrial","Subsector de la industria petroquímica","Establecimientos que producen dióxido de titanio, ya sea rutilo sintético o rutilo dióxido de titanio","Rutilo sintético",{"$f":"INDEX(Calculadora!$C$11:$H$60,MATCH('Ecuaciones y FE'!A303,Calculadora!$B$11:$B$60,0),MATCH(Calculadora!$H$11,Calculadora!$C$11:$H$11,0))","v":{"$error":"#N/A"}},"ton",null,null,null,null,null,null,null,1.43,null,null,null,null,null,null,null,{"$f":"F303*O303","v":{"$error":"#N/A"}},null,null,null,null,null,null,null,null,{"$f":"W303","v":{"$error":"#N/A"}}]
["Ii32","Industrial","Subsector de la industria petroquímica","Establecimientos que producen dióxido de titanio, ya sea rutilo sintético o rutilo dióxido de titanio","Rutilo dióxido de titanio (vía del cloruro)",{"$f":"INDEX(Calculadora!$C$11:$H$60,MATCH('Ecuaciones y FE'!A304,Calculadora!$B$11:$B$60,0),MATCH(Calculadora!$H$11,Calculadora!$C$11:$H$11,0))","v":{"$error":"#N/A"}},"ton",null,null,null,null,null,null,null,1.34,null,"FE (ton N2O/ton producto)",null,null,null,null,null,{"$f":"F304*O304","v":{"$error":"#N/A"}},null,"Emisiones N2O",null,null,null,null,null,null,{"$f":"W304","v":{"$error":"#N/A"}}]
["Ii33","Industrial","Subsector de la industria petroquímica","Establecimientos que producen caprolactama, glioxal o ácido glioxílico","Caprolactama",{"$f":"INDEX(Calculadora!$C$11:$H$60,MATCH('Ecuaciones y FE'!A305,Calculadora!$B$11:$B$60,0),MATCH(Calculadora!$H$11,Calculadora!$C$11:$H$11,0))","v":{"$error":"#N/A"}},"ton",null,null,null,null,null,null,null,null,null,{"$f":"9/1000","v":8.9999999999999993E-3},null,null,null,null,null,null,null,{"$f":"F305*Q305","v":{"$error":"#N/A"}},null,null,null,null,null,null,{"$f":"(Y305*$AI$4)","v":{"$error":"#N/A"}}]
["Ii34","Industrial","Subsector de la industria petroquímica","Establecimientos que producen caprolactama, glioxal o ácido glioxílico","Glioxal ",{"$f":"INDEX(Calculadora!$C$11:$H$60,MATCH('Ecuaciones y FE'!A306,Calculadora!$B$11:$B$60,0),MATCH(Calculadora!$H$11,Calculadora!$C$11:$H$11,0))","v":{"$error":"#N/A"}},"ton",null,null,null,null,null,null,null,null,null,{"$f":"100/1000","v":0.1},null,null,null,null,null,null,null,{"$f":"F306*Q306","v":{"$error":"#N/A"}},null,null,null,null,null,null,{"$f":"(Y306*$AI$4)","v":{"$error":"#N/A"}}]
["Ii35","Industrial","Subsector de la industria petroquímica","Establecimientos que producen caprolactama, glioxal o ácido glioxílico","Ácido glioxílico",{"$f":"INDEX(Calculadora!$C$11:$H$60,MATCH('Ecuaciones y FE'!A307,Calculadora!$B$11:$B$60,0),MATCH(Calculadora!$H$11,Calculadora!$C$11:$H$11,0))","v":{"$error":"#N/A"}},"ton",null,null,null,null,null,null,null,null,null,{"$f":"20/1000","v":0.02},null,null,null,null,null,null,null,{"$f":"F307*Q307","v":{"$error":"#N/A"}},null,null,null,null,null,null,{"$f":"(Y307*$AI$4)","v":{"$error":"#N/A"}}]
["Ii2","Industrial","Subsector de la industria petroquímica","Distribución de productos refinados","Gasolina",{"$f":"INDEX(Calculadora!$C$11:$H$60,MATCH('Ecuaciones y FE'!A308,Calculadora!$B$11:$B$60,0),MATCH(Calculadora!$H$11,Calculadora!$C$11:$H$11,0))","v":{"$error":"#N/A"}},"103 m3 de producto transportado",null,null,null,null,null,null,null,"NA","NA","NA",null,null,null,null,null,null,null,null,null,null,null,null,null,null,0]
["Ii3","Industrial","Subsector de la industria petroquímica","Distribución de productos refinados","Diesel",{"$f":"INDEX(Calculadora!$C$11:$H$60,MATCH('Ecuaciones y FE'!A309,Calculadora!$B$11:$B$60,0),MATCH(Calculadora!$H$11,Calculadora!$C$11:$H$11,0))","v":{"$error":"#N/A"}},"103 m3 de producto transportado",null,null,null,null,null,null,null,"NA","NA","NA",null,null,null,null,null,null,null,null,null,null,null,null,null,null,0]
["Ii4","Industrial","Subsector de la industria petroquímica","Distribución de productos refinados","Combustible para la aviación",{"$f":"INDEX(Calculadora!$C$11:$H$60,MATCH('Ecuaciones y FE'!A310,Calculadora!$B$11:$B$60,0),MATCH(Calculadora!$H$11,Calculadora!$C$11:$H$11,0))","v":{"$error":"#N/A"}},"103 m3 de producto transportado",null,null,null,null,null,null,null,"NA","NA","NA",null,null,null,null,null,null,null,null,null,null,null,null,null,null,0]
["Ii5","Industrial","Subsector de la industria petroquímica","Distribución de productos refinados","Queroseno para motor a reacción",{"$f":"INDEX(Calculadora!$C$11:$H$60,MATCH('Ecuaciones y FE'!A311,Calculadora!$B$11:$B$60,0),MATCH(Calculadora!$H$11,Calculadora!$C$11:$H$11,0))","v":{"$error":"#N/A"}},"103 m3 de producto transportado",null,null,null,null,null,null,null,"NA","NA","NA",null,null,null,null,null,null,null,null,null,null,null,null,null,null,0]
["IJ","INDUSTRIA CEMENTERA",null,"Actividad","Producto","Producción","Unidades Producción",null,null,null,null,null,null,null,"FE (ton C2O/ton producto)",null,null,null,null,null,null,null,"Emisiones C2O",null,null,null,null,null,null,null,null,"Emisiones CO2e"]
["Ij1","Industrial","Subsector industria cementera y calera","Establecimientos que producen cemento y Conversión de materia prima en clinker","Clínker",{"$f":"INDEX(Calculadora!$C$11:$H$60,MATCH('Ecuaciones y FE'!A313,Calculadora!$B$11:$B$60,0),MATCH(Calculadora!$H$11,Calculadora!$C$11:$H$11,0))","v":{"$error":"#N/A"}},"ton producidas - compras de clínker + ventas de clínker",null,null,null,null,null,null,null,0.53600000000000003,null,null,null,null,null,null,null,{"$f":"O313*F313","v":{"$error":"#N/A"}},null,null,null,null,null,null,null,null,{"$f":"W313","v":{"$error":"#N/A"}}]
["Ij2","Industrial","Subsector industria cementera y calera","Producción de cal","Cal con fuerte proporción de calcio",{"$f":"INDEX(Calculadora!$C$11:$H$60,MATCH('Ecuaciones y FE'!A314,Calculadora!$B$11:$B$60,0),MATCH(Calculadora!$H$11,Calculadora!$C$11:$H$11,0))","v":{"$error":"#N/A"}},"ton",null,null,null,null,null,null,null,0.75,null,null,null,null,null,null,null,{"$f":"O314*F314","v":{"$error":"#N/A"}},null,null,null,null,null,null,null,null,{"$f":"W314","v":{"$error":"#N/A"}}]
["Ij3","Industrial","Subsector industria cementera y calera","Producción de cal","Cal de dolomita",{"$f":"INDEX(Calculadora!$C$11:$H$60,MATCH('Ecuaciones y FE'!A315,Calculadora!$B$11:$B$60,0),MATCH(Calculadora!$H$11,Calculadora!$C$11:$H$11,0))","v":{"$error":"#N/A"}},"ton",null,null,null,null,null,null,null,0.77,null,null,null,null,null,null,null,{"$f":"O315*F315","v":{"$error":"#N/A"}},null,null,null,null,null,null,null,null,{"$f":"W315","v":{"$error":"#N/A"}}]
["Ij4","Industrial","Subsector industria cementera y calera","Producción de cal","Cal hidráulica",{"$f":"INDEX(Calculadora!$C$11:$H$60,MATCH('Ecuaciones y FE'!A316,Calculadora!$B$11:$B$60,0),MATCH(Calculadora!$H$11,Calculadora!$C$11:$H$11,0))","v":{"$error":"#N/A"}},"ton",null,null,null,null,null,null,null,0.59,null,null,null,null,null,null,null,{"$f":"O316*F316","v":{"$error":"#N/A"}},null,null,null,null,null,null,null,null,{"$f":"W316","v":{"$error":"#N/A"}}]
["Ik","INDUSTRIA DEL VIDRIO",null,"Actividad","Producto","Producción","Unidades Producción",null,null,null,null,null,null,null,"FE vidrio \n(ton CO2/ton vidrio)\n(ton CO2/MWh)",null,null,null,null,null,null,null,"Emisiones C2O",null,null,null,null,null,null,null,null,"Emisiones CO2e"]
["Ik1","Industrial","Subsector industria del vidrio","Fabricación de vidrio y productos de vidrio","Vidrio",{"$f":"INDEX(Calculadora!$C$11:$H$60,MATCH('Ecuaciones y FE'!A318,Calculadora!$B$11:$B$60,0),MATCH(Calculadora!$H$11,Calculadora!$C$11:$H$11,0))","v":{"$error":"#N/A"}},"ton",null,null,null,null,null,null,null,0.2,null,null,null,null,null,null,null,{"$f":"O318*F318*(1-0.5)","v":{"$error":"#N/A"}},null,null,null,null,null,null,null,null,{"$f":"W318","v":{"$error":"#N/A"}}]
["Ik2","Industrial","Subsector industria del vidrio","Productos_a_base_arcillas_y_minerales_refractarios","Ik2. Únicamente reporta consumo energético - Sector Todos",{"$f":"INDEX(Calculadora!$C$11:$H$60,MATCH('Ecuaciones y FE'!A319,Calculadora!$B$11:$B$60,0),MATCH(Calculadora!$H$11,Calculadora!$C$11:$H$11,0))","v":{"$error":"#N/A"}},"NA",null,null,null,null,null,null,null,null,null,null,null,null,null,null,null,null,null,null,null,null,null,null,null,null,0]
["Il","INDUSTRIA ELECTRÓNICA",null,"Actividad","Producto","Capacidad de producción","Unidades",null,null,null,null,null,null,null,null,null,null,null,null,null,null,null,null,null,null,null,null,null,null,null,null,"Emisiones CO2e"]
["Il1","Industrial","Subsector industria electrónica","Fabricación de equipo de comunicación","Únicamente reporta consumo energético - Sector Todos",{"$f":"INDEX(Calculadora!$C$11:$H$60,MATCH('Ecuaciones y FE'!A321,Calculadora!$B$11:$B$60,0),MATCH(Calculadora!$H$11,Calculadora!$C$11:$H$11,0))","v":{"$error":"#N/A"}},"m2 x 109",null,null,null,null,null,null,null,null,null,null,"FE CF4","FE C2F6","FE SF6","FE CHF3","FE C3F8","FE NF3","FE C6F14",null,null,null,null,null,null,null,0,null,null,"Cu","Cd","Cpv","d",null,null,"CHF3","C3F8","NF3","C6F14"]
["Il3","Industrial","Subsector industria electrónica","Fabricación de componentes electrónicos","Semiconductores",{"$f":"INDEX(Calculadora!$C$11:$H$60,MATCH('Ecuaciones y FE'!A322,Calculadora!$B$11:$B$60,0),MATCH(Calculadora!$H$11,Calculadora!$C$11:$H$11,0))","v":{"$error":"#N/A"}},"m2 x 109",null,null,null,null,null,null,null,null,null,null,0.9,1,0.2,0.04,0.05,0.04,null,null,null,null,null,null,null,null,{"$f":"(($F$322*$R$322*$AI$5)+($F$322*$S$322*$AI$6)+($F$322*$T$322*$AI$7)+($F$322*$U$322*$AI$8)+($F$322*$V$322*$AI$9)+($F$322*$W$322*$AI$10))/1000","v":{"$error":"#N/A"}},null,null,0.86,{"$f":"6.748/1000","v":6.7480000000000005E-3},null,0,null,null,0.04,0.05,0.04]
["Il2","Industrial","Subsector industria electrónica","Fabricación de equipo de audio y de video","Pantallas planas a transistores de película delgada (TFT-FPD, del inglés, thin-film-transistor flat panel display)",{"$f":"INDEX(Calculadora!$C$11:$H$60,MATCH('Ecuaciones y FE'!A323,Calculadora!$B$11:$B$60,0),MATCH(Calculadora!$H$11,Calculadora!$C$11:$H$11,0))","v":{"$error":"#N/A"}},"m2 x 109",null,null,null,null,null,null,null,null,null,null,5.0000000000000001E-4,null,4.0000000000000001E-3,null,null,8.9999999999999998E-4,null,null,null,null,null,null,null,null,{"$f":"(($F$323*R323*$AI$5)+($F$323*T323*$AI$7)+($F$323*W323*$AI$10))/1000","v":{"$error":"#N/A"}},null,null,0.86,{"$f":"6.748/1000","v":6.7480000000000005E-3},null,0,null,null,null,null,8.9999999999999998E-4]
["Il4","Industrial","Subsector industria electrónica","Fabricación de componentes electrónicos","Células fotovoltaicas",{"$f":"INDEX(Calculadora!$C$11:$H$60,MATCH('Ecuaciones y FE'!A324,Calculadora!$B$11:$B$60,0),MATCH(Calculadora!$H$11,Calculadora!$C$11:$H$11,0))","v":{"$error":"#N/A"}},"m2 x 106",null,null,null,null,null,null,null,null,null,null,5.0000000000000001E-3,2.0000000000000001E-4,null,null,null,null,null,null,null,null,null,null,null,null,{"$f":"(($F$324*$R$324*$AI$5)+($F$324*$S$324*$AI$6))/1000","v":{"$error":"#N/A"}},null,null,0.86,6.7480000000000002,0.86,1]
["Il5","Industrial","Subsector industria electrónica","Fabricación de componentes electrónicos","Fluidos de transferencia térmica",{"$f":"INDEX(Calculadora!$C$11:$H$60,MATCH('Ecuaciones y FE'!A325,Calculadora!$B$11:$B$60,0),MATCH(Calculadora!$H$11,Calculadora!$C$11:$H$11,0))","v":{"$error":"#N/A"}},"m2 x 109",null,null,null,null,null,null,null,null,null,null,null,null,null,null,null,null,0.3,null,null,null,null,null,null,null,{"$f":"(($F$325*$X$325*$AI$12))/1000","v":{"$error":"#N/A"}},null,null,0.86,{"$f":"6.748/1000","v":6.7480000000000005E-3},null,0,null,null,null,null,null,0.3]
["Im","INDUSTRIA ELÉCTRICA",null,"Actividad","Producto","Producción","Unidades Producción",null,null,null,null,null,null,null,"FE (ton C2O/ton producto)",null,null,null,null,null,null,null,"Emisiones C2O",null,null,null,null,null,null,null,null,"Emisiones CO2e"]
["Im1","Industrial","Subsector industria eléctrica","Fabricación de accesorios de iluminación","Im1. Únicamente reporta consumo energético - Sector Todos",{"$f":"INDEX(Calculadora!$C$11:$H$60,MATCH('Ecuaciones y FE'!A327,Calculadora!$B$11:$B$60,0),MATCH(Calculadora!$H$11,Calculadora!$C$11:$H$11,0))","v":{"$error":"#N/A"}},"NA",null,null,null,null,null,null,null,0,null,null,null,null,null,null,null,0,null,null,null,null,null,null,null,null,0]
["Im2","Industrial","Subsector industria eléctrica","Fabricación de equipo de aire acondicionado, calefacción, y de refrigeración; industrial y comercial","Acondicionadores de aire autocontenidos CARGA",{"$f":"INDEX(Calculadora!$C$11:$H$60,MATCH('Ecuaciones y FE'!A328,Calculadora!$B$11:$B$60,0),MATCH(Calculadora!$H$11,Calculadora!$C$11:$H$11,0))","v":{"$error":"#N/A"}},"kg","Pregunta a usuario",null,null,null,null,null,null,0.01,null,null,null,null,null,null,null,{"$f":"($F328/1000)*$O328","v":{"$error":"#N/A"}},null,null,null,null,null,null,null,null,{"$f":"$W328","v":{"$error":"#N/A"}}]
["Im3","Industrial","Subsector industria eléctrica","Fabricación de equipo de aire acondicionado, calefacción, y de refrigeración; industrial y comercial","Acondicionadores de aire autocontenidos RECARGA",{"$f":"INDEX(Calculadora!$C$11:$H$60,MATCH('Ecuaciones y FE'!A329,Calculadora!$B$11:$B$60,0),MATCH(Calculadora!$H$11,Calculadora!$C$11:$H$11,0))","v":{"$error":"#N/A"}},"kg","Pregunta a usuario",null,null,null,null,null,null,0.1,null,null,null,null,null,null,null,{"$f":"($F329/1000)*$O329","v":{"$error":"#N/A"}},null,null,null,null,null,null,null,null,{"$f":"$W329","v":{"$error":"#N/A"}}]
["Im4","Industrial","Subsector industria eléctrica","Fabricación de equipo de aire acondicionado, calefacción, y de refrigeración; industrial y comercial","Acondicionadores de aire autocontenidos ELIMINACIÓN",{"$f":"INDEX(Calculadora!$C$11:$H$60,MATCH('Ecuaciones y FE'!A330,Calculadora!$B$11:$B$60,0),MATCH(Calculadora!$H$11,Calculadora!$C$11:$H$11,0))","v":{"$error":"#N/A"}},"kg","Pregunta a usuario",null,null,null,null,null,null,0.9,null,null,null,null,null,null,null,{"$error":"#N/A"},null,null,null,null,null,null,null,null,{"$error":"#N/A"}]
["Im5","Industrial","Subsector industria eléctrica","Fabricación de equipo de aire acondicionado, calefacción, y de refrigeración; industrial y comercial","Acondicionadores de aire comerciales divididos CARGA",{"$f":"INDEX(Calculadora!$C$11:$H$60,MATCH('Ecuaciones y FE'!A331,Calculadora!$B$11:$B$60,0),MATCH(Calculadora!$H$11,Calculadora!$C$11:$H$11,0))","v":{"$error":"#N/A"}},"kg","Pregunta a usuario",null,null,null,null,null,null,0.02,null,null,null,null,null,null,null,{"$error":"#N/A"},null,null,null,null,null,null,null,null,{"$error":"#N/A"}]
["Im6","Industrial","Subsector industria eléctrica","Fabricación de equipo de aire acondicionado, calefacción, y de refrigeración; industrial y comercial","Acondicionadores de aire comerciales divididos RECARGA",{"$f":"INDEX(Calculadora!$C$11:$H$60,MATCH('Ecuaciones y FE'!A332,Calculadora!$B$11:$B$60,0),MATCH(Calculadora!$H$11,Calculadora!$C$11:$H$11,0))","v":{"$error":"#N/A"}},"kg","Pregunta a usuario",null,null,null,null,null,null,0.1,null,null,null,null,null,null,null,{"$error":"#N/A"},null,null,null,null,null,null,null,null,{"$error":"#N/A"}]
["Im7","Industrial","Subsector industria eléctrica","Fabricación de equipo de aire acondicionado, calefacción, y de refrigeración; industrial y comercial","Acondicionadores de aire comerciales divididos ELIMINACIÓN",{"$f":"INDEX(Calculadora!$C$11:$H$60,MATCH('Ecuaciones y FE'!A333,Calculadora!$B$11:$B$60,0),MATCH(Calculadora!$H$11,Calculadora!$C$11:$H$11,0))","v":{"$error":"#N/A"}},"kg","Pregunta a usuario",null,null,null,null,null,null,0.9,null,null,null,null,null,null,null,{"$error":"#N/A"},null,null,null,null,null,null,null,null,{"$error":"#N/A"}]
["Im8","Industrial","Subsector industria eléctrica","Fabricación de equipo de aire acondicionado, calefacción, y de refrigeración; industrial y comercial","Aire acondicionado automotriz CARGA",{"$f":"INDEX(Calculadora!$C$11:$H$60,MATCH('Ecuaciones y FE'!A334,Calculadora!$B$11:$B$60,0),MATCH(Calculadora!$H$11,Calculadora!$C$11:$H$11,0))","v":{"$error":"#N/A"}},"kg","Pregunta a usuario",null,null,null,null,null,null,0.01,null,null,null,null,null,null,null,{"$error":"#N/A"},null,null,null,null,null,null,null,null,{"$error":"#N/A"}]
["Im9","Industrial","Subsector industria eléctrica","Fabricación de equipo de aire acondicionado, calefacción, y de refrigeración; industrial y comercial","Aire acondicionado automotriz RECARGA",{"$f":"INDEX(Calculadora!$C$11:$H$60,MATCH('Ecuaciones y FE'!A335,Calculadora!$B$11:$B$60,0),MATCH(Calculadora!$H$11,Calculadora!$C$11:$H$11,0))","v":{"$error":"#N/A"}},"kg","Pregunta a usuario",null,null,null,null,null,null,0.35,null,null,null,null,null,null,null,{"$error":"#N/A"},null,null,null,null,null,null,null,null,{"$error":"#N/A"}]
["Im10","Industrial","Subsector industria eléctrica","Fabricación de equipo de aire acondicionado, calefacción, y de refrigeración; industrial y comercial","Aire acondicionado automotriz ELIMINACIÓN",{"$f":"INDEX(Calculadora!$C$11:$H$60,MATCH('Ecuaciones y FE'!A336,Calculadora!$B$11:$B$60,0),MATCH(Calculadora!$H$11,Calculadora!$C$11:$H$11,0))","v":{"$error":"#N/A"}},"kg","Pregunta a usuario",null,null,null,null,null,null,0.75,null,null,null,null,null,null,null,{"$error":"#N/A"},null,null,null,null,null,null,null,null,{"$error":"#N/A"}]
["Im11","Industrial","Subsector industria eléctrica","Fabricación de equipo de aire acondicionado, calefacción, y de refrigeración; industrial y comercial","Aire acondicionado automotriz en vehículos grandes CARGA",{"$f":"INDEX(Calculadora!$C$11:$H$60,MATCH('Ecuaciones y FE'!A337,Calculadora!$B$11:$B$60,0),MATCH(Calculadora!$H$11,Calculadora!$C$11:$H$11,0))","v":{"$error":"#N/A"}},"kg","Pregunta a usuario",null,null,null,null,null,null,0.02,null,null,null,null,null,null,null,{"$error":"#N/A"},null,null,null,null,null,null,null,null,{"$error":"#N/A"}]
["Im12","Industrial","Subsector industria eléctrica","Fabricación de equipo de aire acondicionado, calefacción, y de refrigeración; industrial y comercial","Aire acondicionado automotriz en vehículos grandes RECARGA",{"$f":"INDEX(Calculadora!$C$11:$H$60,MATCH('Ecuaciones y FE'!A338,Calculadora!$B$11:$B$60,0),MATCH(Calculadora!$H$11,Calculadora!$C$11:$H$11,0))","v":{"$error":"#N/A"}},"kg","Pregunta a usuario",null,null,null,null,null,null,0.35,null,null,null,null,null,null,null,{"$error":"#N/A"},null,null,null,null,null,null,null,null,{"$error":"#N/A"}]
["Im13","Industrial","Subsector industria eléctrica","Fabricación de equipo de aire acondicionado, calefacción, y de refrigeración; industrial y comercial","Aire acondicionado automotriz en vehículos grandes ELIMINACIÓN",{"$f":"INDEX(Calculadora!$C$11:$H$60,MATCH('Ecuaciones y FE'!A339,Calculadora!$B$11:$B$60,0),MATCH(Calculadora!$H$11,Calculadora!$C$11:$H$11,0))","v":{"$error":"#N/A"}},"kg","Pregunta a usuario",null,null,null,null,null,null,0.75,null,null,null,null,null,null,null,{"$error":"#N/A"},null,null,null,null,null,null,null,null,{"$error":"#N/A"}]
["Im14","Industrial","Subsector industria eléctrica","Fabricación de equipo de aire acondicionado, calefacción, y de refrigeración; industrial y comercial","Cajas frías para transporte CARGA",{"$f":"INDEX(Calculadora!$C$11:$H$60,MATCH('Ecuaciones y FE'!A340,Calculadora!$B$11:$B$60,0),MATCH(Calculadora!$H$11,Calculadora!$C$11:$H$11,0))","v":{"$error":"#N/A"}},"kg","Pregunta a usuario",null,null,null,null,null,null,0.02,null,null,null,null,null,null,null,{"$error":"#N/A"},null,null,null,null,null,null,null,null,{"$error":"#N/A"}]
["Im15","Industrial","Subsector industria eléctrica","Fabricación de equipo de aire acondicionado, calefacción, y de refrigeración; industrial y comercial","Cajas frías para transporte RECARGA",{"$f":"INDEX(Calculadora!$C$11:$H$60,MATCH('Ecuaciones y FE'!A341,Calculadora!$B$11:$B$60,0),MATCH(Calculadora!$H$11,Calculadora!$C$11:$H$11,0))","v":{"$error":"#N/A"}},"kg","Pregunta a usuario",null,null,null,null,null,null,0.25,null,null,null,null,null,null,null,{"$error":"#N/A"},null,null,null,null,null,null,null,null,{"$error":"#N/A"}]
["Im16","Industrial","Subsector industria eléctrica","Fabricación de equipo de aire acondicionado, calefacción, y de refrigeración; industrial y comercial","Cajas frías para transporte ELIMINACIÓN",{"$f":"INDEX(Calculadora!$C$11:$H$60,MATCH('Ecuaciones y FE'!A342,Calculadora!$B$11:$B$60,0),MATCH(Calculadora!$H$11,Calculadora!$C$11:$H$11,0))","v":{"$error":"#N/A"}},"kg","Pregunta a usuario",null,null,null,null,null,null,0.9,null,null,null,null,null,null,null,{"$error":"#N/A"},null,null,null,null,null,null,null,null,{"$error":"#N/A"}]
["Im17","Industrial","Subsector industria eléctrica","Fabricación de equipo de aire acondicionado, calefacción, y de refrigeración; industrial y comercial","Enfriadores con R-134a CARGA",{"$f":"INDEX(Calculadora!$C$11:$H$60,MATCH('Ecuaciones y FE'!A343,Calculadora!$B$11:$B$60,0),MATCH(Calculadora!$H$11,Calculadora!$C$11:$H$11,0))","v":{"$error":"#N/A"}},"kg","Pregunta a usuario",null,null,null,null,null,null,0.01,null,null,null,null,null,null,null,{"$error":"#N/A"},null,null,null,null,null,null,null,null,{"$error":"#N/A"}]
["Im18","Industrial","Subsector industria eléctrica","Fabricación de equipo de aire acondicionado, calefacción, y de refrigeración; industrial y comercial","Enfriadores con R-134a RECARGA",{"$f":"INDEX(Calculadora!$C$11:$H$60,MATCH('Ecuaciones y FE'!A344,Calculadora!$B$11:$B$60,0),MATCH(Calculadora!$H$11,Calculadora!$C$11:$H$11,0))","v":{"$error":"#N/A"}},"kg","Pregunta a usuario",null,null,null,null,null,null,0.1,null,null,null,null,null,null,null,{"$error":"#N/A"},null,null,null,null,null,null,null,null,{"$error":"#N/A"}]
["Im19","Industrial","Subsector industria eléctrica","Fabricación de equipo de aire acondicionado, calefacción, y de refrigeración; industrial y comercial","Enfriadores con R-134a ELIMINACIÓN",{"$f":"INDEX(Calculadora!$C$11:$H$60,MATCH('Ecuaciones y FE'!A345,Calculadora!$B$11:$B$60,0),MATCH(Calculadora!$H$11,Calculadora!$C$11:$H$11,0))","v":{"$error":"#N/A"}},"kg","Pregunta a usuario",null,null,null,null,null,null,0.9,null,null,null,null,null,null,null,{"$error":"#N/A"},null,null,null,null,null,null,null,null,{"$error":"#N/A"}]
["Im20","Industrial","Subsector industria eléctrica","Fabricación de equipo de aire acondicionado, calefacción, y de refrigeración; industrial y comercial","Enfriadores con R-404a CARGA",{"$f":"INDEX(Calculadora!$C$11:$H$60,MATCH('Ecuaciones y FE'!A346,Calculadora!$B$11:$B$60,0),MATCH(Calculadora!$H$11,Calculadora!$C$11:$H$11,0))","v":{"$error":"#N/A"}},"kg","Pregunta a usuario",null,null,null,null,null,null,0,null,null,null,null,null,null,null,{"$error":"#N/A"},null,null,null,null,null,null,null,null,{"$error":"#N/A"}]
["Im21","Industrial","Subsector industria eléctrica","Fabricación de equipo de aire acondicionado, calefacción, y de refrigeración; industrial y comercial","Enfriadores con R-404a RECARGA",{"$f":"INDEX(Calculadora!$C$11:$H$60,MATCH('Ecuaciones y FE'!A347,Calculadora!$B$11:$B$60,0),MATCH(Calculadora!$H$11,Calculadora!$C$11:$H$11,0))","v":{"$error":"#N/A"}},"kg","Pregunta a usuario",null,null,null,null,null,null,0.1,null,null,null,null,null,null,null,{"$error":"#N/A"},null,null,null,null,null,null,null,null,{"$error":"#N/A"}]
["Im22","Industrial","Subsector industria eléctrica","Fabricación de equipo de aire acondicionado, calefacción, y de refrigeración; industrial y comercial","Enfriadores con R-404a ELIMINACIÓN",{"$f":"INDEX(Calculadora!$C$11:$H$60,MATCH('Ecuaciones y FE'!A348,Calculadora!$B$11:$B$60,0),MATCH(Calculadora!$H$11,Calculadora!$C$11:$H$11,0))","v":{"$error":"#N/A"}},"kg","Pregunta a usuario",null,null,null,null,null,null,0,null,null,null,null,null,null,null,{"$error":"#N/A"},null,null,null,null,null,null,null,null,{"$error":"#N/A"}]
["Im23","Industrial","Subsector industria eléctrica","Fabricación de equipo de aire acondicionado, calefacción, y de refrigeración; industrial y comercial","Equipo autónomo CARGA",{"$f":"INDEX(Calculadora!$C$11:$H$60,MATCH('Ecuaciones y FE'!A349,Calculadora!$B$11:$B$60,0),MATCH(Calculadora!$H$11,Calculadora!$C$11:$H$11,0))","v":{"$error":"#N/A"}},"kg","Pregunta a usuario",null,null,null,null,null,null,0.01,null,null,null,null,null,null,null,{"$error":"#N/A"},null,null,null,null,null,null,null,null,{"$error":"#N/A"}]
["Im24","Industrial","Subsector industria eléctrica","Fabricación de equipo de aire acondicionado, calefacción, y de refrigeración; industrial y comercial","Equipo autónomo RECARGA",{"$f":"INDEX(Calculadora!$C$11:$H$60,MATCH('Ecuaciones y FE'!A350,Calculadora!$B$11:$B$60,0),MATCH(Calculadora!$H$11,Calculadora!$C$11:$H$11,0))","v":{"$error":"#N/A"}},"kg","Pregunta a usuario",null,null,null,null,null,null,0.03,null,null,null,null,null,null,null,{"$error":"#N/A"},null,null,null,null,null,null,null,null,{"$error":"#N/A"}]
["Im25","Industrial","Subsector industria eléctrica","Fabricación de equipo de aire acondicionado, calefacción, y de refrigeración; industrial y comercial","Equipo autónomo ELIMINACIÓN",{"$f":"INDEX(Calculadora!$C$11:$H$60,MATCH('Ecuaciones y FE'!A351,Calculadora!$B$11:$B$60,0),MATCH(Calculadora!$H$11,Calculadora!$C$11:$H$11,0))","v":{"$error":"#N/A"}},"kg","Pregunta a usuario",null,null,null,null,null,null,0.9,null,null,null,null,null,null,null,{"$error":"#N/A"},null,null,null,null,null,null,null,null,{"$error":"#N/A"}]
["Im26","Industrial","Subsector industria eléctrica","Fabricación de equipo de aire acondicionado, calefacción, y de refrigeración; industrial y comercial","Integral CARGA",{"$f":"INDEX(Calculadora!$C$11:$H$60,MATCH('Ecuaciones y FE'!A352,Calculadora!$B$11:$B$60,0),MATCH(Calculadora!$H$11,Calculadora!$C$11:$H$11,0))","v":{"$error":"#N/A"}},"kg","Pregunta a usuario",null,null,null,null,null,null,0,null,null,null,null,null,null,null,{"$error":"#N/A"},null,null,null,null,null,null,null,null,{"$error":"#N/A"}]
["Im27","Industrial","Subsector industria eléctrica","Fabricación de equipo de aire acondicionado, calefacción, y de refrigeración; industrial y comercial","Integral RECARGA",{"$f":"INDEX(Calculadora!$C$11:$H$60,MATCH('Ecuaciones y FE'!A353,Calculadora!$B$11:$B$60,0),MATCH(Calculadora!$H$11,Calculadora!$C$11:$H$11,0))","v":{"$error":"#N/A"}},"kg","Pregunta a usuario",null,null,null,null,null,null,0.05,null,null,null,null,null,null,null,{"$error":"#N/A"},null,null,null,null,null,null,null,null,{"$error":"#N/A"}]
["Im28","Industrial","Subsector industria eléctrica","Fabricación de equipo de aire acondicionado, calefacción, y de refrigeración; industrial y comercial","Integral ELIMINACIÓN",{"$f":"INDEX(Calculadora!$C$11:$H$60,MATCH('Ecuaciones y FE'!A354,Calculadora!$B$11:$B$60,0),MATCH(Calculadora!$H$11,Calculadora!$C$11:$H$11,0))","v":{"$error":"#N/A"}},"kg","Pregunta a usuario",null,null,null,null,null,null,0,null,null,null,null,null,null,null,{"$error":"#N/A"},null,null,null,null,null,null,null,null,{"$error":"#N/A"}]
["Im29","Industrial","Subsector industria eléctrica","Fabricación de equipo de aire acondicionado, calefacción, y de refrigeración; industrial y comercial","Multi-splits CARGA",{"$f":"INDEX(Calculadora!$C$11:$H$60,MATCH('Ecuaciones y FE'!A355,Calculadora!$B$11:$B$60,0),MATCH(Calculadora!$H$11,Calculadora!$C$11:$H$11,0))","v":{"$error":"#N/A"}},"kg","Pregunta a usuario",null,null,null,null,null,null,0.05,null,null,null,null,null,null,null,{"$error":"#N/A"},null,null,null,null,null,null,null,null,{"$error":"#N/A"}]
["Im30","Industrial","Subsector industria eléctrica","Fabricación de equipo de aire acondicionado, calefacción, y de refrigeración; industrial y comercial","Multi-splits RECARGA",{"$f":"INDEX(Calculadora!$C$11:$H$60,MATCH('Ecuaciones y FE'!A356,Calculadora!$B$11:$B$60,0),MATCH(Calculadora!$H$11,Calculadora!$C$11:$H$11,0))","v":{"$error":"#N/A"}},"kg","Pregunta a usuario",null,null,null,null,null,null,0.1,null,null,null,null,null,null,null,{"$error":"#N/A"},null,null,null,null,null,null,null,null,{"$error":"#N/A"}]
["Im31","Industrial","Subsector industria eléctrica","Fabricación de equipo de aire acondicionado, calefacción, y de refrigeración; industrial y comercial","Multi-splits ELIMINACIÓN",{"$f":"INDEX(Calculadora!$C$11:$H$60,MATCH('Ecuaciones y FE'!A357,Calculadora!$B$11:$B$60,0),MATCH(Calculadora!$H$11,Calculadora!$C$11:$H$11,0))","v":{"$error":"#N/A"}},"kg","Pregunta a usuario",null,null,null,null,null,null,0.9,null,null,null,null,null,null,null,{"$error":"#N/A"},null,null,null,null,null,null,null,null,{"$error":"#N/A"}]
["Im32","Industrial","Subsector industria eléctrica","Fabricación de equipo de aire acondicionado, calefacción, y de refrigeración; industrial y comercial","Sistemas centralizados para industria CARGA",{"$f":"INDEX(Calculadora!$C$11:$H$60,MATCH('Ecuaciones y FE'!A358,Calculadora!$B$11:$B$60,0),MATCH(Calculadora!$H$11,Calculadora!$C$11:$H$11,0))","v":{"$error":"#N/A"}},"kg","Pregunta a usuario",null,null,null,null,null,null,0,null,null,null,null,null,null,null,{"$error":"#N/A"},null,null,null,null,null,null,null,null,{"$error":"#N/A"}]
["Im33","Industrial","Subsector industria eléctrica","Fabricación de equipo de aire acondicionado, calefacción, y de refrigeración; industrial y comercial","Sistemas centralizados para industria RECARGA",{"$f":"INDEX(Calculadora!$C$11:$H$60,MATCH('Ecuaciones y FE'!A359,Calculadora!$B$11:$B$60,0),MATCH(Calculadora!$H$11,Calculadora!$C$11:$H$11,0))","v":{"$error":"#N/A"}},"kg","Pregunta a usuario",null,null,null,null,null,null,0.35,null,null,null,null,null,null,null,{"$error":"#N/A"},null,null,null,null,null,null,null,null,{"$error":"#N/A"}]
["Im34","Industrial","Subsector industria eléctrica","Fabricación de equipo de aire acondicionado, calefacción, y de refrigeración; industrial y comercial","Sistemas centralizados para industria ELIMINACIÓN",{"$f":"INDEX(Calculadora!$C$11:$H$60,MATCH('Ecuaciones y FE'!A360,Calculadora!$B$11:$B$60,0),MATCH(Calculadora!$H$11,Calculadora!$C$11:$H$11,0))","v":{"$error":"#N/A"}},"kg","Pregunta a usuario",null,null,null,null,null,null,0,null,null,null,null,null,null,null,{"$error":"#N/A"},null,null,null,null,null,null,null,null,{"$error":"#N/A"}]
["Im35","Industrial","Subsector industria eléctrica","Fabricación de equipo de aire acondicionado, calefacción, y de refrigeración; industrial y comercial","Sistemas centralizados para supermercados CARGA",{"$f":"INDEX(Calculadora!$C$11:$H$60,MATCH('Ecuaciones y FE'!A361,Calculadora!$B$11:$B$60,0),MATCH(Calculadora!$H$11,Calculadora!$C$11:$H$11,0))","v":{"$error":"#N/A"}},"kg","Pregunta a usuario",null,null,null,null,null,null,0.05,null,null,null,null,null,null,null,{"$error":"#N/A"},null,null,null,null,null,null,null,null,{"$error":"#N/A"}]
["Im36","Industrial","Subsector industria eléctrica","Fabricación de equipo de aire acondicionado, calefacción, y de refrigeración; industrial y comercial","Sistemas centralizados para supermercados RECARGA",{"$f":"INDEX(Calculadora!$C$11:$H$60,MATCH('Ecuaciones y FE'!A362,Calculadora!$B$11:$B$60,0),MATCH(Calculadora!$H$11,Calculadora!$C$11:$H$11,0))","v":{"$error":"#N/A"}},"kg","Pregunta a usuario",null,null,null,null,null,null,0.25,null,null,null,null,null,null,null,{"$error":"#N/A"},null,null,null,null,null,null,null,null,{"$error":"#N/A"}]
["Im37","Industrial","Subsector industria eléctrica","Fabricación de equipo de aire acondicionado, calefacción, y de refrigeración; industrial y comercial","Sistemas centralizados para supermercados ELIMINACIÓN",{"$f":"INDEX(Calculadora!$C$11:$H$60,MATCH('Ecuaciones y FE'!A363,Calculadora!$B$11:$B$60,0),MATCH(Calculadora!$H$11,Calculadora!$C$11:$H$11,0))","v":{"$error":"#N/A"}},"kg","Pregunta a usuario",null,null,null,null,null,null,0.9,null,null,null,null,null,null,null,{"$error":"#N/A"},null,null,null,null,null,null,null,null,{"$error":"#N/A"}]
["Im38","Industrial","Subsector industria eléctrica","Fabricación de equipo de aire acondicionado, calefacción, y de refrigeración; industrial y comercial","Sistemas comerciales divididos con ductos CARGA",{"$f":"INDEX(Calculadora!$C$11:$H$60,MATCH('Ecuaciones y FE'!A364,Calculadora!$B$11:$B$60,0),MATCH(Calculadora!$H$11,Calculadora!$C$11:$H$11,0))","v":{"$error":"#N/A"}},"kg","Pregunta a usuario",null,null,null,null,null,null,0.05,null,null,null,null,null,null,null,{"$error":"#N/A"},null,null,null,null,null,null,null,null,{"$f":"$W$364","v":{"$error":"#N/A"}}]
["Im39","Industrial","Subsector industria eléctrica","Fabricación de equipo de aire acondicionado, calefacción, y de refrigeración; industrial y comercial","Sistemas comerciales divididos con ductos RECARGA",{"$f":"INDEX(Calculadora!$C$11:$H$60,MATCH('Ecuaciones y FE'!A365,Calculadora!$B$11:$B$60,0),MATCH(Calculadora!$H$11,Calculadora!$C$11:$H$11,0))","v":{"$error":"#N/A"}},"kg","Pregunta a usuario",null,null,null,null,null,null,0.1,null,null,null,null,null,null,null,{"$error":"#N/A"},null,null,null,null,null,null,null,null,{"$error":"#N/A"}]
["Im40","Industrial","Subsector industria eléctrica","Fabricación de equipo de aire acondicionado, calefacción, y de refrigeración; industrial y comercial","Sistemas comerciales divididos con ductos ELIMINACIÓN",{"$f":"INDEX(Calculadora!$C$11:$H$60,MATCH('Ecuaciones y FE'!A366,Calculadora!$B$11:$B$60,0),MATCH(Calculadora!$H$11,Calculadora!$C$11:$H$11,0))","v":{"$error":"#N/A"}},"kg","Pregunta a usuario",null,null,null,null,null,null,0.9,null,null,null,null,null,null,null,{"$error":"#N/A"},null,null,null,null,null,null,null,null,{"$error":"#N/A"}]
["Im41","Industrial","Subsector industria eléctrica","Fabricación de equipo de aire acondicionado, calefacción, y de refrigeración; industrial y comercial","Unidad de techo con ductos CARGA",{"$f":"INDEX(Calculadora!$C$11:$H$60,MATCH('Ecuaciones y FE'!A367,Calculadora!$B$11:$B$60,0),MATCH(Calculadora!$H$11,Calculadora!$C$11:$H$11,0))","v":{"$error":"#N/A"}},"kg","Pregunta a usuario",null,null,null,null,null,null,0.01,null,null,null,null,null,null,null,{"$error":"#N/A"},null,null,null,null,null,null,null,null,{"$error":"#N/A"}]
["Im42","Industrial","Subsector industria eléctrica","Fabricación de equipo de aire acondicionado, calefacción, y de refrigeración; industrial y comercial","Unidad de techo con ductos RECARGA",{"$f":"INDEX(Calculadora!$C$11:$H$60,MATCH('Ecuaciones y FE'!A368,Calculadora!$B$11:$B$60,0),MATCH(Calculadora!$H$11,Calculadora!$C$11:$H$11,0))","v":{"$error":"#N/A"}},"kg","Pregunta a usuario",null,null,null,null,null,null,0.1,null,null,null,null,null,null,null,{"$error":"#N/A"},null,null,null,null,null,null,null,null,{"$error":"#N/A"}]
["Im43","Industrial","Subsector industria eléctrica","Fabricación de equipo de aire acondicionado, calefacción, y de refrigeración; industrial y comercial","Unidad de techo con ductos ELIMINACIÓN",{"$f":"INDEX(Calculadora!$C$11:$H$60,MATCH('Ecuaciones y FE'!A369,Calculadora!$B$11:$B$60,0),MATCH(Calculadora!$H$11,Calculadora!$C$11:$H$11,0))","v":{"$error":"#N/A"}},"kg","Pregunta a usuario",null,null,null,null,null,null,0.9,null,null,null,null,null,null,null,{"$error":"#N/A"},null,null,null,null,null,null,null,null,{"$error":"#N/A"}]
["Im44","Industrial","Subsector industria eléctrica","Fabricación de equipo de aire acondicionado, calefacción, y de refrigeración; industrial y comercial","Unidades condensadas comerciales CARGA",{"$f":"INDEX(Calculadora!$C$11:$H$60,MATCH('Ecuaciones y FE'!A370,Calculadora!$B$11:$B$60,0),MATCH(Calculadora!$H$11,Calculadora!$C$11:$H$11,0))","v":{"$error":"#N/A"}},"kg","Pregunta a usuario",null,null,null,null,null,null,0.05,null,null,null,null,null,null,null,{"$error":"#N/A"},null,null,null,null,null,null,null,null,{"$error":"#N/A"}]
["Im45","Industrial","Subsector industria eléctrica","Fabricación de equipo de aire acondicionado, calefacción, y de refrigeración; industrial y comercial","Unidades condensadas comerciales RECARGA",{"$f":"INDEX(Calculadora!$C$11:$H$60,MATCH('Ecuaciones y FE'!A371,Calculadora!$B$11:$B$60,0),MATCH(Calculadora!$H$11,Calculadora!$C$11:$H$11,0))","v":{"$error":"#N/A"}},"kg","Pregunta a usuario",null,null,null,null,null,null,0.1,null,null,null,null,null,null,null,{"$error":"#N/A"},null,null,null,null,null,null,null,null,{"$error":"#N/A"}]
["Im46","Industrial","Subsector industria eléctrica","Fabricación de equipo de aire acondicionado, calefacción, y de refrigeración; industrial y comercial","Unidades condensadas comerciales ELIMINACIÓN",{"$f":"INDEX(Calculadora!$C$11:$H$60,MATCH('Ecuaciones y FE'!A372,Calculadora!$B$11:$B$60,0),MATCH(Calculadora!$H$11,Calculadora!$C$11:$H$11,0))","v":{"$error":"#N/A"}},"kg","Pregunta a usuario",null,null,null,null,null,null,0.9,null,null,null,null,null,null,null,{"$error":"#N/A"},null,null,null,null,null,null,null,null,{"$error":"#N/A"}]
["Im47","Industrial","Subsector industria eléctrica","Fabricación de equipo de aire acondicionado, calefacción, y de refrigeración; industrial y comercial","Unidades condensadas industriales CARGA",{"$f":"INDEX(Calculadora!$C$11:$H$60,MATCH('Ecuaciones y FE'!A373,Calculadora!$B$11:$B$60,0),MATCH(Calculadora!$H$11,Calculadora!$C$11:$H$11,0))","v":{"$error":"#N/A"}},"kg","Pregunta a usuario",null,null,null,null,null,null,0,null,null,null,null,null,null,null,{"$error":"#N/A"},null,null,null,null,null,null,null,null,{"$error":"#N/A"}]
["Im48","Industrial","Subsector industria eléctrica","Fabricación de equipo de aire acondicionado, calefacción, y de refrigeración; industrial y comercial","Unidades condensadas industriales RECARGA",{"$f":"INDEX(Calculadora!$C$11:$H$60,MATCH('Ecuaciones y FE'!A374,Calculadora!$B$11:$B$60,0),MATCH(Calculadora!$H$11,Calculadora!$C$11:$H$11,0))","v":{"$error":"#N/A"}},"kg","Pregunta a usuario",null,null,null,null,null,null,0.25,null,null,null,null,null,null,null,{"$error":"#N/A"},null,null,null,null,null,null,null,null,{"$f":"$W$374","v":{"$error":"#N/A"}}]
["Im49","Industrial","Subsector industria eléctrica","Fabricación de equipo de aire acondicionado, calefacción, y de refrigeración; industrial y comercial","Unidades condensadas industriales ELIMINACIÓN",{"$f":"INDEX(Calculadora!$C$11:$H$60,MATCH('Ecuaciones y FE'!A375,Calculadora!$B$11:$B$60,0),MATCH(Calculadora!$H$11,Calculadora!$C$11:$H$11,0))","v":{"$error":"#N/A"}},"kg","Pregunta a usuario",null,null,null,null,null,null,0,null,null,null,null,null,null,null,{"$error":"#N/A"},null,null,null,null,null,null,null,null,{"$error":"#N/A"}]
["Im50","Industrial","Subsector industria eléctrica","Fabricación de equipo de aire acondicionado, calefacción, y de refrigeración; industrial y comercial","Acondicionadores de aire residenciales de ducto o tipo dividido CARGA",{"$f":"INDEX(Calculadora!$C$11:$H$60,MATCH('Ecuaciones y FE'!A376,Calculadora!$B$11:$B$60,0),MATCH(Calculadora!$H$11,Calculadora!$C$11:$H$11,0))","v":{"$error":"#N/A"}},"kg","Pregunta a usuario",null,null,null,null,null,null,0.05,null,null,null,null,null,null,null,{"$error":"#N/A"},null,null,null,null,null,null,null,null,{"$error":"#N/A"}]
["Im51","Industrial","Subsector industria eléctrica","Fabricación de equipo de aire acondicionado, calefacción, y de refrigeración; industrial y comercial","Acondicionadores de aire residenciales de ducto o tipo dividido RECARGA",{"$f":"INDEX(Calculadora!$C$11:$H$60,MATCH('Ecuaciones y FE'!A377,Calculadora!$B$11:$B$60,0),MATCH(Calculadora!$H$11,Calculadora!$C$11:$H$11,0))","v":{"$error":"#N/A"}},"kg","Pregunta a usuario",null,null,null,null,null,null,0.1,null,null,null,null,null,null,null,{"$error":"#N/A"},null,null,null,null,null,null,null,null,{"$error":"#N/A"}]
["Im52","Industrial","Subsector industria eléctrica","Fabricación de equipo de aire acondicionado, calefacción, y de refrigeración; industrial y comercial","Acondicionadores de aire residenciales de ducto o tipo dividido ELIMINACIÓN",{"$f":"INDEX(Calculadora!$C$11:$H$60,MATCH('Ecuaciones y FE'!A378,Calculadora!$B$11:$B$60,0),MATCH(Calculadora!$H$11,Calculadora!$C$11:$H$11,0))","v":{"$error":"#N/A"}},"kg","Pregunta a usuario",null,null,null,null,null,null,0.9,null,null,null,null,null,null,null,{"$error":"#N/A"},null,null,null,null,null,null,null,null,{"$error":"#N/A"}]
["Im53","Industrial","Subsector industria eléctrica","Fabricación de equipo de aire acondicionado, calefacción, y de refrigeración; industrial y comercial","Acondicionadores de aire residenciales de tipo dividido CARGA",{"$f":"INDEX(Calculadora!$C$11:$H$60,MATCH('Ecuaciones y FE'!A379,Calculadora!$B$11:$B$60,0),MATCH(Calculadora!$H$11,Calculadora!$C$11:$H$11,0))","v":{"$error":"#N/A"}},"kg","Pregunta a usuario",null,null,null,null,null,null,0.02,null,null,null,null,null,null,null,{"$error":"#N/A"},null,null,null,null,null,null,null,null,{"$error":"#N/A"}]
["Im54","Industrial","Subsector industria eléctrica","Fabricación de equipo de aire acondicionado, calefacción, y de refrigeración; industrial y comercial","Acondicionadores de aire residenciales de tipo dividido RECARGA",{"$f":"INDEX(Calculadora!$C$11:$H$60,MATCH('Ecuaciones y FE'!A380,Calculadora!$B$11:$B$60,0),MATCH(Calculadora!$H$11,Calculadora!$C$11:$H$11,0))","v":{"$error":"#N/A"}},"kg","Pregunta a usuario",null,null,null,null,null,null,0.1,null,null,null,null,null,null,null,{"$error":"#N/A"},null,null,null,null,null,null,null,null,{"$error":"#N/A"}]
["Im55","Industrial","Subsector industria eléctrica","Fabricación de equipo de aire acondicionado, calefacción, y de refrigeración; industrial y comercial","Acondicionadores de aire residenciales de tipo dividido ELIMINACIÓN",{"$f":"INDEX(Calculadora!$C$11:$H$60,MATCH('Ecuaciones y FE'!A381,Calculadora!$B$11:$B$60,0),MATCH(Calculadora!$H$11,Calculadora!$C$11:$H$11,0))","v":{"$error":"#N/A"}},"kg","Pregunta a usuario",null,null,null,null,null,null,0.9,null,null,null,null,null,null,null,{"$error":"#N/A"},null,null,null,null,null,null,null,null,{"$error":"#N/A"}]
["Im56","Industrial","Subsector industria eléctrica","Fabricación de equipo de aire acondicionado, calefacción, y de refrigeración; industrial y comercial","Refrigeración doméstica CARGA",{"$f":"INDEX(Calculadora!$C$11:$H$60,MATCH('Ecuaciones y FE'!A382,Calculadora!$B$11:$B$60,0),MATCH(Calculadora!$H$11,Calculadora!$C$11:$H$11,0))","v":{"$error":"#N/A"}},"kg","Pregunta a usuario",null,null,null,null,null,null,0.01,null,null,null,null,null,null,null,{"$error":"#N/A"},null,null,null,null,null,null,null,null,{"$error":"#N/A"}]
["Im57","Industrial","Subsector industria eléctrica","Fabricación de equipo de aire acondicionado, calefacción, y de refrigeración; industrial y comercial","Refrigeración doméstica RECARGA",{"$f":"INDEX(Calculadora!$C$11:$H$60,MATCH('Ecuaciones y FE'!A383,Calculadora!$B$11:$B$60,0),MATCH(Calculadora!$H$11,Calculadora!$C$11:$H$11,0))","v":{"$error":"#N/A"}},"kg","Pregunta a usuario",null,null,null,null,null,null,0.02,null,null,null,null,null,null,null,{"$error":"#N/A"},null,null,null,null,null,null,null,null,{"$error":"#N/A"}]
["Im58","Industrial","Subsector industria eléctrica","Fabricación de equipo de aire acondicionado, calefacción, y de refrigeración; industrial y comercial","Refrigeración doméstica ELIMINACIÓN",{"$f":"INDEX(Calculadora!$C$11:$H$60,MATCH('Ecuaciones y FE'!A384,Calculadora!$B$11:$B$60,0),MATCH(Calculadora!$H$11,Calculadora!$C$11:$H$11,0))","v":{"$error":"#N/A"}},"kg","Pregunta a usuario",null,null,null,null,null,null,0.9,null,null,null,null,null,null,null,{"$f":"($F384/1000)*$O384","v":{"$error":"#N/A"}},null,null,null,null,null,null,null,null,{"$error":"#N/A"}]
["Im59","Industrial","Subsector industria eléctrica","Fabricación de aparatos eléctricos de uso doméstico","Im59. Únicamente reporta consumo energético - Sector Todos",{"$f":"INDEX(Calculadora!$C$11:$H$60,MATCH('Ecuaciones y FE'!A385,Calculadora!$B$11:$B$60,0),MATCH(Calculadora!$H$11,Calculadora!$C$11:$H$11,0))","v":{"$error":"#N/A"}},"NA","Pregunta a usuario",null,null,null,null,null,null,null,null,null,null,null,null,null,null,0,null,null,null,null,null,null,null,null,0]
["Im60","Industrial","Subsector industria eléctrica","Fabricación de aparatos eléctricos de uso doméstico","Im60. Únicamente reporta consumo energético - Sector Todos",{"$f":"INDEX(Calculadora!$C$11:$H$60,MATCH('Ecuaciones y FE'!A386,Calculadora!$B$11:$B$60,0),MATCH(Calculadora!$H$11,Calculadora!$C$11:$H$11,0))","v":{"$error":"#N/A"}},"NA","Pregunta a usuario",null,null,null,null,null,null,null,null,null,null,null,null,null,null,0,null,null,null,null,null,null,null,null,0]
["In","INDUSTRIA DE ALIMENTOS",null,"Actividad","Producto","Producción","Unidades Producción",null,null,null,null,null,null,null,"FE vidrio \n(ton CO2/ton vidrio)\n(ton CO2/MWh)",null,null,null,null,null,null,null,"Emisiones C2O",null,null,null,null,null,null,null,null,"Emisiones CO2e"]
["In1","Industrial","Subsector industria de alimentos y bebidas","Elaboración de alimentos para animales","In1. Únicamente reporta consumo energético - Sector Todos",{"$f":"INDEX(Calculadora!$C$11:$H$60,MATCH('Ecuaciones y FE'!A388,Calculadora!$B$11:$B$60,0),MATCH(Calculadora!$H$11,Calculadora!$C$11:$H$11,0))","v":{"$error":"#N/A"}},null,null,null,null,null,null,null,null,null,null,null,null,null,null,null,null,0,null,null,null,null,null,null,null,null,0]
["In2","Industrial","Subsector industria de alimentos y bebidas","Molienda de granos y de semillas y obtención de aceites y grasas","In2. Únicamente reporta consumo energético - Sector Todos",{"$f":"INDEX(Calculadora!$C$11:$H$60,MATCH('Ecuaciones y FE'!A389,Calculadora!$B$11:$B$60,0),MATCH(Calculadora!$H$11,Calculadora!$C$11:$H$11,0))","v":{"$error":"#N/A"}},null,null,null,null,null,null,null,null,null,null,null,null,null,null,null,null,0,null,null,null,null,null,null,null,null,0]
["In3","Industrial","Subsector industria de alimentos y bebidas","Elaboración de azúcares, chocolates, dulces y similares","In3. Únicamente reporta consumo energético - Sector Todos",{"$f":"INDEX(Calculadora!$C$11:$H$60,MATCH('Ecuaciones y FE'!A390,Calculadora!$B$11:$B$60,0),MATCH(Calculadora!$H$11,Calculadora!$C$11:$H$11,0))","v":{"$error":"#N/A"}},null,null,null,null,null,null,null,null,null,null,null,null,null,null,null,null,0,null,null,null,null,null,null,null,null,0]
["In4","Industrial","Subsector industria de alimentos y bebidas","Conservación de frutas, verduras, guisos y otros alimentos preparados","In4. Únicamente reporta consumo energético - Sector Todos",{"$f":"INDEX(Calculadora!$C$11:$H$60,MATCH('Ecuaciones y FE'!A391,Calculadora!$B$11:$B$60,0),MATCH(Calculadora!$H$11,Calculadora!$C$11:$H$11,0))","v":{"$error":"#N/A"}},null,null,null,null,null,null,null,null,null,null,null,null,null,null,null,null,0,null,null,null,null,null,null,null,null,0]
["In5","Industrial","Subsector industria de alimentos y bebidas","Elaboración de productos lácteos","In5. Únicamente reporta consumo energético - Sector Todos",{"$f":"INDEX(Calculadora!$C$11:$H$60,MATCH('Ecuaciones y FE'!A392,Calculadora!$B$11:$B$60,0),MATCH(Calculadora!$H$11,Calculadora!$C$11:$H$11,0))","v":{"$error":"#N/A"}},null,null,null,null,null,null,null,null,null,null,null,null,null,null,null,null,0,null,null,null,null,null,null,null,null,0]
["In6","Industrial","Subsector industria de alimentos y bebidas","Matanza, empacado y procesamiento de carne de ganado, aves y otros animales comestibles","In6. Únicamente reporta consumo energético - Sector Todos",{"$f":"INDEX(Calculadora!$C$11:$H$60,MATCH('Ecuaciones y FE'!A393,Calculadora!$B$11:$B$60,0),MATCH(Calculadora!$H$11,Calculadora!$C$11:$H$11,0))","v":{"$error":"#N/A"}},null,null,null,null,null,null,null,null,null,null,null,null,null,null,null,null,0,null,null,null,null,null,null,null,null,0]
["In7","Industrial","Subsector industria de alimentos y bebidas","Preparación y envasado de pescados y mariscos","In7. Únicamente reporta consumo energético - Sector Todos",{"$f":"INDEX(Calculadora!$C$11:$H$60,MATCH('Ecuaciones y FE'!A394,Calculadora!$B$11:$B$60,0),MATCH(Calculadora!$H$11,Calculadora!$C$11:$H$11,0))","v":{"$error":"#N/A"}},null,null,null,null,null,null,null,null,null,null,null,null,null,null,null,null,0,null,null,null,null,null,null,null,null,0]
["In8","Industrial","Subsector industria de alimentos y bebidas","Elaboración de productos de panadería y tortillas","In8. Únicamente reporta consumo energético - Sector Todos",{"$f":"INDEX(Calculadora!$C$11:$H$60,MATCH('Ecuaciones y FE'!A395,Calculadora!$B$11:$B$60,0),MATCH(Calculadora!$H$11,Calculadora!$C$11:$H$11,0))","v":{"$error":"#N/A"}},null,null,null,null,null,null,null,null,null,null,null,null,null,null,null,null,0,null,null,null,null,null,null,null,null,0]
["In9","Industrial","Subsector industria de alimentos y bebidas","Industria de las bebidas, incluyendo no alcohólicas, de cerveza y bebidas alcohólicas fermentadas y destiladas","In9. Únicamente reporta consumo energético - Sector Todos",{"$f":"INDEX(Calculadora!$C$11:$H$60,MATCH('Ecuaciones y FE'!A396,Calculadora!$B$11:$B$60,0),MATCH(Calculadora!$H$11,Calculadora!$C$11:$H$11,0))","v":{"$error":"#N/A"}},null,null,null,null,null,null,null,null,null,null,null,null,null,null,null,null,0,null,null,null,null,null,null,null,null,0]
["Io","INDUSTRIA DE MADERA",null,"Actividad","Producto","Producción","Unidades Producción",null,null,null,null,null,null,null,"FE vidrio \n(ton CO2/ton vidrio)\n(ton CO2/MWh)",null,null,null,null,null,null,null,"Emisiones C2O",null,null,null,null,null,null,null,null,"Emisiones CO2e"]
["Io1","Industrial","Subsector industria de la madera","Fabricación de productos de madera","Io1. Únicamente reporta consumo energético - Sector Todos",{"$f":"INDEX(Calculadora!$C$11:$H$60,MATCH('Ecuaciones y FE'!A398,Calculadora!$B$11:$B$60,0),MATCH(Calculadora!$H$11,Calculadora!$C$11:$H$11,0))","v":{"$error":"#N/A"}},null,null,null,null,null,null,null,null,null,null,null,null,null,null,null,null,0,null,null,null,null,null,null,null,null,0]
["Ip","INDUSTRIA TEXTIL",null,"Actividad","Producto","Producción","Unidades Producción",null,null,null,null,null,null,null,"FE vidrio \n(ton CO2/ton vidrio)\n(ton CO2/MWh)",null,null,null,null,null,null,null,"Emisiones C2O",null,null,null,null,null,null,null,null,"Emisiones CO2e"]
["Ip1","Industrial","Subsector industria textil","Preparación e hilado de fibras textiles, y fabricación de hilos","Ip1. Únicamente reporta consumo energético - Sector Todos",{"$f":"INDEX(Calculadora!$C$11:$H$60,MATCH('Ecuaciones y FE'!A400,Calculadora!$B$11:$B$60,0),MATCH(Calculadora!$H$11,Calculadora!$C$11:$H$11,0))","v":{"$error":"#N/A"}},null,null,null,null,null,null,null,null,null,null,null,null,null,null,null,null,0,null,null,null,null,null,null,null,null,0]
["Ip2","Industrial","Subsector industria textil","Fabricación de telas, tejidas y no tejidas","Ip2. Únicamente reporta consumo energético - Sector Todos",{"$f":"INDEX(Calculadora!$C$11:$H$60,MATCH('Ecuaciones y FE'!A401,Calculadora!$B$11:$B$60,0),MATCH(Calculadora!$H$11,Calculadora!$C$11:$H$11,0))","v":{"$error":"#N/A"}},null,null,null,null,null,null,null,null,null,null,null,null,null,null,null,null,0,null,null,null,null,null,null,null,null,0]
["Ip3","Industrial","Subsector industria textil","Acabado de productos textiles y fabricación de telas recubiertas","Ip3. Únicamente reporta consumo energético - Sector Todos",{"$f":"INDEX(Calculadora!$C$11:$H$60,MATCH('Ecuaciones y FE'!A402,Calculadora!$B$11:$B$60,0),MATCH(Calculadora!$H$11,Calculadora!$C$11:$H$11,0))","v":{"$error":"#N/A"}},null,null,null,null,null,null,null,null,null,null,null,null,null,null,null,null,0,null,null,null,null,null,null,null,null,0]
["Ip4","Industrial","Subsector industria textil","Fabricación de prendas de vestir de tejido de punto","Ip4. Únicamente reporta consumo energético - Sector Todos",{"$f":"INDEX(Calculadora!$C$11:$H$60,MATCH('Ecuaciones y FE'!A403,Calculadora!$B$11:$B$60,0),MATCH(Calculadora!$H$11,Calculadora!$C$11:$H$11,0))","v":{"$error":"#N/A"}},null,null,null,null,null,null,null,null,null,null,null,null,null,null,null,null,0,null,null,null,null,null,null,null,null,0]
["Ip5","Industrial","Subsector industria textil","Confección de prendas de vestir","Ip5. Únicamente reporta consumo energético - Sector Todos",{"$f":"INDEX(Calculadora!$C$11:$H$60,MATCH('Ecuaciones y FE'!A404,Calculadora!$B$11:$B$60,0),MATCH(Calculadora!$H$11,Calculadora!$C$11:$H$11,0))","v":{"$error":"#N/A"}},null,null,null,null,null,null,null,null,null,null,null,null,null,null,null,null,0,null,null,null,null,null,null,null,null,0]
["Aa","AGRICULTURA",null,"Actividad","Producto","Producción","Unidades Producción",null,null,null,null,null,null,null,null,null,null,null,null,null,null,null,"Emisiones C2O","Emisiones CH4","Emisiones N2O",null,null,null,null,null,null,"Emisiones CO2e"]
["Aa1","Agropecuario","Subsector agricultura","Cultivo de oleaginosas, gramíneas, leguminosas o cereales, tanto en grano como forrajeras","Aa1. Únicamente reporta consumo energético - Sector Todos",{"$f":"INDEX(Calculadora!$C$11:$H$60,MATCH('Ecuaciones y FE'!A406,Calculadora!$B$11:$B$60,0),MATCH(Calculadora!$H$11,Calculadora!$C$11:$H$11,0))","v":{"$error":"#N/A"}},"NA",null,null,null,null,null,null,null,null,null,null,null,null,null,null,null,0,0,0,null,null,null,null,null,null,0]
["Aa2","Agropecuario","Subsector agricultura","Cultivo de hortalizas","Aa2. Únicamente reporta consumo energético - Sector Todos",{"$f":"INDEX(Calculadora!$C$11:$H$60,MATCH('Ecuaciones y FE'!A407,Calculadora!$B$11:$B$60,0),MATCH(Calculadora!$H$11,Calculadora!$C$11:$H$11,0))","v":{"$error":"#N/A"}},"NA",null,null,null,null,null,null,null,null,null,null,null,null,null,null,null,0,0,0,null,null,null,null,null,null,0]
["Aa3","Agropecuario","Subsector agricultura","Cultivo de frutales y nueces","Aa3. Únicamente reporta consumo energético - Sector Todos",{"$f":"INDEX(Calculadora!$C$11:$H$60,MATCH('Ecuaciones y FE'!A408,Calculadora!$B$11:$B$60,0),MATCH(Calculadora!$H$11,Calculadora!$C$11:$H$11,0))","v":{"$error":"#N/A"}},"NA",null,null,null,null,null,null,null,null,null,null,null,null,null,null,null,0,0,0,null,null,null,null,null,null,0]
["Aa4","Agropecuario","Subsector agricultura","Cultivo en invernaderos y viveros y floricultura","Aa4. Únicamente reporta consumo energético - Sector Todos",{"$f":"INDEX(Calculadora!$C$11:$H$60,MATCH('Ecuaciones y FE'!A409,Calculadora!$B$11:$B$60,0),MATCH(Calculadora!$H$11,Calculadora!$C$11:$H$11,0))","v":{"$error":"#N/A"}},"NA",null,null,null,null,null,null,null,"FE CO2 \n(ton CO2/MJ)","FE CH4\n(ton CH4/MJ)","FE N2O\n(ton CO2/MJ)",null,null,null,null,null,0,0,0,null,null,null,null,null,null,0]
["Aa5","Agropecuario","Subsector agricultura","Maquinaria agrícola","Aa5. Diesel",{"$f":"INDEX(Calculadora!$C$11:$H$60,MATCH('Ecuaciones y FE'!A410,Calculadora!$B$11:$B$60,0),MATCH(Calculadora!$H$11,Calculadora!$C$11:$H$11,0))","v":{"$error":"#N/A"}},"L",null,5952,"(MJ/bl)",null,null,null,null,7.4099999999999999E-5,4.1499999999999999E-9,2.8600000000000001E-8,null,null,null,null,null,{"$f":"$F$410*($I$410/159)*$O$410","v":{"$error":"#N/A"}},{"$f":"$F$410*($I$410/159)*$P$410","v":{"$error":"#N/A"}},{"$f":"$F$410*($I$410/159)*$Q$410","v":{"$error":"#N/A"}},null,null,null,null,null,null,{"$f":"W410+(X410*AI3)+($Y$410*$AI$4)","v":{"$error":"#N/A"}}]
["Aa6","Agropecuario","Subsector agricultura","Maquinaria agrícola","Aa6. Gasolinas y naftas",{"$f":"INDEX(Calculadora!$C$11:$H$60,MATCH('Ecuaciones y FE'!A411,Calculadora!$B$11:$B$60,0),MATCH(Calculadora!$H$11,Calculadora!$C$11:$H$11,0))","v":{"$error":"#N/A"}},"L",null,5542,"(MJ/bl)",null,null,null,null,6.9300000000000004E-5,8.0000000000000002E-8,2.0000000000000001E-9,null,null,null,null,null,{"$f":"$F$411*($I$411/1000)*$O$411","v":{"$error":"#N/A"}},{"$f":"F411*(I411/159)*P411","v":{"$error":"#N/A"}},{"$f":"F411*(I411/159)*Q411","v":{"$error":"#N/A"}},null,null,null,null,null,null,{"$f":"W411+(X411*AI3)+($Y$411*$AI$4)","v":{"$error":"#N/A"}}]
["Ab","GANADERÍA","Subsector ganadería",null,"Gestión de estiércol","Producción","Unidades de Producción",null,null,"Fev (kg N2O-N)","Excreción de N (kg N excretado/cabeza)","Frac Gas (%)",null,null,null,"FE ges (kg CH4/cabeza)","FE directo (kg N2O-N/kg N excretado)",null,null,null,null,null,null,"Emisiones CH4","Emisiones N2O",null,null,null,null,null,null,"Emisiones CO2e"]
[null,"Agropecuario","Explotación de bovinos","Bovinos para la producción conjunta de leche y carne",null,null,null,null,null,0.01,70,null,null,null,null,1,null,null,null,null,null,null,null,{"$f":"$P$413*F413/1000","v":0}]
["Ab001","Agropecuario","Subsector ganadería","Bovinos para la producción conjunta de leche y carne","Sin gestión de estiércol excretado en pasturas, prados o praderas (BCyL)",{"$f":"INDEX(Calculadora!$C$11:$H$60,MATCH('Ecuaciones y FE'!A414,Calculadora!$B$11:$B$60,0),MATCH(Calculadora!$H$11,Calculadora!$C$11:$H$11,0))","v":{"$error":"#N/A"}},"cabeza x % excretas gestionadas",null,null,null,null,0,null,null,null,null,0,null,null,null,null,null,null,{"$f":"$P$413*F414/1000","v":{"$error":"#N/A"}},{"$f":"(((F414*$K$413*Q414*(44/28))/1000)+((F414*$K$413*L414*$J$413*(44/28))/1000))","v":{"$error":"#N/A"}},null,null,null,null,null,null,{"$f":"(X414*$AI$3)+(Y414*$AI$4)","v":{"$error":"#N/A"}}]
["Ab002","Agropecuario","Subsector ganadería","Bovinos para la producción conjunta de leche y carne","Aplicación de estiércol en tierras de cultivo o pasturas dentro de las 24 horas de su excreción (BCyL)",{"$f":"INDEX(Calculadora!$C$11:$H$60,MATCH('Ecuaciones y FE'!A415,Calculadora!$B$11:$B$60,0),MATCH(Calculadora!$H$11,Calculadora!$C$11:$H$11,0))","v":{"$error":"#N/A"}},"cabeza x % excretas gestionadas",null,null,null,null,7.0000000000000007E-2,null,null,null,null,0,null,null,null,null,null,null,{"$error":"#N/A"},{"$f":"(((F415*$K$413*Q415*(44/28))/1000)+((F415*$K$413*L415*$J$413*(44/28))/1000))","v":{"$error":"#N/A"}},null,null,null,null,null,null,{"$f":"(X415*$AI$3)+(Y415*$AI$4)","v":{"$error":"#N/A"}}]
["Ab003","Agropecuario","Subsector ganadería","Bovinos para la producción conjunta de leche y carne","Almacenamiento de estiércol en pilas o montones no confinados (BCyL)",{"$f":"INDEX(Calculadora!$C$11:$H$60,MATCH('Ecuaciones y FE'!A416,Calculadora!$B$11:$B$60,0),MATCH(Calculadora!$H$11,Calculadora!$C$11:$H$11,0))","v":{"$error":"#N/A"}},"cabeza x % excretas gestionadas",null,null,null,null,0.45,null,null,null,null,5.0000000000000001E-3,null,null,null,null,null,null,{"$error":"#N/A"},{"$error":"#N/A"},null,null,null,null,null,null,{"$error":"#N/A"}]
["Ab004","Agropecuario","Subsector ganadería","Bovinos para la producción conjunta de leche y carne","Confinamiento de estiércol, con o sin retiro periódico (BCyL)",{"$f":"INDEX(Calculadora!$C$11:$H$60,MATCH('Ecuaciones y FE'!A417,Calculadora!$B$11:$B$60,0),MATCH(Calculadora!$H$11,Calculadora!$C$11:$H$11,0))","v":{"$error":"#N/A"}},"cabeza x % excretas gestionadas",null,null,null,null,0.2,null,null,null,null,0.02,null,null,null,null,null,null,{"$error":"#N/A"},{"$error":"#N/A"},null,null,null,null,null,null,{"$error":"#N/A"}]
["Ab005","Agropecuario","Subsector ganadería","Bovinos para la producción conjunta de leche y carne","Almacenamiento de estiércol (como se excreta o con un mínimo de agua) en tanques o estanques de tierra (BCyL)",{"$f":"INDEX(Calculadora!$C$11:$H$60,MATCH('Ecuaciones y FE'!A418,Calculadora!$B$11:$B$60,0),MATCH(Calculadora!$H$11,Calculadora!$C$11:$H$11,0))","v":{"$error":"#N/A"}},"cabeza x % excretas gestionadas",null,null,null,null,0.48,null,null,null,null,5.0000000000000001E-3,null,null,null,null,null,null,{"$error":"#N/A"},{"$error":"#N/A"},null,null,null,null,null,null,{"$error":"#N/A"}]
["Ab006","Agropecuario","Subsector ganadería","Bovinos para la producción conjunta de leche y carne","Almacenamiento de estiércol líquido (BCyL)",{"$f":"INDEX(Calculadora!$C$11:$H$60,MATCH('Ecuaciones y FE'!A419,Calculadora!$B$11:$B$60,0),MATCH(Calculadora!$H$11,Calculadora!$C$11:$H$11,0))","v":{"$error":"#N/A"}},"cabeza x % excretas gestionadas",null,null,null,null,0.48,null,null,null,null,0,null,null,null,null,null,null,{"$error":"#N/A"},{"$error":"#N/A"},null,null,null,null,null,null,{"$error":"#N/A"}]
["Ab007","Agropecuario","Subsector ganadería","Bovinos para la producción conjunta de leche y carne","Almacenamiento del estiércol (con poco o ningún agregado de agua) debajo de un suelo emparrillado (BCyL)",{"$f":"INDEX(Calculadora!$C$11:$H$60,MATCH('Ecuaciones y FE'!A420,Calculadora!$B$11:$B$60,0),MATCH(Calculadora!$H$11,Calculadora!$C$11:$H$11,0))","v":{"$error":"#N/A"}},"cabeza x % excretas gestionadas",null,null,null,null,0.5,null,null,null,null,2E-3,null,null,null,null,null,null,{"$error":"#N/A"},{"$error":"#N/A"},null,null,null,null,null,null,{"$error":"#N/A"}]
["Ab008","Agropecuario","Subsector ganadería","Bovinos para la producción conjunta de leche y carne","Almacenamiento de estiércol (con o sin paja) en un tanque contenedor o en una laguna cubierta en condiciones anaerobias (BCyL)",{"$f":"INDEX(Calculadora!$C$11:$H$60,MATCH('Ecuaciones y FE'!A421,Calculadora!$B$11:$B$60,0),MATCH(Calculadora!$H$11,Calculadora!$C$11:$H$11,0))","v":{"$error":"#N/A"}},"cabeza x % excretas gestionadas",null,null,null,null,0.25,null,null,null,null,0,null,null,null,null,null,null,{"$error":"#N/A"},{"$error":"#N/A"},null,null,null,null,null,null,{"$error":"#N/A"}]
["Ab009","Agropecuario","Subsector ganadería","Bovinos para la producción conjunta de leche y carne","Quema o uso como combustible de estiércol seco (BCyL)",{"$f":"INDEX(Calculadora!$C$11:$H$60,MATCH('Ecuaciones y FE'!A422,Calculadora!$B$11:$B$60,0),MATCH(Calculadora!$H$11,Calculadora!$C$11:$H$11,0))","v":{"$error":"#N/A"}},"cabeza x % excretas gestionadas",null,null,null,null,0,null,null,null,null,0,null,null,null,null,null,null,{"$error":"#N/A"},{"$error":"#N/A"},null,null,null,null,null,null,{"$error":"#N/A"}]
["Ab010","Agropecuario","Subsector ganadería","Bovinos para la producción conjunta de leche y carne","Almacenamiento de estiércol con cama de agregados para el control de humedad (BCyL)",{"$f":"INDEX(Calculadora!$C$11:$H$60,MATCH('Ecuaciones y FE'!A423,Calculadora!$B$11:$B$60,0),MATCH(Calculadora!$H$11,Calculadora!$C$11:$H$11,0))","v":{"$error":"#N/A"}},"cabeza x % excretas gestionadas",null,null,null,null,0,null,null,null,null,4.0000000000000001E-3,null,null,null,null,null,null,{"$error":"#N/A"},{"$error":"#N/A"},null,null,null,null,null,null,{"$error":"#N/A"}]
["Ab011","Agropecuario","Subsector ganadería","Bovinos para la producción conjunta de leche y carne","Composteo en canal cerrado, con aireación forzada y mezclado permanente (BCyL)",{"$f":"INDEX(Calculadora!$C$11:$H$60,MATCH('Ecuaciones y FE'!A424,Calculadora!$B$11:$B$60,0),MATCH(Calculadora!$H$11,Calculadora!$C$11:$H$11,0))","v":{"$error":"#N/A"}},"cabeza x % excretas gestionadas",null,null,null,null,0,null,null,null,null,6.0000000000000001E-3,null,null,null,null,null,null,{"$error":"#N/A"},{"$error":"#N/A"},null,null,null,null,null,null,{"$error":"#N/A"}]
["Ab012","Agropecuario","Subsector ganadería","Bovinos para la producción conjunta de leche y carne","Composteo en pilas con aireación forzada pero sin mezclado (BCyL)",{"$f":"INDEX(Calculadora!$C$11:$H$60,MATCH('Ecuaciones y FE'!A425,Calculadora!$B$11:$B$60,0),MATCH(Calculadora!$H$11,Calculadora!$C$11:$H$11,0))","v":{"$error":"#N/A"}},"cabeza x % excretas gestionadas",null,null,null,null,0,null,null,null,null,6.0000000000000001E-3,null,null,null,null,null,null,{"$error":"#N/A"},{"$error":"#N/A"},null,null,null,null,null,null,{"$error":"#N/A"}]
["Ab013","Agropecuario","Subsector ganadería","Bovinos para la producción conjunta de leche y carne","Composteo en pilas rectangulares con mezclado de medias vueltas regulares (diario) para mezclado y aireación (BCyL)",{"$f":"INDEX(Calculadora!$C$11:$H$60,MATCH('Ecuaciones y FE'!A426,Calculadora!$B$11:$B$60,0),MATCH(Calculadora!$H$11,Calculadora!$C$11:$H$11,0))","v":{"$error":"#N/A"}},"cabeza x % excretas gestionadas",null,null,null,null,0,null,null,null,null,0.1,null,null,null,null,null,null,{"$error":"#N/A"},{"$error":"#N/A"},null,null,null,null,null,null,{"$error":"#N/A"}]
["Ab014","Agropecuario","Subsector ganadería","Bovinos para la producción conjunta de leche y carne","Composteo en pilas rectangulares con mezclado de medias vueltas frecuentes para mezclado y aireación (BCyL)",{"$f":"INDEX(Calculadora!$C$11:$H$60,MATCH('Ecuaciones y FE'!A427,Calculadora!$B$11:$B$60,0),MATCH(Calculadora!$H$11,Calculadora!$C$11:$H$11,0))","v":{"$error":"#N/A"}},"cabeza x % excretas gestionadas",null,null,null,null,0,null,null,null,null,0.01,null,null,null,null,null,null,{"$error":"#N/A"},{"$error":"#N/A"},null,null,null,null,null,null,{"$error":"#N/A"}]
["Ab015","Agropecuario","Subsector ganadería","Bovinos para la producción conjunta de leche y carne","Mezclado de estiércol de aves de corral con hojarasca en camas profundas (no combinadas con engorde en corral o pastura) (BCyL)",{"$f":"INDEX(Calculadora!$C$11:$H$60,MATCH('Ecuaciones y FE'!A428,Calculadora!$B$11:$B$60,0),MATCH(Calculadora!$H$11,Calculadora!$C$11:$H$11,0))","v":{"$error":"#N/A"}},"cabeza x % excretas gestionadas",null,null,null,null,0,null,null,null,null,1E-3,null,null,null,null,null,null,{"$error":"#N/A"},{"$error":"#N/A"},null,null,null,null,null,null,{"$error":"#N/A"}]
["Ab016","Agropecuario","Subsector ganadería","Bovinos para la producción conjunta de leche y carne","Manejo de estiércol de aves de corral sin hojarasca en pozos abiertos en instalaciones cerradas (BCyL)",{"$f":"INDEX(Calculadora!$C$11:$H$60,MATCH('Ecuaciones y FE'!A429,Calculadora!$B$11:$B$60,0),MATCH(Calculadora!$H$11,Calculadora!$C$11:$H$11,0))","v":{"$error":"#N/A"}},"cabeza x % excretas gestionadas",null,null,null,null,0,null,null,null,null,1E-3,null,null,null,null,null,null,{"$error":"#N/A"},{"$error":"#N/A"},null,null,null,null,null,null,{"$error":"#N/A"}]
["Ab017","Agropecuario","Subsector ganadería","Bovinos para la producción conjunta de leche y carne","Oxidación biológica aeróbica del estiércol con aireación (BCyL)",{"$f":"INDEX(Calculadora!$C$11:$H$60,MATCH('Ecuaciones y FE'!A430,Calculadora!$B$11:$B$60,0),MATCH(Calculadora!$H$11,Calculadora!$C$11:$H$11,0))","v":{"$error":"#N/A"}},"cabeza x % excretas gestionadas",null,null,null,null,0,null,null,null,null,0.01,null,null,null,null,null,null,{"$error":"#N/A"},{"$error":"#N/A"},null,null,null,null,null,null,{"$error":"#N/A"}]
["Ab018","Agropecuario","Subsector ganadería","Bovinos para la producción conjunta de leche y carne","Oxidación biológica aeróbica del estiércol con aireación forzada (BCyL)",{"$f":"INDEX(Calculadora!$C$11:$H$60,MATCH('Ecuaciones y FE'!A431,Calculadora!$B$11:$B$60,0),MATCH(Calculadora!$H$11,Calculadora!$C$11:$H$11,0))","v":{"$error":"#N/A"}},"cabeza x % excretas gestionadas",null,null,null,null,0,null,null,null,null,5.0000000000000001E-3,null,null,null,null,null,null,{"$error":"#N/A"},{"$error":"#N/A"},null,null,null,null,null,null,{"$error":"#N/A"}]
[null,"Agropecuario","Explotación de bovinos","Bovinos para la producción de carne",null,{"$f":"INDEX(Calculadora!$C$11:$H$60,MATCH('Ecuaciones y FE'!A432,Calculadora!$B$11:$B$60,0),MATCH(Calculadora!$H$11,Calculadora!$C$11:$H$11,0))","v":{"$error":"#N/A"}},"cabeza","Pregunta al usuario",null,null,40,null,null,null,null,0.69399999999999995,0.01]
["Ab019","Agropecuario","Subsector ganadería","Bovinos para la producción de carne","Sin gestión de estiércol excretado en pasturas, prados o praderas (BC)",{"$f":"INDEX(Calculadora!$C$11:$H$60,MATCH('Ecuaciones y FE'!A433,Calculadora!$B$11:$B$60,0),MATCH(Calculadora!$H$11,Calculadora!$C$11:$H$11,0))","v":{"$error":"#N/A"}},"% excretas gestionadas",null,null,null,null,0,null,null,null,null,0,null,null,null,null,null,null,{"$f":"$P$432*F433/1000","v":{"$error":"#N/A"}},{"$f":"(((F433*$K$432*Q433*(44/28))/1000)+((F433*$K$432*L433*$J$413*(44/28))/1000))","v":{"$error":"#N/A"}},null,null,null,null,null,null,{"$error":"#N/A"}]
["Ab020","Agropecuario","Subsector ganadería","Bovinos para la producción de carne","Aplicación de estiércol en tierras de cultivo o pasturas dentro de las 24 horas de su excreción (BC)",{"$f":"INDEX(Calculadora!$C$11:$H$60,MATCH('Ecuaciones y FE'!A434,Calculadora!$B$11:$B$60,0),MATCH(Calculadora!$H$11,Calculadora!$C$11:$H$11,0))","v":{"$error":"#N/A"}},"% excretas gestionadas",null,null,null,null,0,null,null,null,null,0,null,null,null,null,null,null,{"$f":"$P$432*F434/1000","v":{"$error":"#N/A"}},{"$f":"(((F434*$K$432*Q434*(44/28))/1000)+((F434*$K$432*L434*$J$413*(44/28))/1000))","v":{"$error":"#N/A"}},null,null,null,null,null,null,{"$error":"#N/A"}]
["Ab021","Agropecuario","Subsector ganadería","Bovinos para la producción de carne","Almacenamiento de estiércol en pilas o montones no confinados (BC)",{"$f":"INDEX(Calculadora!$C$11:$H$60,MATCH('Ecuaciones y FE'!A435,Calculadora!$B$11:$B$60,0),MATCH(Calculadora!$H$11,Calculadora!$C$11:$H$11,0))","v":{"$error":"#N/A"}},"% excretas gestionadas",null,null,null,null,0.45,null,null,null,null,5.0000000000000001E-3,null,null,null,null,null,null,{"$error":"#N/A"},{"$error":"#N/A"},null,null,null,null,null,null,{"$error":"#N/A"}]
["Ab022","Agropecuario","Subsector ganadería","Bovinos para la producción de carne","Confinamiento de estiércol, con o sin retiro periódico (BC)",{"$f":"INDEX(Calculadora!$C$11:$H$60,MATCH('Ecuaciones y FE'!A436,Calculadora!$B$11:$B$60,0),MATCH(Calculadora!$H$11,Calculadora!$C$11:$H$11,0))","v":{"$error":"#N/A"}},"% excretas gestionadas",null,null,null,null,0.3,null,null,null,null,0.02,null,null,null,null,null,null,{"$error":"#N/A"},{"$error":"#N/A"},null,null,null,null,null,null,{"$error":"#N/A"}]
["Ab023","Agropecuario","Subsector ganadería","Bovinos para la producción de carne","Almacenamiento de estiércol (como se excreta o con un mínimo de agua) en tanques o estanques de tierra (BC)",{"$f":"INDEX(Calculadora!$C$11:$H$60,MATCH('Ecuaciones y FE'!A437,Calculadora!$B$11:$B$60,0),MATCH(Calculadora!$H$11,Calculadora!$C$11:$H$11,0))","v":{"$error":"#N/A"}},"% excretas gestionadas",null,null,null,null,0,null,null,null,null,5.0000000000000001E-3,null,null,null,null,null,null,{"$error":"#N/A"},{"$error":"#N/A"},null,null,null,null,null,null,{"$error":"#N/A"}]
["Ab024","Agropecuario","Subsector ganadería","Bovinos para la producción de carne","Almacenamiento de estiércol líquido (BC)",{"$f":"INDEX(Calculadora!$C$11:$H$60,MATCH('Ecuaciones y FE'!A438,Calculadora!$B$11:$B$60,0),MATCH(Calculadora!$H$11,Calculadora!$C$11:$H$11,0))","v":{"$error":"#N/A"}},"% excretas gestionadas",null,null,null,null,0,null,null,null,null,0,null,null,null,null,null,null,{"$error":"#N/A"},{"$error":"#N/A"},null,null,null,null,null,null,{"$error":"#N/A"}]
["Ab025","Agropecuario","Subsector ganadería","Bovinos para la producción de carne","Almacenamiento del estiércol (con poco o ningún agregado de agua) debajo de un suelo emparrillado (BC)",{"$f":"INDEX(Calculadora!$C$11:$H$60,MATCH('Ecuaciones y FE'!A439,Calculadora!$B$11:$B$60,0),MATCH(Calculadora!$H$11,Calculadora!$C$11:$H$11,0))","v":{"$error":"#N/A"}},"% excretas gestionadas",null,null,null,null,0,null,null,null,null,2E-3,null,null,null,null,null,null,{"$error":"#N/A"},{"$error":"#N/A"},null,null,null,null,null,null,{"$error":"#N/A"}]
["Ab026","Agropecuario","Subsector ganadería","Bovinos para la producción de carne","Almacenamiento de estiércol (con o sin paja) en un tanque contenedor o en una laguna cubierta en condiciones anaerobias (BC)",{"$f":"INDEX(Calculadora!$C$11:$H$60,MATCH('Ecuaciones y FE'!A440,Calculadora!$B$11:$B$60,0),MATCH(Calculadora!$H$11,Calculadora!$C$11:$H$11,0))","v":{"$error":"#N/A"}},"% excretas gestionadas",null,null,null,null,0,null,null,null,null,0,null,null,null,null,null,null,{"$error":"#N/A"},{"$error":"#N/A"},null,null,null,null,null,null,{"$error":"#N/A"}]
["Ab027","Agropecuario","Subsector ganadería","Bovinos para la producción de carne","Quema o uso como combustible de estiércol seco (BC)",{"$f":"INDEX(Calculadora!$C$11:$H$60,MATCH('Ecuaciones y FE'!A441,Calculadora!$B$11:$B$60,0),MATCH(Calculadora!$H$11,Calculadora!$C$11:$H$11,0))","v":{"$error":"#N/A"}},"% excretas gestionadas",null,null,null,null,0,null,null,null,null,0,null,null,null,null,null,null,{"$error":"#N/A"},{"$error":"#N/A"},null,null,null,null,null,null,{"$error":"#N/A"}]
["Ab028","Agropecuario","Subsector ganadería","Bovinos para la producción de carne","Almacenamiento de estiércol con cama de agregados para el control de humedad (BC)",{"$f":"INDEX(Calculadora!$C$11:$H$60,MATCH('Ecuaciones y FE'!A442,Calculadora!$B$11:$B$60,0),MATCH(Calculadora!$H$11,Calculadora!$C$11:$H$11,0))","v":{"$error":"#N/A"}},"% excretas gestionadas",null,null,null,null,0.3,null,null,null,null,4.0000000000000001E-3,null,null,null,null,null,null,{"$error":"#N/A"},{"$error":"#N/A"},null,null,null,null,null,null,{"$error":"#N/A"}]
["Ab029","Agropecuario","Subsector ganadería","Bovinos para la producción de carne","Composteo en canal cerrado, con aireación forzada y mezclado permanente (BC)",{"$f":"INDEX(Calculadora!$C$11:$H$60,MATCH('Ecuaciones y FE'!A443,Calculadora!$B$11:$B$60,0),MATCH(Calculadora!$H$11,Calculadora!$C$11:$H$11,0))","v":{"$error":"#N/A"}},"% excretas gestionadas",null,null,null,null,0,null,null,null,null,6.0000000000000001E-3,null,null,null,null,null,null,{"$error":"#N/A"},{"$f":"(((F443*$K$432*Q443*(44/28))/1000))","v":{"$error":"#N/A"}},null,null,null,null,null,null,{"$error":"#N/A"}]
["Ab030","Agropecuario","Subsector ganadería","Bovinos para la producción de carne","Composteo en pilas con aireación forzada pero sin mezclado (BC)",{"$f":"INDEX(Calculadora!$C$11:$H$60,MATCH('Ecuaciones y FE'!A444,Calculadora!$B$11:$B$60,0),MATCH(Calculadora!$H$11,Calculadora!$C$11:$H$11,0))","v":{"$error":"#N/A"}},"% excretas gestionadas",null,null,null,null,0,null,null,null,null,6.0000000000000001E-3,null,null,null,null,null,null,{"$error":"#N/A"},{"$error":"#N/A"},null,null,null,null,null,null,{"$error":"#N/A"}]
["Ab031","Agropecuario","Subsector ganadería","Bovinos para la producción de carne","Composteo en pilas rectangulares con mezclado de medias vueltas regulares (diario) para mezclado y aireación (BC)",{"$f":"INDEX(Calculadora!$C$11:$H$60,MATCH('Ecuaciones y FE'!A445,Calculadora!$B$11:$B$60,0),MATCH(Calculadora!$H$11,Calculadora!$C$11:$H$11,0))","v":{"$error":"#N/A"}},"% excretas gestionadas",null,null,null,null,0,null,null,null,null,0.1,null,null,null,null,null,null,{"$error":"#N/A"},{"$error":"#N/A"},null,null,null,null,null,null,{"$error":"#N/A"}]
["Ab032","Agropecuario","Subsector ganadería","Bovinos para la producción de carne","Composteo en pilas rectangulares con mezclado de medias vueltas frecuentes para mezclado y aireación (BC)",{"$f":"INDEX(Calculadora!$C$11:$H$60,MATCH('Ecuaciones y FE'!A446,Calculadora!$B$11:$B$60,0),MATCH(Calculadora!$H$11,Calculadora!$C$11:$H$11,0))","v":{"$error":"#N/A"}},"% excretas gestionadas",null,null,null,null,0,null,null,null,null,0.01,null,null,null,null,null,null,{"$error":"#N/A"},{"$error":"#N/A"},null,null,null,null,null,null,{"$error":"#N/A"}]
["Ab033","Agropecuario","Subsector ganadería","Bovinos para la producción de carne","Mezclado de estiércol de aves de corral con hojarasca en camas profundas (no combinadas con engorde en corral o pastura) (BC)",{"$f":"INDEX(Calculadora!$C$11:$H$60,MATCH('Ecuaciones y FE'!A447,Calculadora!$B$11:$B$60,0),MATCH(Calculadora!$H$11,Calculadora!$C$11:$H$11,0))","v":{"$error":"#N/A"}},"% excretas gestionadas",null,null,null,null,0,null,null,null,null,1E-3,null,null,null,null,null,null,{"$error":"#N/A"},{"$error":"#N/A"},null,null,null,null,null,null,{"$error":"#N/A"}]
["Ab034","Agropecuario","Subsector ganadería","Bovinos para la producción de carne","Manejo de estiércol de aves de corral sin hojarasca en pozos abiertos en instalaciones cerradas  (BC)",{"$f":"INDEX(Calculadora!$C$11:$H$60,MATCH('Ecuaciones y FE'!A448,Calculadora!$B$11:$B$60,0),MATCH(Calculadora!$H$11,Calculadora!$C$11:$H$11,0))","v":{"$error":"#N/A"}},"% excretas gestionadas",null,null,null,null,0,null,null,null,null,1E-3,null,null,null,null,null,null,{"$error":"#N/A"},{"$error":"#N/A"},null,null,null,null,null,null,{"$error":"#N/A"}]
["Ab035","Agropecuario","Subsector ganadería","Bovinos para la producción de carne","Oxidación biológica aeróbica del estiércol con aireación  (BC)",{"$f":"INDEX(Calculadora!$C$11:$H$60,MATCH('Ecuaciones y FE'!A449,Calculadora!$B$11:$B$60,0),MATCH(Calculadora!$H$11,Calculadora!$C$11:$H$11,0))","v":{"$error":"#N/A"}},"% excretas gestionadas",null,null,null,null,0,null,null,null,null,0.01,null,null,null,null,null,null,{"$error":"#N/A"},{"$error":"#N/A"},null,null,null,null,null,null,{"$error":"#N/A"}]
["Ab036","Agropecuario","Subsector ganadería","Bovinos para la producción de carne","Oxidación biológica aeróbica del estiércol con aireación forzada  (BC)",{"$f":"INDEX(Calculadora!$C$11:$H$60,MATCH('Ecuaciones y FE'!A450,Calculadora!$B$11:$B$60,0),MATCH(Calculadora!$H$11,Calculadora!$C$11:$H$11,0))","v":{"$error":"#N/A"}},"% excretas gestionadas",null,null,null,null,0,null,null,null,null,5.0000000000000001E-3,null,null,null,null,null,null,{"$error":"#N/A"},{"$error":"#N/A"},null,null,null,null,null,null,{"$error":"#N/A"}]
[null,"Agropecuario","Explotación de bovinos","Bovinos para la producción de leche",null,{"$f":"INDEX(Calculadora!$C$11:$H$60,MATCH('Ecuaciones y FE'!A451,Calculadora!$B$11:$B$60,0),MATCH(Calculadora!$H$11,Calculadora!$C$11:$H$11,0))","v":{"$error":"#N/A"}},"cabeza","Pregunta al usuario",null,null,70,null,null,null,null,1,0.01,null,null,null,null,null,null,null,null,null,null,null,null,null,null,null,null,null,null,null,null,7.0000000000000007E-2,0.45,0.2,0.48,0.48,0.5,0.25,"NA","NA","NA","NA"]
["Ab037","Agropecuario","Subsector ganadería","Bovinos para la producción de leche","Sin gestión de estiércol excretado en pasturas, prados o praderas (BL)",{"$f":"INDEX(Calculadora!$C$11:$H$60,MATCH('Ecuaciones y FE'!A452,Calculadora!$B$11:$B$60,0),MATCH(Calculadora!$H$11,Calculadora!$C$11:$H$11,0))","v":{"$error":"#N/A"}},"% excretas gestionadas",null,null,null,null,0,null,null,null,null,0,null,null,null,null,null,null,{"$f":"$P$451*F452/1000","v":{"$error":"#N/A"}},{"$f":"(((F452*$K$451*Q452*(44/28))/1000)+((F452*$K$451*L452*$J$413*(44/28))/1000))","v":{"$error":"#N/A"}},null,null,null,null,null,null,{"$error":"#N/A"}]
["Ab038","Agropecuario","Subsector ganadería","Bovinos para la producción de leche","Aplicación de estiércol en tierras de cultivo o pasturas dentro de las 24 horas de su excreción (BL)",{"$f":"INDEX(Calculadora!$C$11:$H$60,MATCH('Ecuaciones y FE'!A453,Calculadora!$B$11:$B$60,0),MATCH(Calculadora!$H$11,Calculadora!$C$11:$H$11,0))","v":{"$error":"#N/A"}},"% excretas gestionadas",null,null,null,null,7.0000000000000007E-2,null,null,null,null,0,null,null,null,null,null,null,{"$f":"$P$451*F453/1000","v":{"$error":"#N/A"}},{"$f":"(((F453*$K$451*Q453*(44/28))/1000)+((F453*$K$451*L453*$J$413*(44/28))/1000))","v":{"$error":"#N/A"}},null,null,null,null,null,null,{"$error":"#N/A"}]
["Ab039","Agropecuario","Subsector ganadería","Bovinos para la producción de leche","Almacenamiento de estiércol en pilas o montones no confinados (BL)",{"$f":"INDEX(Calculadora!$C$11:$H$60,MATCH('Ecuaciones y FE'!A454,Calculadora!$B$11:$B$60,0),MATCH(Calculadora!$H$11,Calculadora!$C$11:$H$11,0))","v":{"$error":"#N/A"}},"% excretas gestionadas",null,null,null,null,0.45,null,null,null,null,5.0000000000000001E-3,null,null,null,null,null,null,{"$error":"#N/A"},{"$error":"#N/A"},null,null,null,null,null,null,{"$error":"#N/A"}]
["Ab040","Agropecuario","Subsector ganadería","Bovinos para la producción de leche","Confinamiento de estiércol, con o sin retiro periódico (BL)",{"$f":"INDEX(Calculadora!$C$11:$H$60,MATCH('Ecuaciones y FE'!A455,Calculadora!$B$11:$B$60,0),MATCH(Calculadora!$H$11,Calculadora!$C$11:$H$11,0))","v":{"$error":"#N/A"}},"% excretas gestionadas",null,null,null,null,0.2,null,null,null,null,0.02,null,null,null,null,null,null,{"$error":"#N/A"},{"$error":"#N/A"},null,null,null,null,null,null,{"$error":"#N/A"}]
["Ab041","Agropecuario","Subsector ganadería","Bovinos para la producción de leche","Almacenamiento de estiércol (como se excreta o con un mínimo de agua) en tanques o estanques de tierra (BL)",{"$f":"INDEX(Calculadora!$C$11:$H$60,MATCH('Ecuaciones y FE'!A456,Calculadora!$B$11:$B$60,0),MATCH(Calculadora!$H$11,Calculadora!$C$11:$H$11,0))","v":{"$error":"#N/A"}},"% excretas gestionadas",null,null,null,null,0.48,null,null,null,null,5.0000000000000001E-3,null,null,null,null,null,null,{"$error":"#N/A"},{"$error":"#N/A"},null,null,null,null,null,null,{"$error":"#N/A"}]
["Ab042","Agropecuario","Subsector ganadería","Bovinos para la producción de leche","Almacenamiento de estiércol líquido (BL)",{"$f":"INDEX(Calculadora!$C$11:$H$60,MATCH('Ecuaciones y FE'!A457,Calculadora!$B$11:$B$60,0),MATCH(Calculadora!$H$11,Calculadora!$C$11:$H$11,0))","v":{"$error":"#N/A"}},"% excretas gestionadas",null,null,null,null,0.48,null,null,null,null,0,null,null,null,null,null,null,{"$error":"#N/A"},{"$error":"#N/A"},null,null,null,null,null,null,{"$error":"#N/A"}]
["Ab043","Agropecuario","Subsector ganadería","Bovinos para la producción de leche","Almacenamiento del estiércol (con poco o ningún agregado de agua) debajo de un suelo emparrillado (BL)",{"$f":"INDEX(Calculadora!$C$11:$H$60,MATCH('Ecuaciones y FE'!A458,Calculadora!$B$11:$B$60,0),MATCH(Calculadora!$H$11,Calculadora!$C$11:$H$11,0))","v":{"$error":"#N/A"}},"% excretas gestionadas",null,null,null,null,0.5,null,null,null,null,2E-3,null,null,null,null,null,null,{"$error":"#N/A"},{"$error":"#N/A"},null,null,null,null,null,null,{"$error":"#N/A"}]
["Ab044","Agropecuario","Subsector ganadería","Bovinos para la producción de leche","Almacenamiento de estiércol (con o sin paja) en un tanque contenedor o en una laguna cubierta en condiciones anaerobias (BL)",{"$f":"INDEX(Calculadora!$C$11:$H$60,MATCH('Ecuaciones y FE'!A459,Calculadora!$B$11:$B$60,0),MATCH(Calculadora!$H$11,Calculadora!$C$11:$H$11,0))","v":{"$error":"#N/A"}},"% excretas gestionadas",null,null,null,null,0.25,null,null,null,null,0,null,null,null,null,null,null,{"$error":"#N/A"},{"$error":"#N/A"},null,null,null,null,null,null,{"$error":"#N/A"}]
["Ab045","Agropecuario","Subsector ganadería","Bovinos para la producción de leche","Quema o uso como combustible de estiércol seco (BL)",{"$f":"INDEX(Calculadora!$C$11:$H$60,MATCH('Ecuaciones y FE'!A460,Calculadora!$B$11:$B$60,0),MATCH(Calculadora!$H$11,Calculadora!$C$11:$H$11,0))","v":{"$error":"#N/A"}},"% excretas gestionadas",null,null,null,null,0,null,null,null,null,0,null,null,null,null,null,null,{"$error":"#N/A"},{"$error":"#N/A"},null,null,null,null,null,null,{"$error":"#N/A"}]
["Ab046","Agropecuario","Subsector ganadería","Bovinos para la producción de leche","Almacenamiento de estiércol con cama de agregados para el control de humedad (BL)",{"$f":"INDEX(Calculadora!$C$11:$H$60,MATCH('Ecuaciones y FE'!A461,Calculadora!$B$11:$B$60,0),MATCH(Calculadora!$H$11,Calculadora!$C$11:$H$11,0))","v":{"$error":"#N/A"}},"% excretas gestionadas",null,null,null,null,0,null,null,null,null,4.0000000000000001E-3,null,null,null,null,null,null,{"$error":"#N/A"},{"$error":"#N/A"},null,null,null,null,null,null,{"$error":"#N/A"}]
["Ab047","Agropecuario","Subsector ganadería","Bovinos para la producción de leche","Composteo en canal cerrado, con aireación forzada y mezclado permanente (BL)",{"$f":"INDEX(Calculadora!$C$11:$H$60,MATCH('Ecuaciones y FE'!A462,Calculadora!$B$11:$B$60,0),MATCH(Calculadora!$H$11,Calculadora!$C$11:$H$11,0))","v":{"$error":"#N/A"}},"% excretas gestionadas",null,null,null,null,0,null,null,null,null,6.0000000000000001E-3,null,null,null,null,null,null,{"$error":"#N/A"},{"$error":"#N/A"},null,null,null,null,null,null,{"$error":"#N/A"}]
["Ab048","Agropecuario","Subsector ganadería","Bovinos para la producción de leche","Composteo en pilas con aireación forzada pero sin mezclado (BL)",{"$f":"INDEX(Calculadora!$C$11:$H$60,MATCH('Ecuaciones y FE'!A463,Calculadora!$B$11:$B$60,0),MATCH(Calculadora!$H$11,Calculadora!$C$11:$H$11,0))","v":{"$error":"#N/A"}},"% excretas gestionadas",null,null,null,null,0,null,null,null,null,6.0000000000000001E-3,null,null,null,null,null,null,{"$error":"#N/A"},{"$error":"#N/A"},null,null,null,null,null,null,{"$error":"#N/A"}]
["Ab049","Agropecuario","Subsector ganadería","Bovinos para la producción de leche","Composteo en pilas rectangulares con mezclado de medias vueltas regulares (diario) para mezclado y aireación (BL)",{"$f":"INDEX(Calculadora!$C$11:$H$60,MATCH('Ecuaciones y FE'!A464,Calculadora!$B$11:$B$60,0),MATCH(Calculadora!$H$11,Calculadora!$C$11:$H$11,0))","v":{"$error":"#N/A"}},"% excretas gestionadas",null,null,null,null,0,null,null,null,null,0.1,null,null,null,null,null,null,{"$error":"#N/A"},{"$error":"#N/A"},null,null,null,null,null,null,{"$error":"#N/A"}]
["Ab050","Agropecuario","Subsector ganadería","Bovinos para la producción de leche","Composteo en pilas rectangulares con mezclado de medias vueltas frecuentes para mezclado y aireación (BL)",{"$f":"INDEX(Calculadora!$C$11:$H$60,MATCH('Ecuaciones y FE'!A465,Calculadora!$B$11:$B$60,0),MATCH(Calculadora!$H$11,Calculadora!$C$11:$H$11,0))","v":{"$error":"#N/A"}},"% excretas gestionadas",null,null,null,null,0,null,null,null,null,0.01,null,null,null,null,null,null,{"$error":"#N/A"},{"$error":"#N/A"},null,null,null,null,null,null,{"$error":"#N/A"}]
["Ab051","Agropecuario","Subsector ganadería","Bovinos para la producción de leche","Mezclado de estiércol de aves de corral con hojarasca en camas profundas (no combinadas con engorde en corral o pastura) (BL)",{"$f":"INDEX(Calculadora!$C$11:$H$60,MATCH('Ecuaciones y FE'!A466,Calculadora!$B$11:$B$60,0),MATCH(Calculadora!$H$11,Calculadora!$C$11:$H$11,0))","v":{"$error":"#N/A"}},"% excretas gestionadas",null,null,null,null,0,null,null,null,null,1E-3,null,null,null,null,null,null,{"$error":"#N/A"},{"$error":"#N/A"},null,null,null,null,null,null,{"$error":"#N/A"}]
["Ab052","Agropecuario","Subsector ganadería","Bovinos para la producción de leche","Manejo de estiércol de aves de corral sin hojarasca en pozos abiertos en instalaciones cerradas (BL)",{"$f":"INDEX(Calculadora!$C$11:$H$60,MATCH('Ecuaciones y FE'!A467,Calculadora!$B$11:$B$60,0),MATCH(Calculadora!$H$11,Calculadora!$C$11:$H$11,0))","v":{"$error":"#N/A"}},"% excretas gestionadas",null,null,null,null,0,null,null,null,null,1E-3,null,null,null,null,null,null,{"$error":"#N/A"},{"$error":"#N/A"},null,null,null,null,null,null,{"$error":"#N/A"}]
["Ab053","Agropecuario","Subsector ganadería","Bovinos para la producción de leche","Oxidación biológica aeróbica del estiércol con aireación  (BL)",{"$f":"INDEX(Calculadora!$C$11:$H$60,MATCH('Ecuaciones y FE'!A468,Calculadora!$B$11:$B$60,0),MATCH(Calculadora!$H$11,Calculadora!$C$11:$H$11,0))","v":{"$error":"#N/A"}},"% excretas gestionadas",null,null,null,null,0,null,null,null,null,0.01,null,null,null,null,null,null,{"$error":"#N/A"},{"$error":"#N/A"},null,null,null,null,null,null,{"$error":"#N/A"}]
["Ab054","Agropecuario","Subsector ganadería","Bovinos para la producción de leche","Oxidación biológica aeróbica del estiércol con aireación forzada (BL)",{"$f":"INDEX(Calculadora!$C$11:$H$60,MATCH('Ecuaciones y FE'!A469,Calculadora!$B$11:$B$60,0),MATCH(Calculadora!$H$11,Calculadora!$C$11:$H$11,0))","v":{"$error":"#N/A"}},"% excretas gestionadas",null,null,null,null,0,null,null,null,null,5.0000000000000001E-3,null,null,null,null,null,null,{"$error":"#N/A"},{"$error":"#N/A"},null,null,null,null,null,null,{"$error":"#N/A"}]
[null,"Agropecuario","Explotación de bovinos","Bovinos para otros propósitos ",null,{"$f":"INDEX(Calculadora!$C$11:$H$60,MATCH('Ecuaciones y FE'!A470,Calculadora!$B$11:$B$60,0),MATCH(Calculadora!$H$11,Calculadora!$C$11:$H$11,0))","v":{"$error":"#N/A"}},"cabeza","Pregunta al usuario",null,null,40,null,null,null,null,1,0.01,null,null,null,null,null,null,null,null,null,null,null,null,null,null,null,null,null,null,null,null,"NA",0.45,0.3,"NA","NA","NA","NA",0.3,0.3,"NA","NA"]
["Ab055","Agropecuario","Subsector ganadería","Bovinos para otros propósitos ","Sin gestión de estiércol excretado en pasturas, prados o praderas (BO)",{"$f":"INDEX(Calculadora!$C$11:$H$60,MATCH('Ecuaciones y FE'!A471,Calculadora!$B$11:$B$60,0),MATCH(Calculadora!$H$11,Calculadora!$C$11:$H$11,0))","v":{"$error":"#N/A"}},null,null,null,null,null,0,null,null,null,null,0,null,null,null,null,null,null,{"$f":"$P$470*F471/1000","v":{"$error":"#N/A"}},{"$f":"(((F471*$K$470*Q471*(44/28))/1000)+((F471*$K$470*L471*$J$413*(44/28))/1000))","v":{"$error":"#N/A"}},null,null,null,null,null,null,{"$error":"#N/A"}]
["Ab056","Agropecuario","Subsector ganadería","Bovinos para otros propósitos ","Aplicación de estiércol en tierras de cultivo o pasturas dentro de las 24 horas de su excreción (BO)",{"$f":"INDEX(Calculadora!$C$11:$H$60,MATCH('Ecuaciones y FE'!A472,Calculadora!$B$11:$B$60,0),MATCH(Calculadora!$H$11,Calculadora!$C$11:$H$11,0))","v":{"$error":"#N/A"}},null,null,null,null,null,0,null,null,null,null,0,null,null,null,null,null,null,{"$f":"$P$470*F472/1000","v":{"$error":"#N/A"}},{"$f":"(((F472*$K$470*Q472*(44/28))/1000)+((F472*$K$470*L472*$J$413*(44/28))/1000))","v":{"$error":"#N/A"}},null,null,null,null,null,null,{"$error":"#N/A"}]
["Ab057","Agropecuario","Subsector ganadería","Bovinos para otros propósitos ","Almacenamiento de estiércol en pilas o montones no confinados (BO)",{"$f":"INDEX(Calculadora!$C$11:$H$60,MATCH('Ecuaciones y FE'!A473,Calculadora!$B$11:$B$60,0),MATCH(Calculadora!$H$11,Calculadora!$C$11:$H$11,0))","v":{"$error":"#N/A"}},null,null,null,null,null,0.45,null,null,null,null,5.0000000000000001E-3,null,null,null,null,null,null,{"$error":"#N/A"},{"$error":"#N/A"},null,null,null,null,null,null,{"$error":"#N/A"}]
["Ab058","Agropecuario","Subsector ganadería","Bovinos para otros propósitos ","Confinamiento de estiércol, con o sin retiro periódico (BO)",{"$f":"INDEX(Calculadora!$C$11:$H$60,MATCH('Ecuaciones y FE'!A474,Calculadora!$B$11:$B$60,0),MATCH(Calculadora!$H$11,Calculadora!$C$11:$H$11,0))","v":{"$error":"#N/A"}},null,null,null,null,null,0.3,null,null,null,null,0.02,null,null,null,null,null,null,{"$error":"#N/A"},{"$error":"#N/A"},null,null,null,null,null,null,{"$error":"#N/A"}]
["Ab059","Agropecuario","Subsector ganadería","Bovinos para otros propósitos ","Almacenamiento de estiércol (como se excreta o con un mínimo de agua) en tanques o estanques de tierra (BO)",{"$f":"INDEX(Calculadora!$C$11:$H$60,MATCH('Ecuaciones y FE'!A475,Calculadora!$B$11:$B$60,0),MATCH(Calculadora!$H$11,Calculadora!$C$11:$H$11,0))","v":{"$error":"#N/A"}},null,null,null,null,null,0,null,null,null,null,5.0000000000000001E-3,null,null,null,null,null,null,{"$error":"#N/A"},{"$error":"#N/A"},null,null,null,null,null,null,{"$error":"#N/A"}]
["Ab060","Agropecuario","Subsector ganadería","Bovinos para otros propósitos ","Almacenamiento de estiércol líquido (BO)",{"$f":"INDEX(Calculadora!$C$11:$H$60,MATCH('Ecuaciones y FE'!A476,Calculadora!$B$11:$B$60,0),MATCH(Calculadora!$H$11,Calculadora!$C$11:$H$11,0))","v":{"$error":"#N/A"}},null,null,null,null,null,0,null,null,null,null,0,null,null,null,null,null,null,{"$error":"#N/A"},{"$error":"#N/A"},null,null,null,null,null,null,{"$error":"#N/A"}]
["Ab061","Agropecuario","Subsector ganadería","Bovinos para otros propósitos ","Almacenamiento del estiércol (con poco o ningún agregado de agua) debajo de un suelo emparrillado (BO)",{"$f":"INDEX(Calculadora!$C$11:$H$60,MATCH('Ecuaciones y FE'!A477,Calculadora!$B$11:$B$60,0),MATCH(Calculadora!$H$11,Calculadora!$C$11:$H$11,0))","v":{"$error":"#N/A"}},null,null,null,null,null,0,null,null,null,null,2E-3,null,null,null,null,null,null,{"$error":"#N/A"},{"$error":"#N/A"},null,null,null,null,null,null,{"$error":"#N/A"}]
["Ab062","Agropecuario","Subsector ganadería","Bovinos para otros propósitos ","Almacenamiento de estiércol (con o sin paja) en un tanque contenedor o en una laguna cubierta en condiciones anaerobias (BO)",{"$f":"INDEX(Calculadora!$C$11:$H$60,MATCH('Ecuaciones y FE'!A478,Calculadora!$B$11:$B$60,0),MATCH(Calculadora!$H$11,Calculadora!$C$11:$H$11,0))","v":{"$error":"#N/A"}},null,null,null,null,null,0,null,null,null,null,0,null,null,null,null,null,null,{"$error":"#N/A"},{"$error":"#N/A"},null,null,null,null,null,null,{"$error":"#N/A"}]
["Ab063","Agropecuario","Subsector ganadería","Bovinos para otros propósitos ","Quema o uso como combustible de estiércol seco (BO)",{"$f":"INDEX(Calculadora!$C$11:$H$60,MATCH('Ecuaciones y FE'!A479,Calculadora!$B$11:$B$60,0),MATCH(Calculadora!$H$11,Calculadora!$C$11:$H$11,0))","v":{"$error":"#N/A"}},null,null,null,null,null,0,null,null,null,null,0,null,null,null,null,null,null,{"$error":"#N/A"},{"$error":"#N/A"},null,null,null,null,null,null,{"$f":"(X479*$AI$3)+(Y479*$AI$4)","v":{"$error":"#N/A"}}]
["Ab064","Agropecuario","Subsector ganadería","Bovinos para otros propósitos ","Almacenamiento de estiércol con cama de agregados para el control de humedad (BO)",{"$f":"INDEX(Calculadora!$C$11:$H$60,MATCH('Ecuaciones y FE'!A480,Calculadora!$B$11:$B$60,0),MATCH(Calculadora!$H$11,Calculadora!$C$11:$H$11,0))","v":{"$error":"#N/A"}},null,null,null,null,null,0.3,null,null,null,null,4.0000000000000001E-3,null,null,null,null,null,null,{"$error":"#N/A"},{"$error":"#N/A"},null,null,null,null,null,null,{"$error":"#N/A"}]
["Ab065","Agropecuario","Subsector ganadería","Bovinos para otros propósitos ","Composteo en canal cerrado, con aireación forzada y mezclado permanente (BO)",{"$f":"INDEX(Calculadora!$C$11:$H$60,MATCH('Ecuaciones y FE'!A481,Calculadora!$B$11:$B$60,0),MATCH(Calculadora!$H$11,Calculadora!$C$11:$H$11,0))","v":{"$error":"#N/A"}},null,null,null,null,null,0,null,null,null,null,6.0000000000000001E-3,null,null,null,null,null,null,{"$error":"#N/A"},{"$error":"#N/A"},null,null,null,null,null,null,{"$error":"#N/A"}]
["Ab066","Agropecuario","Subsector ganadería","Bovinos para otros propósitos ","Composteo en pilas con aireación forzada pero sin mezclado (BO)",{"$f":"INDEX(Calculadora!$C$11:$H$60,MATCH('Ecuaciones y FE'!A482,Calculadora!$B$11:$B$60,0),MATCH(Calculadora!$H$11,Calculadora!$C$11:$H$11,0))","v":{"$error":"#N/A"}},null,null,null,null,null,0,null,null,null,null,6.0000000000000001E-3,null,null,null,null,null,null,{"$error":"#N/A"},{"$error":"#N/A"},null,null,null,null,null,null,{"$error":"#N/A"}]
["Ab067","Agropecuario","Subsector ganadería","Bovinos para otros propósitos ","Composteo en pilas rectangulares con mezclado de medias vueltas regulares (diario) para mezclado y aireación (BO)",{"$f":"INDEX(Calculadora!$C$11:$H$60,MATCH('Ecuaciones y FE'!A483,Calculadora!$B$11:$B$60,0),MATCH(Calculadora!$H$11,Calculadora!$C$11:$H$11,0))","v":{"$error":"#N/A"}},null,null,null,null,null,0,null,null,null,null,0.1,null,null,null,null,null,null,{"$error":"#N/A"},{"$error":"#N/A"},null,null,null,null,null,null,{"$error":"#N/A"}]
["Ab068","Agropecuario","Subsector ganadería","Bovinos para otros propósitos ","Composteo en pilas rectangulares con mezclado de medias vueltas frecuentes para mezclado y aireación (BO)",{"$f":"INDEX(Calculadora!$C$11:$H$60,MATCH('Ecuaciones y FE'!A484,Calculadora!$B$11:$B$60,0),MATCH(Calculadora!$H$11,Calculadora!$C$11:$H$11,0))","v":{"$error":"#N/A"}},null,null,null,null,null,0,null,null,null,null,0.01,null,null,null,null,null,null,{"$error":"#N/A"},{"$error":"#N/A"},null,null,null,null,null,null,{"$error":"#N/A"}]
["Ab069","Agropecuario","Subsector ganadería","Bovinos para otros propósitos ","Mezclado de estiércol de aves de corral con hojarasca en camas profundas (no combinadas con engorde en corral o pastura) (BO)",{"$f":"INDEX(Calculadora!$C$11:$H$60,MATCH('Ecuaciones y FE'!A485,Calculadora!$B$11:$B$60,0),MATCH(Calculadora!$H$11,Calculadora!$C$11:$H$11,0))","v":{"$error":"#N/A"}},null,null,null,null,null,0,null,null,null,null,1E-3,null,null,null,null,null,null,{"$error":"#N/A"},{"$error":"#N/A"},null,null,null,null,null,null,{"$error":"#N/A"}]
["Ab070","Agropecuario","Subsector ganadería","Bovinos para otros propósitos ","Manejo de estiércol de aves de corral sin hojarasca en pozos abiertos en instalaciones cerradas (BO)",{"$f":"INDEX(Calculadora!$C$11:$H$60,MATCH('Ecuaciones y FE'!A486,Calculadora!$B$11:$B$60,0),MATCH(Calculadora!$H$11,Calculadora!$C$11:$H$11,0))","v":{"$error":"#N/A"}},null,null,null,null,null,0,null,null,null,null,1E-3,null,null,null,null,null,null,{"$error":"#N/A"},{"$error":"#N/A"},null,null,null,null,null,null,{"$error":"#N/A"}]
["Ab071","Agropecuario","Subsector ganadería","Bovinos para otros propósitos ","Oxidación biológica aeróbica del estiércol con aireación (BO)",{"$f":"INDEX(Calculadora!$C$11:$H$60,MATCH('Ecuaciones y FE'!A487,Calculadora!$B$11:$B$60,0),MATCH(Calculadora!$H$11,Calculadora!$C$11:$H$11,0))","v":{"$error":"#N/A"}},null,null,null,null,null,0,null,null,null,null,0.01,null,null,null,null,null,null,{"$error":"#N/A"},{"$error":"#N/A"},null,null,null,null,null,null,{"$error":"#N/A"}]
["Ab072","Agropecuario","Subsector ganadería","Bovinos para otros propósitos ","Oxidación biológica aeróbica del estiércol con aireación forzada (BO)",{"$f":"INDEX(Calculadora!$C$11:$H$60,MATCH('Ecuaciones y FE'!A488,Calculadora!$B$11:$B$60,0),MATCH(Calculadora!$H$11,Calculadora!$C$11:$H$11,0))","v":{"$error":"#N/A"}},null,null,null,null,null,0,null,null,null,null,5.0000000000000001E-3,null,null,null,null,null,null,{"$error":"#N/A"},{"$error":"#N/A"},null,null,null,null,null,null,{"$error":"#N/A"}]
[null,"Agropecuario","Explotación de porcinos","Porcinos para la producción de carne",null,{"$f":"INDEX(Calculadora!$C$11:$H$60,MATCH('Ecuaciones y FE'!A489,Calculadora!$B$11:$B$60,0),MATCH(Calculadora!$H$11,Calculadora!$C$11:$H$11,0))","v":{"$error":"#N/A"}},"cabeza","Pregunta al usuario",null,null,16,null,null,null,null,0.69399999999999995,0.01,null,null,null,null,null,null,null,null,null,null,null,null,null,null,null,null,null,null,null,null,"NA",0.45,"NA",0.48,0.48,0.4,0.25,0.4,0.4,"NA","NA"]
["Ab073","Agropecuario","Subsector ganadería","Porcinos para la producción de carne","Sin gestión de estiércol excretado en pasturas, prados o praderas (P)",{"$f":"INDEX(Calculadora!$C$11:$H$60,MATCH('Ecuaciones y FE'!A490,Calculadora!$B$11:$B$60,0),MATCH(Calculadora!$H$11,Calculadora!$C$11:$H$11,0))","v":{"$error":"#N/A"}},null,null,null,null,null,0,null,null,null,null,0,null,null,null,null,null,null,{"$f":"$P$489*F490/1000","v":{"$error":"#N/A"}},{"$f":"(((F490*$K$489*Q490*(44/28))/1000)+((F490*$K$489*L490*$J$413*(44/28))/1000))","v":{"$error":"#N/A"}},null,null,null,null,null,null,{"$error":"#N/A"}]
["Ab074","Agropecuario","Subsector ganadería","Porcinos para la producción de carne","Aplicación de estiércol en tierras de cultivo o pasturas dentro de las 24 horas de su excreción (P)",{"$f":"INDEX(Calculadora!$C$11:$H$60,MATCH('Ecuaciones y FE'!A491,Calculadora!$B$11:$B$60,0),MATCH(Calculadora!$H$11,Calculadora!$C$11:$H$11,0))","v":{"$error":"#N/A"}},null,null,null,null,null,0,null,null,null,null,0,null,null,null,null,null,null,{"$f":"$P$489*F491/1000","v":{"$error":"#N/A"}},{"$f":"(((F491*$K$489*Q491*(44/28))/1000)+((F491*$K$489*L491*$J$413*(44/28))/1000))","v":{"$error":"#N/A"}},null,null,null,null,null,null,{"$error":"#N/A"}]
["Ab075","Agropecuario","Subsector ganadería","Porcinos para la producción de carne","Almacenamiento de estiércol en pilas o montones no confinados (P)",{"$f":"INDEX(Calculadora!$C$11:$H$60,MATCH('Ecuaciones y FE'!A492,Calculadora!$B$11:$B$60,0),MATCH(Calculadora!$H$11,Calculadora!$C$11:$H$11,0))","v":{"$error":"#N/A"}},null,null,null,null,null,0.45,null,null,null,null,5.0000000000000001E-3,null,null,null,null,null,null,{"$error":"#N/A"},{"$error":"#N/A"},null,null,null,null,null,null,{"$error":"#N/A"}]
["Ab076","Agropecuario","Subsector ganadería","Porcinos para la producción de carne","Confinamiento de estiércol, con o sin retiro periódico (P)",{"$f":"INDEX(Calculadora!$C$11:$H$60,MATCH('Ecuaciones y FE'!A493,Calculadora!$B$11:$B$60,0),MATCH(Calculadora!$H$11,Calculadora!$C$11:$H$11,0))","v":{"$error":"#N/A"}},null,null,null,null,null,0,null,null,null,null,0.02,null,null,null,null,null,null,{"$error":"#N/A"},{"$error":"#N/A"},null,null,null,null,null,null,{"$error":"#N/A"}]
["Ab077","Agropecuario","Subsector ganadería","Porcinos para la producción de carne","Almacenamiento de estiércol (como se excreta o con un mínimo de agua) en tanques o estanques de tierra (P)",{"$f":"INDEX(Calculadora!$C$11:$H$60,MATCH('Ecuaciones y FE'!A494,Calculadora!$B$11:$B$60,0),MATCH(Calculadora!$H$11,Calculadora!$C$11:$H$11,0))","v":{"$error":"#N/A"}},null,null,null,null,null,0.48,null,null,null,null,5.0000000000000001E-3,null,null,null,null,null,null,{"$error":"#N/A"},{"$error":"#N/A"},null,null,null,null,null,null,{"$error":"#N/A"}]
["Ab078","Agropecuario","Subsector ganadería","Porcinos para la producción de carne","Almacenamiento de estiércol líquido (P)",{"$f":"INDEX(Calculadora!$C$11:$H$60,MATCH('Ecuaciones y FE'!A495,Calculadora!$B$11:$B$60,0),MATCH(Calculadora!$H$11,Calculadora!$C$11:$H$11,0))","v":{"$error":"#N/A"}},null,null,null,null,null,0.48,null,null,null,null,0,null,null,null,null,null,null,{"$error":"#N/A"},{"$error":"#N/A"},null,null,null,null,null,null,{"$error":"#N/A"}]
["Ab079","Agropecuario","Subsector ganadería","Porcinos para la producción de carne","Almacenamiento del estiércol (con poco o ningún agregado de agua) debajo de un suelo emparrillado (P)",{"$f":"INDEX(Calculadora!$C$11:$H$60,MATCH('Ecuaciones y FE'!A496,Calculadora!$B$11:$B$60,0),MATCH(Calculadora!$H$11,Calculadora!$C$11:$H$11,0))","v":{"$error":"#N/A"}},null,null,null,null,null,0.4,null,null,null,null,2E-3,null,null,null,null,null,null,{"$error":"#N/A"},{"$error":"#N/A"},null,null,null,null,null,null,{"$error":"#N/A"}]
["Ab080","Agropecuario","Subsector ganadería","Porcinos para la producción de carne","Almacenamiento de estiércol (con o sin paja) en un tanque contenedor o en una laguna cubierta en condiciones anaerobias (P)",{"$f":"INDEX(Calculadora!$C$11:$H$60,MATCH('Ecuaciones y FE'!A497,Calculadora!$B$11:$B$60,0),MATCH(Calculadora!$H$11,Calculadora!$C$11:$H$11,0))","v":{"$error":"#N/A"}},null,null,null,null,null,0.25,null,null,null,null,0,null,null,null,null,null,null,{"$error":"#N/A"},{"$error":"#N/A"},null,null,null,null,null,null,{"$error":"#N/A"}]
["Ab081","Agropecuario","Subsector ganadería","Porcinos para la producción de carne","Quema o uso como combustible de estiércol seco (P)",{"$f":"INDEX(Calculadora!$C$11:$H$60,MATCH('Ecuaciones y FE'!A498,Calculadora!$B$11:$B$60,0),MATCH(Calculadora!$H$11,Calculadora!$C$11:$H$11,0))","v":{"$error":"#N/A"}},null,null,null,null,null,0,null,null,null,null,0,null,null,null,null,null,null,{"$error":"#N/A"},{"$error":"#N/A"},null,null,null,null,null,null,{"$error":"#N/A"}]
["Ab082","Agropecuario","Subsector ganadería","Porcinos para la producción de carne","Almacenamiento de estiércol con cama de agregados para el control de humedad (P)",{"$f":"INDEX(Calculadora!$C$11:$H$60,MATCH('Ecuaciones y FE'!A499,Calculadora!$B$11:$B$60,0),MATCH(Calculadora!$H$11,Calculadora!$C$11:$H$11,0))","v":{"$error":"#N/A"}},null,null,null,null,null,0.4,null,null,null,null,4.0000000000000001E-3,null,null,null,null,null,null,{"$error":"#N/A"},{"$error":"#N/A"},null,null,null,null,null,null,{"$error":"#N/A"}]
["Ab083","Agropecuario","Subsector ganadería","Porcinos para la producción de carne","Composteo en canal cerrado, con aireación forzada y mezclado permanente (P)",{"$f":"INDEX(Calculadora!$C$11:$H$60,MATCH('Ecuaciones y FE'!A500,Calculadora!$B$11:$B$60,0),MATCH(Calculadora!$H$11,Calculadora!$C$11:$H$11,0))","v":{"$error":"#N/A"}},null,null,null,null,null,0,null,null,null,null,6.0000000000000001E-3,null,null,null,null,null,null,{"$error":"#N/A"},{"$error":"#N/A"},null,null,null,null,null,null,{"$error":"#N/A"}]
["Ab084","Agropecuario","Subsector ganadería","Porcinos para la producción de carne","Composteo en pilas con aireación forzada pero sin mezclado (P)",{"$f":"INDEX(Calculadora!$C$11:$H$60,MATCH('Ecuaciones y FE'!A501,Calculadora!$B$11:$B$60,0),MATCH(Calculadora!$H$11,Calculadora!$C$11:$H$11,0))","v":{"$error":"#N/A"}},null,null,null,null,null,0,null,null,null,null,6.0000000000000001E-3,null,null,null,null,null,null,{"$error":"#N/A"},{"$error":"#N/A"},null,null,null,null,null,null,{"$error":"#N/A"}]
["Ab085","Agropecuario","Subsector ganadería","Porcinos para la producción de carne","Composteo en pilas rectangulares con mezclado de medias vueltas regulares (diario) para mezclado y aireación (P)",{"$f":"INDEX(Calculadora!$C$11:$H$60,MATCH('Ecuaciones y FE'!A502,Calculadora!$B$11:$B$60,0),MATCH(Calculadora!$H$11,Calculadora!$C$11:$H$11,0))","v":{"$error":"#N/A"}},null,null,null,null,null,0,null,null,null,null,0.1,null,null,null,null,null,null,{"$error":"#N/A"},{"$error":"#N/A"},null,null,null,null,null,null,{"$error":"#N/A"}]
["Ab086","Agropecuario","Subsector ganadería","Porcinos para la producción de carne","Composteo en pilas rectangulares con mezclado de medias vueltas frecuentes para mezclado y aireación (P)",{"$f":"INDEX(Calculadora!$C$11:$H$60,MATCH('Ecuaciones y FE'!A503,Calculadora!$B$11:$B$60,0),MATCH(Calculadora!$H$11,Calculadora!$C$11:$H$11,0))","v":{"$error":"#N/A"}},null,null,null,null,null,0,null,null,null,null,0.01,null,null,null,null,null,null,{"$error":"#N/A"},{"$error":"#N/A"},null,null,null,null,null,null,{"$error":"#N/A"}]
["Ab087","Agropecuario","Subsector ganadería","Porcinos para la producción de carne","Mezclado de estiércol de aves de corral con hojarasca en camas profundas (no combinadas con engorde en corral o pastura) (P)",{"$f":"INDEX(Calculadora!$C$11:$H$60,MATCH('Ecuaciones y FE'!A504,Calculadora!$B$11:$B$60,0),MATCH(Calculadora!$H$11,Calculadora!$C$11:$H$11,0))","v":{"$error":"#N/A"}},null,null,null,null,null,0,null,null,null,null,1E-3,null,null,null,null,null,null,{"$error":"#N/A"},{"$error":"#N/A"},null,null,null,null,null,null,{"$error":"#N/A"}]
["Ab088","Agropecuario","Subsector ganadería","Porcinos para la producción de carne","Manejo de estiércol de aves de corral sin hojarasca en pozos abiertos en instalaciones cerradas (P)",{"$f":"INDEX(Calculadora!$C$11:$H$60,MATCH('Ecuaciones y FE'!A505,Calculadora!$B$11:$B$60,0),MATCH(Calculadora!$H$11,Calculadora!$C$11:$H$11,0))","v":{"$error":"#N/A"}},null,null,null,null,null,0,null,null,null,null,1E-3,null,null,null,null,null,null,{"$error":"#N/A"},{"$error":"#N/A"},null,null,null,null,null,null,{"$error":"#N/A"}]
["Ab089","Agropecuario","Subsector ganadería","Porcinos para la producción de carne","Oxidación biológica aeróbica del estiércol con aireación (P)",{"$f":"INDEX(Calculadora!$C$11:$H$60,MATCH('Ecuaciones y FE'!A506,Calculadora!$B$11:$B$60,0),MATCH(Calculadora!$H$11,Calculadora!$C$11:$H$11,0))","v":{"$error":"#N/A"}},null,null,null,null,null,0,null,null,null,null,0.01,null,null,null,null,null,null,{"$error":"#N/A"},{"$error":"#N/A"},null,null,null,null,null,null,{"$error":"#N/A"}]
["Ab090","Agropecuario","Subsector ganadería","Porcinos para la producción de carne","Oxidación biológica aeróbica del estiércol con aireación forzada (P)",{"$f":"INDEX(Calculadora!$C$11:$H$60,MATCH('Ecuaciones y FE'!A507,Calculadora!$B$11:$B$60,0),MATCH(Calculadora!$H$11,Calculadora!$C$11:$H$11,0))","v":{"$error":"#N/A"}},null,null,null,null,null,0,null,null,null,null,5.0000000000000001E-3,null,null,null,null,null,null,{"$error":"#N/A"},{"$error":"#N/A"},null,null,null,null,null,null,{"$error":"#N/A"}]
[null,"Agropecuario","Explotación avícola","Avícola para la producción de huevo",null,{"$f":"INDEX(Calculadora!$C$11:$H$60,MATCH('Ecuaciones y FE'!A508,Calculadora!$B$11:$B$60,0),MATCH(Calculadora!$H$11,Calculadora!$C$11:$H$11,0))","v":{"$error":"#N/A"}},"cabeza","Pregunta al usuario",null,null,0.6,null,null,null,null,0.16,0.01,null,null,null,null,null,null,null,null,null,null,null,null,null,null,null,null,null,null,null,null,"NA","NA","NA","NA","NA",0.4,"NA","NA","NA",0.4,0.55000000000000004]
["Ab091","Agropecuario","Subsector ganadería","Avícola para la producción de huevo","Sin gestión de estiércol excretado en pasturas, prados o praderas (AH)",{"$f":"INDEX(Calculadora!$C$11:$H$60,MATCH('Ecuaciones y FE'!A509,Calculadora!$B$11:$B$60,0),MATCH(Calculadora!$H$11,Calculadora!$C$11:$H$11,0))","v":{"$error":"#N/A"}},null,null,null,null,null,0,null,null,null,null,0,null,null,null,null,null,null,{"$f":"$P$508*F509/1000","v":{"$error":"#N/A"}},{"$f":"(((F509*$K$508*Q509*(44/28))/1000)+((F509*$K$508*L509*$J$413*(44/28))/1000))","v":{"$error":"#N/A"}},null,null,null,null,null,null,{"$error":"#N/A"}]
["Ab092","Agropecuario","Subsector ganadería","Avícola para la producción de huevo","Aplicación de estiércol en tierras de cultivo o pasturas dentro de las 24 horas de su excreción (AH)",{"$f":"INDEX(Calculadora!$C$11:$H$60,MATCH('Ecuaciones y FE'!A510,Calculadora!$B$11:$B$60,0),MATCH(Calculadora!$H$11,Calculadora!$C$11:$H$11,0))","v":{"$error":"#N/A"}},null,null,null,null,null,0,null,null,null,null,0,null,null,null,null,null,null,{"$f":"$P$508*F510/1000","v":{"$error":"#N/A"}},{"$f":"(((F510*$K$508*Q510*(44/28))/1000)+((F510*$K$508*L510*$J$413*(44/28))/1000))","v":{"$error":"#N/A"}},null,null,null,null,null,null,{"$error":"#N/A"}]
["Ab093","Agropecuario","Subsector ganadería","Avícola para la producción de huevo","Almacenamiento de estiércol en pilas o montones no confinados (AH)",{"$f":"INDEX(Calculadora!$C$11:$H$60,MATCH('Ecuaciones y FE'!A511,Calculadora!$B$11:$B$60,0),MATCH(Calculadora!$H$11,Calculadora!$C$11:$H$11,0))","v":{"$error":"#N/A"}},null,null,null,null,null,0,null,null,null,null,5.0000000000000001E-3,null,null,null,null,null,null,{"$error":"#N/A"},{"$error":"#N/A"},null,null,null,null,null,null,{"$error":"#N/A"}]
["Ab094","Agropecuario","Subsector ganadería","Avícola para la producción de huevo","Confinamiento de estiércol, con o sin retiro periódico (AH)",{"$f":"INDEX(Calculadora!$C$11:$H$60,MATCH('Ecuaciones y FE'!A512,Calculadora!$B$11:$B$60,0),MATCH(Calculadora!$H$11,Calculadora!$C$11:$H$11,0))","v":{"$error":"#N/A"}},null,null,null,null,null,0,null,null,null,null,0.02,null,null,null,null,null,null,{"$error":"#N/A"},{"$error":"#N/A"},null,null,null,null,null,null,{"$error":"#N/A"}]
["Ab095","Agropecuario","Subsector ganadería","Avícola para la producción de huevo","Almacenamiento de estiércol (como se excreta o con un mínimo de agua) en tanques o estanques de tierra (AH)",{"$f":"INDEX(Calculadora!$C$11:$H$60,MATCH('Ecuaciones y FE'!A513,Calculadora!$B$11:$B$60,0),MATCH(Calculadora!$H$11,Calculadora!$C$11:$H$11,0))","v":{"$error":"#N/A"}},null,null,null,null,null,0,null,null,null,null,5.0000000000000001E-3,null,null,null,null,null,null,{"$error":"#N/A"},{"$error":"#N/A"},null,null,null,null,null,null,{"$error":"#N/A"}]
["Ab096","Agropecuario","Subsector ganadería","Avícola para la producción de huevo","Almacenamiento de estiércol líquido (AH)",{"$f":"INDEX(Calculadora!$C$11:$H$60,MATCH('Ecuaciones y FE'!A514,Calculadora!$B$11:$B$60,0),MATCH(Calculadora!$H$11,Calculadora!$C$11:$H$11,0))","v":{"$error":"#N/A"}},null,null,null,null,null,0,null,null,null,null,0,null,null,null,null,null,null,{"$error":"#N/A"},{"$error":"#N/A"},null,null,null,null,null,null,{"$error":"#N/A"}]
["Ab097","Agropecuario","Subsector ganadería","Avícola para la producción de huevo","Almacenamiento del estiércol (con poco o ningún agregado de agua) debajo de un suelo emparrillado (AH)",{"$f":"INDEX(Calculadora!$C$11:$H$60,MATCH('Ecuaciones y FE'!A515,Calculadora!$B$11:$B$60,0),MATCH(Calculadora!$H$11,Calculadora!$C$11:$H$11,0))","v":{"$error":"#N/A"}},null,null,null,null,null,0.4,null,null,null,null,2E-3,null,null,null,null,null,null,{"$error":"#N/A"},{"$error":"#N/A"},null,null,null,null,null,null,{"$error":"#N/A"}]
["Ab098","Agropecuario","Subsector ganadería","Avícola para la producción de huevo","Almacenamiento de estiércol (con o sin paja) en un tanque contenedor o en una laguna cubierta en condiciones anaerobias (AH)",{"$f":"INDEX(Calculadora!$C$11:$H$60,MATCH('Ecuaciones y FE'!A516,Calculadora!$B$11:$B$60,0),MATCH(Calculadora!$H$11,Calculadora!$C$11:$H$11,0))","v":{"$error":"#N/A"}},null,null,null,null,null,0,null,null,null,null,0,null,null,null,null,null,null,{"$error":"#N/A"},{"$error":"#N/A"},null,null,null,null,null,null,{"$error":"#N/A"}]
["Ab099","Agropecuario","Subsector ganadería","Avícola para la producción de huevo","Quema o uso como combustible de estiércol seco (AH)",{"$f":"INDEX(Calculadora!$C$11:$H$60,MATCH('Ecuaciones y FE'!A517,Calculadora!$B$11:$B$60,0),MATCH(Calculadora!$H$11,Calculadora!$C$11:$H$11,0))","v":{"$error":"#N/A"}},null,null,null,null,null,0,null,null,null,null,0,null,null,null,null,null,null,{"$error":"#N/A"},{"$error":"#N/A"},null,null,null,null,null,null,{"$error":"#N/A"}]
["Ab100","Agropecuario","Subsector ganadería","Avícola para la producción de huevo","Almacenamiento de estiércol con cama de agregados para el control de humedad (AH)",{"$f":"INDEX(Calculadora!$C$11:$H$60,MATCH('Ecuaciones y FE'!A518,Calculadora!$B$11:$B$60,0),MATCH(Calculadora!$H$11,Calculadora!$C$11:$H$11,0))","v":{"$error":"#N/A"}},null,null,null,null,null,0,null,null,null,null,4.0000000000000001E-3,null,null,null,null,null,null,{"$error":"#N/A"},{"$error":"#N/A"},null,null,null,null,null,null,{"$error":"#N/A"}]
["Ab101","Agropecuario","Subsector ganadería","Avícola para la producción de huevo","Composteo en canal cerrado, con aireación forzada y mezclado permanente (AH)",{"$f":"INDEX(Calculadora!$C$11:$H$60,MATCH('Ecuaciones y FE'!A519,Calculadora!$B$11:$B$60,0),MATCH(Calculadora!$H$11,Calculadora!$C$11:$H$11,0))","v":{"$error":"#N/A"}},null,null,null,null,null,0.4,null,null,null,null,6.0000000000000001E-3,null,null,null,null,null,null,{"$error":"#N/A"},{"$error":"#N/A"},null,null,null,null,null,null,{"$error":"#N/A"}]
["Ab102","Agropecuario","Subsector ganadería","Avícola para la producción de huevo","Composteo en pilas con aireación forzada pero sin mezclado (AH)",{"$f":"INDEX(Calculadora!$C$11:$H$60,MATCH('Ecuaciones y FE'!A520,Calculadora!$B$11:$B$60,0),MATCH(Calculadora!$H$11,Calculadora!$C$11:$H$11,0))","v":{"$error":"#N/A"}},null,null,null,null,null,0.55000000000000004,null,null,null,null,6.0000000000000001E-3,null,null,null,null,null,null,{"$error":"#N/A"},{"$error":"#N/A"},null,null,null,null,null,null,{"$error":"#N/A"}]
["Ab103","Agropecuario","Subsector ganadería","Avícola para la producción de huevo","Composteo en pilas rectangulares con mezclado de medias vueltas regulares (diario) para mezclado y aireación (AH)",{"$f":"INDEX(Calculadora!$C$11:$H$60,MATCH('Ecuaciones y FE'!A521,Calculadora!$B$11:$B$60,0),MATCH(Calculadora!$H$11,Calculadora!$C$11:$H$11,0))","v":{"$error":"#N/A"}},null,null,null,null,null,0,null,null,null,null,0.1,null,null,null,null,null,null,{"$error":"#N/A"},{"$error":"#N/A"},null,null,null,null,null,null,{"$error":"#N/A"}]
["Ab104","Agropecuario","Subsector ganadería","Avícola para la producción de huevo","Composteo en pilas rectangulares con mezclado de medias vueltas frecuentes para mezclado y aireación (AH)",{"$f":"INDEX(Calculadora!$C$11:$H$60,MATCH('Ecuaciones y FE'!A522,Calculadora!$B$11:$B$60,0),MATCH(Calculadora!$H$11,Calculadora!$C$11:$H$11,0))","v":{"$error":"#N/A"}},null,null,null,null,null,0,null,null,null,null,0.01,null,null,null,null,null,null,{"$error":"#N/A"},{"$error":"#N/A"},null,null,null,null,null,null,{"$error":"#N/A"}]
["Ab105","Agropecuario","Subsector ganadería","Avícola para la producción de huevo","Mezclado de estiércol de aves de corral con hojarasca en camas profundas (no combinadas con engorde en corral o pastura) (AH)",{"$f":"INDEX(Calculadora!$C$11:$H$60,MATCH('Ecuaciones y FE'!A523,Calculadora!$B$11:$B$60,0),MATCH(Calculadora!$H$11,Calculadora!$C$11:$H$11,0))","v":{"$error":"#N/A"}},null,null,null,null,null,0,null,null,null,null,1E-3,null,null,null,null,null,null,{"$error":"#N/A"},{"$error":"#N/A"},null,null,null,null,null,null,{"$error":"#N/A"}]
["Ab106","Agropecuario","Subsector ganadería","Avícola para la producción de huevo","Manejo de estiércol de aves de corral sin hojarasca en pozos abiertos en instalaciones cerradas (AH)",{"$f":"INDEX(Calculadora!$C$11:$H$60,MATCH('Ecuaciones y FE'!A524,Calculadora!$B$11:$B$60,0),MATCH(Calculadora!$H$11,Calculadora!$C$11:$H$11,0))","v":{"$error":"#N/A"}},null,null,null,null,null,0,null,null,null,null,1E-3,null,null,null,null,null,null,{"$f":"$P$508*F524/1000","v":{"$error":"#N/A"}},{"$f":"(((F524*$K$508*Q524*(44/28))/1000)+((F524*$K$508*L524*$J$413*(44/28))/1000))","v":{"$error":"#N/A"}},null,null,null,null,null,null,{"$error":"#N/A"}]
["Ab107","Agropecuario","Subsector ganadería","Avícola para la producción de huevo","Oxidación biológica aeróbica del estiércol con aireación (AH)",{"$f":"INDEX(Calculadora!$C$11:$H$60,MATCH('Ecuaciones y FE'!A525,Calculadora!$B$11:$B$60,0),MATCH(Calculadora!$H$11,Calculadora!$C$11:$H$11,0))","v":{"$error":"#N/A"}},null,null,null,null,null,0,null,null,null,null,0.01,null,null,null,null,null,null,{"$f":"$P$508*F525/1000","v":{"$error":"#N/A"}},{"$f":"(((F525*$K$508*Q525*(44/28))/1000)+((F525*$K$508*L525*$J$413*(44/28))/1000))","v":{"$error":"#N/A"}},null,null,null,null,null,null,{"$error":"#N/A"}]
["Ab108","Agropecuario","Subsector ganadería","Avícola para la producción de huevo","Oxidación biológica aeróbica del estiércol con aireación forzada (AH)",{"$f":"INDEX(Calculadora!$C$11:$H$60,MATCH('Ecuaciones y FE'!A526,Calculadora!$B$11:$B$60,0),MATCH(Calculadora!$H$11,Calculadora!$C$11:$H$11,0))","v":{"$error":"#N/A"}},null,null,null,null,null,0,null,null,null,null,5.0000000000000001E-3,null,null,null,null,null,null,{"$f":"$P$508*F526/1000","v":{"$error":"#N/A"}},{"$f":"(((F526*$K$508*Q526*(44/28))/1000)+((F526*$K$508*L526*$J$413*(44/28))/1000))","v":{"$error":"#N/A"}},null,null,null,null,null,null,{"$error":"#N/A"}]
[null,"Agropecuario","Explotación avícola","Avícola para la producción de carne",null,{"$f":"INDEX(Calculadora!$C$11:$H$60,MATCH('Ecuaciones y FE'!A527,Calculadora!$B$11:$B$60,0),MATCH(Calculadora!$H$11,Calculadora!$C$11:$H$11,0))","v":{"$error":"#N/A"}},"cabeza","Pregunta al usuario",null,null,0.6,null,null,null,null,0.16,0.01,null,null,null,null,null,null,null,null,null,null,null,null,null,null,null,null,null,null,null,null,"NA","NA","NA","NA","NA",0.4,"NA","NA","NA",0.4,0.55000000000000004]
["Ab109","Agropecuario","Subsector ganadería","Avícola para la producción de carne","Sin gestión de estiércol excretado en pasturas, prados o praderas (AC)",{"$f":"INDEX(Calculadora!$C$11:$H$60,MATCH('Ecuaciones y FE'!A528,Calculadora!$B$11:$B$60,0),MATCH(Calculadora!$H$11,Calculadora!$C$11:$H$11,0))","v":{"$error":"#N/A"}},null,null,null,null,null,0,null,null,null,null,0,null,null,null,null,null,null,{"$f":"$P$527*F528/1000","v":{"$error":"#N/A"}},{"$f":"(((F528*$K$527*Q528*(44/28))/1000)+((F528*$K$527*L528*$J$413*(44/28))/1000))","v":{"$error":"#N/A"}},null,null,null,null,null,null,{"$error":"#N/A"}]
["Ab110","Agropecuario","Subsector ganadería","Avícola para la producción de carne","Aplicación de estiércol en tierras de cultivo o pasturas dentro de las 24 horas de su excreción (AC)",{"$f":"INDEX(Calculadora!$C$11:$H$60,MATCH('Ecuaciones y FE'!A529,Calculadora!$B$11:$B$60,0),MATCH(Calculadora!$H$11,Calculadora!$C$11:$H$11,0))","v":{"$error":"#N/A"}},null,null,null,null,null,0,null,null,null,null,0,null,null,null,null,null,null,{"$f":"$P$527*F529/1000","v":{"$error":"#N/A"}},{"$f":"(((F529*$K$527*Q529*(44/28))/1000)+((F529*$K$527*L529*$J$413*(44/28))/1000))","v":{"$error":"#N/A"}},null,null,null,null,null,null,{"$error":"#N/A"}]
["Ab111","Agropecuario","Subsector ganadería","Avícola para la producción de carne","Almacenamiento de estiércol en pilas o montones no confinados (AC)",{"$f":"INDEX(Calculadora!$C$11:$H$60,MATCH('Ecuaciones y FE'!A530,Calculadora!$B$11:$B$60,0),MATCH(Calculadora!$H$11,Calculadora!$C$11:$H$11,0))","v":{"$error":"#N/A"}},null,null,null,null,null,0,null,null,null,null,5.0000000000000001E-3,null,null,null,null,null,null,{"$error":"#N/A"},{"$error":"#N/A"},null,null,null,null,null,null,{"$error":"#N/A"}]
["Ab112","Agropecuario","Subsector ganadería","Avícola para la producción de carne","Confinamiento de estiércol, con o sin retiro periódico (AC)",{"$f":"INDEX(Calculadora!$C$11:$H$60,MATCH('Ecuaciones y FE'!A531,Calculadora!$B$11:$B$60,0),MATCH(Calculadora!$H$11,Calculadora!$C$11:$H$11,0))","v":{"$error":"#N/A"}},null,null,null,null,null,0,null,null,null,null,0.02,null,null,null,null,null,null,{"$error":"#N/A"},{"$error":"#N/A"},null,null,null,null,null,null,{"$error":"#N/A"}]
["Ab113","Agropecuario","Subsector ganadería","Avícola para la producción de carne","Almacenamiento de estiércol (como se excreta o con un mínimo de agua) en tanques o estanques de tierra (AC)",{"$f":"INDEX(Calculadora!$C$11:$H$60,MATCH('Ecuaciones y FE'!A532,Calculadora!$B$11:$B$60,0),MATCH(Calculadora!$H$11,Calculadora!$C$11:$H$11,0))","v":{"$error":"#N/A"}},null,null,null,null,null,0,null,null,null,null,5.0000000000000001E-3,null,null,null,null,null,null,{"$error":"#N/A"},{"$error":"#N/A"},null,null,null,null,null,null,{"$error":"#N/A"}]
["Ab114","Agropecuario","Subsector ganadería","Avícola para la producción de carne","Almacenamiento de estiércol líquido (AC)",{"$f":"INDEX(Calculadora!$C$11:$H$60,MATCH('Ecuaciones y FE'!A533,Calculadora!$B$11:$B$60,0),MATCH(Calculadora!$H$11,Calculadora!$C$11:$H$11,0))","v":{"$error":"#N/A"}},null,null,null,null,null,0,null,null,null,null,0,null,null,null,null,null,null,{"$error":"#N/A"},{"$error":"#N/A"},null,null,null,null,null,null,{"$error":"#N/A"}]
["Ab115","Agropecuario","Subsector ganadería","Avícola para la producción de carne","Almacenamiento del estiércol (con poco o ningún agregado de agua) debajo de un suelo emparrillado (AC)",{"$f":"INDEX(Calculadora!$C$11:$H$60,MATCH('Ecuaciones y FE'!A534,Calculadora!$B$11:$B$60,0),MATCH(Calculadora!$H$11,Calculadora!$C$11:$H$11,0))","v":{"$error":"#N/A"}},null,null,null,null,null,0.4,null,null,null,null,2E-3,null,null,null,null,null,null,{"$error":"#N/A"},{"$error":"#N/A"},null,null,null,null,null,null,{"$error":"#N/A"}]
["Ab116","Agropecuario","Subsector ganadería","Avícola para la producción de carne","Almacenamiento de estiércol (con o sin paja) en un tanque contenedor o en una laguna cubierta en condiciones anaerobias (AC)",{"$f":"INDEX(Calculadora!$C$11:$H$60,MATCH('Ecuaciones y FE'!A535,Calculadora!$B$11:$B$60,0),MATCH(Calculadora!$H$11,Calculadora!$C$11:$H$11,0))","v":{"$error":"#N/A"}},null,null,null,null,null,0,null,null,null,null,0,null,null,null,null,null,null,{"$error":"#N/A"},{"$error":"#N/A"},null,null,null,null,null,null,{"$error":"#N/A"}]
["Ab117","Agropecuario","Subsector ganadería","Avícola para la producción de carne","Quema o uso como combustible de estiércol seco (AC)",{"$f":"INDEX(Calculadora!$C$11:$H$60,MATCH('Ecuaciones y FE'!A536,Calculadora!$B$11:$B$60,0),MATCH(Calculadora!$H$11,Calculadora!$C$11:$H$11,0))","v":{"$error":"#N/A"}},null,null,null,null,null,0,null,null,null,null,0,null,null,null,null,null,null,{"$error":"#N/A"},{"$error":"#N/A"},null,null,null,null,null,null,{"$error":"#N/A"}]
["Ab118","Agropecuario","Subsector ganadería","Avícola para la producción de carne","Almacenamiento de estiércol con cama de agregados para el control de humedad (AC)",{"$f":"INDEX(Calculadora!$C$11:$H$60,MATCH('Ecuaciones y FE'!A537,Calculadora!$B$11:$B$60,0),MATCH(Calculadora!$H$11,Calculadora!$C$11:$H$11,0))","v":{"$error":"#N/A"}},null,null,null,null,null,0,null,null,null,null,4.0000000000000001E-3,null,null,null,null,null,null,{"$error":"#N/A"},{"$error":"#N/A"},null,null,null,null,null,null,{"$error":"#N/A"}]
["Ab119","Agropecuario","Subsector ganadería","Avícola para la producción de carne","Composteo en canal cerrado, con aireación forzada y mezclado permanente (AC)",{"$f":"INDEX(Calculadora!$C$11:$H$60,MATCH('Ecuaciones y FE'!A538,Calculadora!$B$11:$B$60,0),MATCH(Calculadora!$H$11,Calculadora!$C$11:$H$11,0))","v":{"$error":"#N/A"}},null,null,null,null,null,0.4,null,null,null,null,6.0000000000000001E-3,null,null,null,null,null,null,{"$error":"#N/A"},{"$error":"#N/A"},null,null,null,null,null,null,{"$error":"#N/A"}]
["Ab120","Agropecuario","Subsector ganadería","Avícola para la producción de carne","Composteo en pilas con aireación forzada pero sin mezclado (AC)",{"$f":"INDEX(Calculadora!$C$11:$H$60,MATCH('Ecuaciones y FE'!A539,Calculadora!$B$11:$B$60,0),MATCH(Calculadora!$H$11,Calculadora!$C$11:$H$11,0))","v":{"$error":"#N/A"}},null,null,null,null,null,0.55000000000000004,null,null,null,null,6.0000000000000001E-3,null,null,null,null,null,null,{"$error":"#N/A"},{"$error":"#N/A"},null,null,null,null,null,null,{"$error":"#N/A"}]
["Ab121","Agropecuario","Subsector ganadería","Avícola para la producción de carne","Composteo en pilas rectangulares con mezclado de medias vueltas regulares (diario) para mezclado y aireación (AC)",{"$f":"INDEX(Calculadora!$C$11:$H$60,MATCH('Ecuaciones y FE'!A540,Calculadora!$B$11:$B$60,0),MATCH(Calculadora!$H$11,Calculadora!$C$11:$H$11,0))","v":{"$error":"#N/A"}},null,null,null,null,null,0,null,null,null,null,0.1,null,null,null,null,null,null,{"$error":"#N/A"},{"$error":"#N/A"},null,null,null,null,null,null,{"$error":"#N/A"}]
["Ab122","Agropecuario","Subsector ganadería","Avícola para la producción de carne","Composteo en pilas rectangulares con mezclado de medias vueltas frecuentes para mezclado y aireación (AC)",{"$f":"INDEX(Calculadora!$C$11:$H$60,MATCH('Ecuaciones y FE'!A541,Calculadora!$B$11:$B$60,0),MATCH(Calculadora!$H$11,Calculadora!$C$11:$H$11,0))","v":{"$error":"#N/A"}},null,null,null,null,null,0,null,null,null,null,0.01,null,null,null,null,null,null,{"$error":"#N/A"},{"$error":"#N/A"},null,null,null,null,null,null,{"$error":"#N/A"}]
["Ab123","Agropecuario","Subsector ganadería","Avícola para la producción de carne","Mezclado de estiércol de aves de corral con hojarasca en camas profundas (no combinadas con engorde en corral o pastura) (AC)",{"$f":"INDEX(Calculadora!$C$11:$H$60,MATCH('Ecuaciones y FE'!A542,Calculadora!$B$11:$B$60,0),MATCH(Calculadora!$H$11,Calculadora!$C$11:$H$11,0))","v":{"$error":"#N/A"}},null,null,null,null,null,0,null,null,null,null,1E-3,null,null,null,null,null,null,{"$error":"#N/A"},{"$error":"#N/A"},null,null,null,null,null,null,{"$error":"#N/A"}]
["Ab124","Agropecuario","Subsector ganadería","Avícola para la producción de carne","Manejo de estiércol de aves de corral sin hojarasca en pozos abiertos en instalaciones cerradas (AC)",{"$f":"INDEX(Calculadora!$C$11:$H$60,MATCH('Ecuaciones y FE'!A543,Calculadora!$B$11:$B$60,0),MATCH(Calculadora!$H$11,Calculadora!$C$11:$H$11,0))","v":{"$error":"#N/A"}},null,null,null,null,null,0,null,null,null,null,1E-3,null,null,null,null,null,null,{"$error":"#N/A"},{"$error":"#N/A"},null,null,null,null,null,null,{"$error":"#N/A"}]
["Ab125","Agropecuario","Subsector ganadería","Avícola para la producción de carne","Oxidación biológica aeróbica del estiércol con aireación (AC)",{"$f":"INDEX(Calculadora!$C$11:$H$60,MATCH('Ecuaciones y FE'!A544,Calculadora!$B$11:$B$60,0),MATCH(Calculadora!$H$11,Calculadora!$C$11:$H$11,0))","v":{"$error":"#N/A"}},null,null,null,null,null,0,null,null,null,null,0.01,null,null,null,null,null,null,{"$error":"#N/A"},{"$error":"#N/A"},null,null,null,null,null,null,{"$f":"(X544*$AI$3)+(Y544*$AI$4)","v":{"$error":"#N/A"}}]
["Ab126","Agropecuario","Subsector ganadería","Avícola para la producción de carne","Oxidación biológica aeróbica del estiércol con aireación forzada (AC)",{"$f":"INDEX(Calculadora!$C$11:$H$60,MATCH('Ecuaciones y FE'!A545,Calculadora!$B$11:$B$60,0),MATCH(Calculadora!$H$11,Calculadora!$C$11:$H$11,0))","v":{"$error":"#N/A"}},null,null,null,null,null,0,null,null,null,null,5.0000000000000001E-3,null,null,null,null,null,null,{"$error":"#N/A"},{"$error":"#N/A"},null,null,null,null,null,null,{"$error":"#N/A"}]
[null,"Agropecuario","Explotación avícola","Avícola para la producción de guajolotes o pavos",null,{"$f":"INDEX(Calculadora!$C$11:$H$60,MATCH('Ecuaciones y FE'!A546,Calculadora!$B$11:$B$60,0),MATCH(Calculadora!$H$11,Calculadora!$C$11:$H$11,0))","v":{"$error":"#N/A"}},"cabeza","Pregunta al usuario",null,null,0.6,null,null,null,null,0.16,0.01,null,null,null,null,null,null,null,null,null,null,null,null,null,null,null,null,null,null,null,null,"NA","NA","NA","NA","NA",0.4,"NA","NA","NA",0.4,0.55000000000000004]
["Ab127","Agropecuario","Subsector ganadería","Avícola para la producción de guajolotes o pavos","Sin gestión de estiércol excretado en pasturas, prados o praderas (AGyP)",{"$f":"INDEX(Calculadora!$C$11:$H$60,MATCH('Ecuaciones y FE'!A547,Calculadora!$B$11:$B$60,0),MATCH(Calculadora!$H$11,Calculadora!$C$11:$H$11,0))","v":{"$error":"#N/A"}},null,null,null,null,null,0,null,null,null,null,0,null,null,null,null,null,null,{"$f":"$P$546*F547/1000","v":{"$error":"#N/A"}},{"$f":"(((F547*$K$546*Q547*(44/28))/1000)+((F547*$K$546*L547*$J$413*(44/28))/1000))","v":{"$error":"#N/A"}},null,null,null,null,null,null,{"$error":"#N/A"}]
["Ab128","Agropecuario","Subsector ganadería","Avícola para la producción de guajolotes o pavos","Aplicación de estiércol en tierras de cultivo o pasturas dentro de las 24 horas de su excreción (AGyP)",{"$f":"INDEX(Calculadora!$C$11:$H$60,MATCH('Ecuaciones y FE'!A548,Calculadora!$B$11:$B$60,0),MATCH(Calculadora!$H$11,Calculadora!$C$11:$H$11,0))","v":{"$error":"#N/A"}},null,null,null,null,null,0,null,null,null,null,0,null,null,null,null,null,null,{"$f":"$P$546*F548/1000","v":{"$error":"#N/A"}},{"$f":"(((F548*$K$546*Q548*(44/28))/1000)+((F548*$K$546*L548*$J$413*(44/28))/1000))","v":{"$error":"#N/A"}},null,null,null,null,null,null,{"$error":"#N/A"}]
["Ab129","Agropecuario","Subsector ganadería","Avícola para la producción de guajolotes o pavos","Almacenamiento de estiércol en pilas o montones no confinados (AGyP)",{"$f":"INDEX(Calculadora!$C$11:$H$60,MATCH('Ecuaciones y FE'!A549,Calculadora!$B$11:$B$60,0),MATCH(Calculadora!$H$11,Calculadora!$C$11:$H$11,0))","v":{"$error":"#N/A"}},null,null,null,null,null,0,null,null,null,null,5.0000000000000001E-3,null,null,null,null,null,null,{"$error":"#N/A"},{"$error":"#N/A"},null,null,null,null,null,null,{"$error":"#N/A"}]
["Ab130","Agropecuario","Subsector ganadería","Avícola para la producción de guajolotes o pavos","Confinamiento de estiércol, con o sin retiro periódico (AGyP)",{"$f":"INDEX(Calculadora!$C$11:$H$60,MATCH('Ecuaciones y FE'!A550,Calculadora!$B$11:$B$60,0),MATCH(Calculadora!$H$11,Calculadora!$C$11:$H$11,0))","v":{"$error":"#N/A"}},null,null,null,null,null,0,null,null,null,null,0.02,null,null,null,null,null,null,{"$error":"#N/A"},{"$error":"#N/A"},null,null,null,null,null,null,{"$error":"#N/A"}]
["Ab131","Agropecuario","Subsector ganadería","Avícola para la producción de guajolotes o pavos","Almacenamiento de estiércol (como se excreta o con un mínimo de agua) en tanques o estanques de tierra (AGyP)",{"$f":"INDEX(Calculadora!$C$11:$H$60,MATCH('Ecuaciones y FE'!A551,Calculadora!$B$11:$B$60,0),MATCH(Calculadora!$H$11,Calculadora!$C$11:$H$11,0))","v":{"$error":"#N/A"}},null,null,null,null,null,0,null,null,null,null,5.0000000000000001E-3,null,null,null,null,null,null,{"$error":"#N/A"},{"$error":"#N/A"},null,null,null,null,null,null,{"$error":"#N/A"}]
["Ab132","Agropecuario","Subsector ganadería","Avícola para la producción de guajolotes o pavos","Almacenamiento de estiércol líquido (AGyP)",{"$f":"INDEX(Calculadora!$C$11:$H$60,MATCH('Ecuaciones y FE'!A552,Calculadora!$B$11:$B$60,0),MATCH(Calculadora!$H$11,Calculadora!$C$11:$H$11,0))","v":{"$error":"#N/A"}},null,null,null,null,null,0,null,null,null,null,0,null,null,null,null,null,null,{"$error":"#N/A"},{"$error":"#N/A"},null,null,null,null,null,null,{"$error":"#N/A"}]
["Ab133","Agropecuario","Subsector ganadería","Avícola para la producción de guajolotes o pavos","Almacenamiento del estiércol (con poco o ningún agregado de agua) debajo de un suelo emparrillado (AGyP)",{"$f":"INDEX(Calculadora!$C$11:$H$60,MATCH('Ecuaciones y FE'!A553,Calculadora!$B$11:$B$60,0),MATCH(Calculadora!$H$11,Calculadora!$C$11:$H$11,0))","v":{"$error":"#N/A"}},null,null,null,null,null,0.4,null,null,null,null,2E-3,null,null,null,null,null,null,{"$error":"#N/A"},{"$error":"#N/A"},null,null,null,null,null,null,{"$error":"#N/A"}]
["Ab134","Agropecuario","Subsector ganadería","Avícola para la producción de guajolotes o pavos","Almacenamiento de estiércol (con o sin paja) en un tanque contenedor o en una laguna cubierta en condiciones anaerobias (AGyP)",{"$f":"INDEX(Calculadora!$C$11:$H$60,MATCH('Ecuaciones y FE'!A554,Calculadora!$B$11:$B$60,0),MATCH(Calculadora!$H$11,Calculadora!$C$11:$H$11,0))","v":{"$error":"#N/A"}},null,null,null,null,null,0,null,null,null,null,0,null,null,null,null,null,null,{"$error":"#N/A"},{"$error":"#N/A"},null,null,null,null,null,null,{"$error":"#N/A"}]
["Ab135","Agropecuario","Subsector ganadería","Avícola para la producción de guajolotes o pavos","Quema o uso como combustible de estiércol seco (AGyP)",{"$f":"INDEX(Calculadora!$C$11:$H$60,MATCH('Ecuaciones y FE'!A555,Calculadora!$B$11:$B$60,0),MATCH(Calculadora!$H$11,Calculadora!$C$11:$H$11,0))","v":{"$error":"#N/A"}},null,null,null,null,null,0,null,null,null,null,0,null,null,null,null,null,null,{"$error":"#N/A"},{"$error":"#N/A"},null,null,null,null,null,null,{"$error":"#N/A"}]
["Ab136","Agropecuario","Subsector ganadería","Avícola para la producción de guajolotes o pavos","Almacenamiento de estiércol con cama de agregados para el control de humedad (AGyP)",{"$f":"INDEX(Calculadora!$C$11:$H$60,MATCH('Ecuaciones y FE'!A556,Calculadora!$B$11:$B$60,0),MATCH(Calculadora!$H$11,Calculadora!$C$11:$H$11,0))","v":{"$error":"#N/A"}},null,null,null,null,null,0,null,null,null,null,4.0000000000000001E-3,null,null,null,null,null,null,{"$error":"#N/A"},{"$error":"#N/A"},null,null,null,null,null,null,{"$error":"#N/A"}]
["Ab137","Agropecuario","Subsector ganadería","Avícola para la producción de guajolotes o pavos","Composteo en canal cerrado, con aireación forzada y mezclado permanente (AGyP)",{"$f":"INDEX(Calculadora!$C$11:$H$60,MATCH('Ecuaciones y FE'!A557,Calculadora!$B$11:$B$60,0),MATCH(Calculadora!$H$11,Calculadora!$C$11:$H$11,0))","v":{"$error":"#N/A"}},null,null,null,null,null,0.4,null,null,null,null,6.0000000000000001E-3,null,null,null,null,null,null,{"$error":"#N/A"},{"$error":"#N/A"},null,null,null,null,null,null,{"$error":"#N/A"}]
["Ab138","Agropecuario","Subsector ganadería","Avícola para la producción de guajolotes o pavos","Composteo en pilas con aireación forzada pero sin mezclado (AGyP)",{"$f":"INDEX(Calculadora!$C$11:$H$60,MATCH('Ecuaciones y FE'!A558,Calculadora!$B$11:$B$60,0),MATCH(Calculadora!$H$11,Calculadora!$C$11:$H$11,0))","v":{"$error":"#N/A"}},null,null,null,null,null,0.55000000000000004,null,null,null,null,6.0000000000000001E-3,null,null,null,null,null,null,{"$error":"#N/A"},{"$error":"#N/A"},null,null,null,null,null,null,{"$error":"#N/A"}]
["Ab139","Agropecuario","Subsector ganadería","Avícola para la producción de guajolotes o pavos","Composteo en pilas rectangulares con mezclado de medias vueltas regulares (diario) para mezclado y aireación (AGyP)",{"$f":"INDEX(Calculadora!$C$11:$H$60,MATCH('Ecuaciones y FE'!A559,Calculadora!$B$11:$B$60,0),MATCH(Calculadora!$H$11,Calculadora!$C$11:$H$11,0))","v":{"$error":"#N/A"}},null,null,null,null,null,0,null,null,null,null,0.1,null,null,null,null,null,null,{"$error":"#N/A"},{"$error":"#N/A"},null,null,null,null,null,null,{"$error":"#N/A"}]
["Ab140","Agropecuario","Subsector ganadería","Avícola para la producción de guajolotes o pavos","Composteo en pilas rectangulares con mezclado de medias vueltas frecuentes para mezclado y aireación (AGyP)",{"$f":"INDEX(Calculadora!$C$11:$H$60,MATCH('Ecuaciones y FE'!A560,Calculadora!$B$11:$B$60,0),MATCH(Calculadora!$H$11,Calculadora!$C$11:$H$11,0))","v":{"$error":"#N/A"}},null,null,null,null,null,0,null,null,null,null,0.01,null,null,null,null,null,null,{"$error":"#N/A"},{"$error":"#N/A"},null,null,null,null,null,null,{"$error":"#N/A"}]
["Ab141","Agropecuario","Subsector ganadería","Avícola para la producción de guajolotes o pavos","Mezclado de estiércol de aves de corral con hojarasca en camas profundas (no combinadas con engorde en corral o pastura) (AGyP)",{"$f":"INDEX(Calculadora!$C$11:$H$60,MATCH('Ecuaciones y FE'!A561,Calculadora!$B$11:$B$60,0),MATCH(Calculadora!$H$11,Calculadora!$C$11:$H$11,0))","v":{"$error":"#N/A"}},null,null,null,null,null,0,null,null,null,null,1E-3,null,null,null,null,null,null,{"$error":"#N/A"},{"$error":"#N/A"},null,null,null,null,null,null,{"$error":"#N/A"}]
["Ab142","Agropecuario","Subsector ganadería","Avícola para la producción de guajolotes o pavos","Manejo de estiércol de aves de corral sin hojarasca en pozos abiertos en instalaciones cerradas (AGyP)",{"$f":"INDEX(Calculadora!$C$11:$H$60,MATCH('Ecuaciones y FE'!A562,Calculadora!$B$11:$B$60,0),MATCH(Calculadora!$H$11,Calculadora!$C$11:$H$11,0))","v":{"$error":"#N/A"}},null,null,null,null,null,0,null,null,null,null,1E-3,null,null,null,null,null,null,{"$f":"$P$546*F562/1000","v":{"$error":"#N/A"}},{"$f":"(((F562*$K$546*Q562*(44/28))/1000)+((F562*$K$546*L562*$J$413*(44/28))/1000))","v":{"$error":"#N/A"}},null,null,null,null,null,null,{"$error":"#N/A"}]
["Ab143","Agropecuario","Subsector ganadería","Avícola para la producción de guajolotes o pavos","Oxidación biológica aeróbica del estiércol con aireación (AGyP)",{"$f":"INDEX(Calculadora!$C$11:$H$60,MATCH('Ecuaciones y FE'!A563,Calculadora!$B$11:$B$60,0),MATCH(Calculadora!$H$11,Calculadora!$C$11:$H$11,0))","v":{"$error":"#N/A"}},null,null,null,null,null,0,null,null,null,null,0.01,null,null,null,null,null,null,{"$f":"$P$546*F563/1000","v":{"$error":"#N/A"}},{"$f":"(((F563*$K$546*Q563*(44/28))/1000)+((F563*$K$546*L563*$J$413*(44/28))/1000))","v":{"$error":"#N/A"}},null,null,null,null,null,null,{"$error":"#N/A"}]
["Ab144","Agropecuario","Subsector ganadería","Avícola para la producción de guajolotes o pavos","Oxidación biológica aeróbica del estiércol con aireación forzada (AGyP)",{"$f":"INDEX(Calculadora!$C$11:$H$60,MATCH('Ecuaciones y FE'!A564,Calculadora!$B$11:$B$60,0),MATCH(Calculadora!$H$11,Calculadora!$C$11:$H$11,0))","v":{"$error":"#N/A"}},null,null,null,null,null,0,null,null,null,null,5.0000000000000001E-3,null,null,null,null,null,null,{"$f":"$P$546*F564/1000","v":{"$error":"#N/A"}},{"$f":"(((F564*$K$546*Q564*(44/28))/1000)+((F564*$K$546*L564*$J$413*(44/28))/1000))","v":{"$error":"#N/A"}},null,null,null,null,null,null,{"$error":"#N/A"}]
[null,"Agropecuario","Explotación de ovinos y caprinos","Ovinos para cualquier actividad",null,{"$f":"INDEX(Calculadora!$C$11:$H$60,MATCH('Ecuaciones y FE'!A565,Calculadora!$B$11:$B$60,0),MATCH(Calculadora!$H$11,Calculadora!$C$11:$H$11,0))","v":{"$error":"#N/A"}},"cabeza","Pregunta al usuario",null,null,12,null,null,null,null,0.13900000000000001,0.01,null,null,null,null,null,null,null,null,null,null,null,null,null,null,null,null,null,null,null,null,"NA",0.12,"NA","NA","NA","NA","NA",0.25,0.25,"NA","NA"]
["Ab145","Agropecuario","Subsector ganadería","Ovinos para cualquier actividad","Sin gestión de estiércol excretado en pasturas, prados o praderas (O)",{"$f":"INDEX(Calculadora!$C$11:$H$60,MATCH('Ecuaciones y FE'!A566,Calculadora!$B$11:$B$60,0),MATCH(Calculadora!$H$11,Calculadora!$C$11:$H$11,0))","v":{"$error":"#N/A"}},null,null,null,null,null,0,null,null,null,null,0,null,null,null,null,null,null,{"$f":"$P$565*F566/1000","v":{"$error":"#N/A"}},{"$f":"(((F566*$K$565*Q566*(44/28))/1000)+((F566*$K$565*L566*$J$413*(44/28))/1000))","v":{"$error":"#N/A"}},null,null,null,null,null,null,{"$error":"#N/A"}]
["Ab146","Agropecuario","Subsector ganadería","Ovinos para cualquier actividad","Aplicación de estiércol en tierras de cultivo o pasturas dentro de las 24 horas de su excreción (O)",{"$f":"INDEX(Calculadora!$C$11:$H$60,MATCH('Ecuaciones y FE'!A567,Calculadora!$B$11:$B$60,0),MATCH(Calculadora!$H$11,Calculadora!$C$11:$H$11,0))","v":{"$error":"#N/A"}},null,null,null,null,null,0,null,null,null,null,0,null,null,null,null,null,null,{"$f":"$P$565*F567/1000","v":{"$error":"#N/A"}},{"$f":"(((F567*$K$565*Q567*(44/28))/1000)+((F567*$K$565*L567*$J$413*(44/28))/1000))","v":{"$error":"#N/A"}},null,null,null,null,null,null,{"$error":"#N/A"}]
["Ab147","Agropecuario","Subsector ganadería","Ovinos para cualquier actividad","Almacenamiento de estiércol en pilas o montones no confinados (O)",{"$f":"INDEX(Calculadora!$C$11:$H$60,MATCH('Ecuaciones y FE'!A568,Calculadora!$B$11:$B$60,0),MATCH(Calculadora!$H$11,Calculadora!$C$11:$H$11,0))","v":{"$error":"#N/A"}},null,null,null,null,null,0.12,null,null,null,null,5.0000000000000001E-3,null,null,null,null,null,null,{"$error":"#N/A"},{"$error":"#N/A"},null,null,null,null,null,null,{"$error":"#N/A"}]
["Ab148","Agropecuario","Subsector ganadería","Ovinos para cualquier actividad","Confinamiento de estiércol, con o sin retiro periódico (O)",{"$f":"INDEX(Calculadora!$C$11:$H$60,MATCH('Ecuaciones y FE'!A569,Calculadora!$B$11:$B$60,0),MATCH(Calculadora!$H$11,Calculadora!$C$11:$H$11,0))","v":{"$error":"#N/A"}},null,null,null,null,null,0,null,null,null,null,0.02,null,null,null,null,null,null,{"$error":"#N/A"},{"$error":"#N/A"},null,null,null,null,null,null,{"$error":"#N/A"}]
["Ab149","Agropecuario","Subsector ganadería","Ovinos para cualquier actividad","Almacenamiento de estiércol (como se excreta o con un mínimo de agua) en tanques o estanques de tierra (O)",{"$f":"INDEX(Calculadora!$C$11:$H$60,MATCH('Ecuaciones y FE'!A570,Calculadora!$B$11:$B$60,0),MATCH(Calculadora!$H$11,Calculadora!$C$11:$H$11,0))","v":{"$error":"#N/A"}},null,null,null,null,null,0,null,null,null,null,5.0000000000000001E-3,null,null,null,null,null,null,{"$error":"#N/A"},{"$error":"#N/A"},null,null,null,null,null,null,{"$error":"#N/A"}]
["Ab150","Agropecuario","Subsector ganadería","Ovinos para cualquier actividad","Almacenamiento de estiércol líquido (O)",{"$f":"INDEX(Calculadora!$C$11:$H$60,MATCH('Ecuaciones y FE'!A571,Calculadora!$B$11:$B$60,0),MATCH(Calculadora!$H$11,Calculadora!$C$11:$H$11,0))","v":{"$error":"#N/A"}},null,null,null,null,null,0,null,null,null,null,0,null,null,null,null,null,null,{"$error":"#N/A"},{"$error":"#N/A"},null,null,null,null,null,null,{"$error":"#N/A"}]
["Ab151","Agropecuario","Subsector ganadería","Ovinos para cualquier actividad","Almacenamiento del estiércol (con poco o ningún agregado de agua) debajo de un suelo emparrillado (O)",{"$f":"INDEX(Calculadora!$C$11:$H$60,MATCH('Ecuaciones y FE'!A572,Calculadora!$B$11:$B$60,0),MATCH(Calculadora!$H$11,Calculadora!$C$11:$H$11,0))","v":{"$error":"#N/A"}},null,null,null,null,null,0,null,null,null,null,2E-3,null,null,null,null,null,null,{"$error":"#N/A"},{"$error":"#N/A"},null,null,null,null,null,null,{"$error":"#N/A"}]
["Ab152","Agropecuario","Subsector ganadería","Ovinos para cualquier actividad","Almacenamiento de estiércol (con o sin paja) en un tanque contenedor o en una laguna cubierta en condiciones anaerobias (O)",{"$f":"INDEX(Calculadora!$C$11:$H$60,MATCH('Ecuaciones y FE'!A573,Calculadora!$B$11:$B$60,0),MATCH(Calculadora!$H$11,Calculadora!$C$11:$H$11,0))","v":{"$error":"#N/A"}},null,null,null,null,null,0,null,null,null,null,0,null,null,null,null,null,null,{"$error":"#N/A"},{"$error":"#N/A"},null,null,null,null,null,null,{"$error":"#N/A"}]
["Ab153","Agropecuario","Subsector ganadería","Ovinos para cualquier actividad","Quema o uso como combustible de estiércol seco (O)",{"$f":"INDEX(Calculadora!$C$11:$H$60,MATCH('Ecuaciones y FE'!A574,Calculadora!$B$11:$B$60,0),MATCH(Calculadora!$H$11,Calculadora!$C$11:$H$11,0))","v":{"$error":"#N/A"}},null,null,null,null,null,0,null,null,null,null,0,null,null,null,null,null,null,{"$error":"#N/A"},{"$error":"#N/A"},null,null,null,null,null,null,{"$error":"#N/A"}]
["Ab154","Agropecuario","Subsector ganadería","Ovinos para cualquier actividad","Almacenamiento de estiércol con cama de agregados para el control de humedad (O)",{"$f":"INDEX(Calculadora!$C$11:$H$60,MATCH('Ecuaciones y FE'!A575,Calculadora!$B$11:$B$60,0),MATCH(Calculadora!$H$11,Calculadora!$C$11:$H$11,0))","v":{"$error":"#N/A"}},null,null,null,null,null,0.25,null,null,null,null,4.0000000000000001E-3,null,null,null,null,null,null,{"$error":"#N/A"},{"$error":"#N/A"},null,null,null,null,null,null,{"$error":"#N/A"}]
["Ab155","Agropecuario","Subsector ganadería","Ovinos para cualquier actividad","Composteo en canal cerrado, con aireación forzada y mezclado permanente (O)",{"$f":"INDEX(Calculadora!$C$11:$H$60,MATCH('Ecuaciones y FE'!A576,Calculadora!$B$11:$B$60,0),MATCH(Calculadora!$H$11,Calculadora!$C$11:$H$11,0))","v":{"$error":"#N/A"}},null,null,null,null,null,0,null,null,null,null,6.0000000000000001E-3,null,null,null,null,null,null,{"$error":"#N/A"},{"$error":"#N/A"},null,null,null,null,null,null,{"$error":"#N/A"}]
["Ab156","Agropecuario","Subsector ganadería","Ovinos para cualquier actividad","Composteo en pilas con aireación forzada pero sin mezclado (O)",{"$f":"INDEX(Calculadora!$C$11:$H$60,MATCH('Ecuaciones y FE'!A577,Calculadora!$B$11:$B$60,0),MATCH(Calculadora!$H$11,Calculadora!$C$11:$H$11,0))","v":{"$error":"#N/A"}},null,null,null,null,null,0,null,null,null,null,6.0000000000000001E-3,null,null,null,null,null,null,{"$error":"#N/A"},{"$error":"#N/A"},null,null,null,null,null,null,{"$error":"#N/A"}]
["Ab157","Agropecuario","Subsector ganadería","Ovinos para cualquier actividad","Composteo en pilas rectangulares con mezclado de medias vueltas regulares (diario) para mezclado y aireación (O)",{"$f":"INDEX(Calculadora!$C$11:$H$60,MATCH('Ecuaciones y FE'!A578,Calculadora!$B$11:$B$60,0),MATCH(Calculadora!$H$11,Calculadora!$C$11:$H$11,0))","v":{"$error":"#N/A"}},null,null,null,null,null,0,null,null,null,null,0.1,null,null,null,null,null,null,{"$error":"#N/A"},{"$error":"#N/A"},null,null,null,null,null,null,{"$error":"#N/A"}]
["Ab158","Agropecuario","Subsector ganadería","Ovinos para cualquier actividad","Composteo en pilas rectangulares con mezclado de medias vueltas frecuentes para mezclado y aireación (O)",{"$f":"INDEX(Calculadora!$C$11:$H$60,MATCH('Ecuaciones y FE'!A579,Calculadora!$B$11:$B$60,0),MATCH(Calculadora!$H$11,Calculadora!$C$11:$H$11,0))","v":{"$error":"#N/A"}},null,null,null,null,null,0,null,null,null,null,0.01,null,null,null,null,null,null,{"$error":"#N/A"},{"$error":"#N/A"},null,null,null,null,null,null,{"$error":"#N/A"}]
["Ab159","Agropecuario","Subsector ganadería","Ovinos para cualquier actividad","Mezclado de estiércol de aves de corral con hojarasca en camas profundas (no combinadas con engorde en corral o pastura) (O)",{"$f":"INDEX(Calculadora!$C$11:$H$60,MATCH('Ecuaciones y FE'!A580,Calculadora!$B$11:$B$60,0),MATCH(Calculadora!$H$11,Calculadora!$C$11:$H$11,0))","v":{"$error":"#N/A"}},null,null,null,null,null,0,null,null,null,null,1E-3,null,null,null,null,null,null,{"$error":"#N/A"},{"$error":"#N/A"},null,null,null,null,null,null,{"$error":"#N/A"}]
["Ab160","Agropecuario","Subsector ganadería","Ovinos para cualquier actividad","Manejo de estiércol de aves de corral sin hojarasca en pozos abiertos en instalaciones cerradas (O)",{"$f":"INDEX(Calculadora!$C$11:$H$60,MATCH('Ecuaciones y FE'!A581,Calculadora!$B$11:$B$60,0),MATCH(Calculadora!$H$11,Calculadora!$C$11:$H$11,0))","v":{"$error":"#N/A"}},null,null,null,null,null,0,null,null,null,null,1E-3,null,null,null,null,null,null,{"$error":"#N/A"},{"$error":"#N/A"},null,null,null,null,null,null,{"$error":"#N/A"}]
["Ab161","Agropecuario","Subsector ganadería","Ovinos para cualquier actividad","Oxidación biológica aeróbica del estiércol con aireación (O)",{"$f":"INDEX(Calculadora!$C$11:$H$60,MATCH('Ecuaciones y FE'!A582,Calculadora!$B$11:$B$60,0),MATCH(Calculadora!$H$11,Calculadora!$C$11:$H$11,0))","v":{"$error":"#N/A"}},null,null,null,null,null,0,null,null,null,null,0.01,null,null,null,null,null,null,{"$error":"#N/A"},{"$error":"#N/A"},null,null,null,null,null,null,{"$error":"#N/A"}]
["Ab162","Agropecuario","Subsector ganadería","Ovinos para cualquier actividad","Oxidación biológica aeróbica del estiércol con aireación forzada (O)",{"$f":"INDEX(Calculadora!$C$11:$H$60,MATCH('Ecuaciones y FE'!A583,Calculadora!$B$11:$B$60,0),MATCH(Calculadora!$H$11,Calculadora!$C$11:$H$11,0))","v":{"$error":"#N/A"}},null,null,null,null,null,0,null,null,null,null,5.0000000000000001E-3,null,null,null,null,null,null,{"$error":"#N/A"},{"$error":"#N/A"},null,null,null,null,null,null,{"$error":"#N/A"}]
[null,"Agropecuario","Explotación de ovinos y caprinos","Caprinos para cualquier actividad",null,{"$f":"INDEX(Calculadora!$C$11:$H$60,MATCH('Ecuaciones y FE'!A584,Calculadora!$B$11:$B$60,0),MATCH(Calculadora!$H$11,Calculadora!$C$11:$H$11,0))","v":{"$error":"#N/A"}},"cabeza","Pregunta al usuario",null,null,12,null,null,null,null,0.14899999999999999,0.01]
["Ab163","Agropecuario","Subsector ganadería","Caprinos para cualquier actividad","Sin gestión de estiércol excretado en pasturas, prados o praderas (CP)",{"$f":"INDEX(Calculadora!$C$11:$H$60,MATCH('Ecuaciones y FE'!A585,Calculadora!$B$11:$B$60,0),MATCH(Calculadora!$H$11,Calculadora!$C$11:$H$11,0))","v":{"$error":"#N/A"}},null,null,null,null,null,0,null,null,null,null,0,null,null,null,null,null,null,{"$f":"$P$584*F585/1000","v":{"$error":"#N/A"}},{"$f":"(((F585*$K$584*Q585*(44/28))/1000)+((F585*$K$584*L585*$J$413*(44/28))/1000))","v":{"$error":"#N/A"}},null,null,null,null,null,null,{"$error":"#N/A"}]
["Ab164","Agropecuario","Subsector ganadería","Caprinos para cualquier actividad","Aplicación de estiércol en tierras de cultivo o pasturas dentro de las 24 horas de su excreción (CP)",{"$f":"INDEX(Calculadora!$C$11:$H$60,MATCH('Ecuaciones y FE'!A586,Calculadora!$B$11:$B$60,0),MATCH(Calculadora!$H$11,Calculadora!$C$11:$H$11,0))","v":{"$error":"#N/A"}},null,null,null,null,null,0,null,null,null,null,0,null,null,null,null,null,null,{"$f":"$P$584*F586/1000","v":{"$error":"#N/A"}},{"$f":"(((F586*$K$584*Q586*(44/28))/1000)+((F586*$K$584*L586*$J$413*(44/28))/1000))","v":{"$error":"#N/A"}},null,null,null,null,null,null,{"$error":"#N/A"}]
["Ab165","Agropecuario","Subsector ganadería","Caprinos para cualquier actividad","Almacenamiento de estiércol en pilas o montones no confinados (CP)",{"$f":"INDEX(Calculadora!$C$11:$H$60,MATCH('Ecuaciones y FE'!A587,Calculadora!$B$11:$B$60,0),MATCH(Calculadora!$H$11,Calculadora!$C$11:$H$11,0))","v":{"$error":"#N/A"}},null,null,null,null,null,0.12,null,null,null,null,5.0000000000000001E-3,null,null,null,null,null,null,{"$error":"#N/A"},{"$error":"#N/A"},null,null,null,null,null,null,{"$error":"#N/A"}]
["Ab166","Agropecuario","Subsector ganadería","Caprinos para cualquier actividad","Confinamiento de estiércol, con o sin retiro periódico (CP)",{"$f":"INDEX(Calculadora!$C$11:$H$60,MATCH('Ecuaciones y FE'!A588,Calculadora!$B$11:$B$60,0),MATCH(Calculadora!$H$11,Calculadora!$C$11:$H$11,0))","v":{"$error":"#N/A"}},null,null,null,null,null,0,null,null,null,null,0.02,null,null,null,null,null,null,{"$error":"#N/A"},{"$error":"#N/A"},null,null,null,null,null,null,{"$error":"#N/A"}]
["Ab167","Agropecuario","Subsector ganadería","Caprinos para cualquier actividad","Almacenamiento de estiércol (como se excreta o con un mínimo de agua) en tanques o estanques de tierra (CP)",{"$f":"INDEX(Calculadora!$C$11:$H$60,MATCH('Ecuaciones y FE'!A589,Calculadora!$B$11:$B$60,0),MATCH(Calculadora!$H$11,Calculadora!$C$11:$H$11,0))","v":{"$error":"#N/A"}},null,null,null,null,null,0,null,null,null,null,5.0000000000000001E-3,null,null,null,null,null,null,{"$error":"#N/A"},{"$error":"#N/A"},null,null,null,null,null,null,{"$error":"#N/A"}]
["Ab168","Agropecuario","Subsector ganadería","Caprinos para cualquier actividad","Almacenamiento de estiércol líquido (CP)",{"$f":"INDEX(Calculadora!$C$11:$H$60,MATCH('Ecuaciones y FE'!A590,Calculadora!$B$11:$B$60,0),MATCH(Calculadora!$H$11,Calculadora!$C$11:$H$11,0))","v":{"$error":"#N/A"}},null,null,null,null,null,0,null,null,null,null,0,null,null,null,null,null,null,{"$error":"#N/A"},{"$error":"#N/A"},null,null,null,null,null,null,{"$error":"#N/A"}]
["Ab169","Agropecuario","Subsector ganadería","Caprinos para cualquier actividad","Almacenamiento del estiércol (con poco o ningún agregado de agua) debajo de un suelo emparrillado (CP)",{"$f":"INDEX(Calculadora!$C$11:$H$60,MATCH('Ecuaciones y FE'!A591,Calculadora!$B$11:$B$60,0),MATCH(Calculadora!$H$11,Calculadora!$C$11:$H$11,0))","v":{"$error":"#N/A"}},null,null,null,null,null,0,null,null,null,null,2E-3,null,null,null,null,null,null,{"$error":"#N/A"},{"$error":"#N/A"},null,null,null,null,null,null,{"$error":"#N/A"}]
["Ab170","Agropecuario","Subsector ganadería","Caprinos para cualquier actividad","Almacenamiento de estiércol (con o sin paja) en un tanque contenedor o en una laguna cubierta en condiciones anaerobias (CP)",{"$f":"INDEX(Calculadora!$C$11:$H$60,MATCH('Ecuaciones y FE'!A592,Calculadora!$B$11:$B$60,0),MATCH(Calculadora!$H$11,Calculadora!$C$11:$H$11,0))","v":{"$error":"#N/A"}},null,null,null,null,null,0,null,null,null,null,0,null,null,null,null,null,null,{"$error":"#N/A"},{"$error":"#N/A"},null,null,null,null,null,null,{"$error":"#N/A"}]
["Ab171","Agropecuario","Subsector ganadería","Caprinos para cualquier actividad","Quema o uso como combustible de estiércol seco (CP)",{"$f":"INDEX(Calculadora!$C$11:$H$60,MATCH('Ecuaciones y FE'!A593,Calculadora!$B$11:$B$60,0),MATCH(Calculadora!$H$11,Calculadora!$C$11:$H$11,0))","v":{"$error":"#N/A"}},null,null,null,null,null,0,null,null,null,null,0,null,null,null,null,null,null,{"$error":"#N/A"},{"$error":"#N/A"},null,null,null,null,null,null,{"$error":"#N/A"}]
["Ab172","Agropecuario","Subsector ganadería","Caprinos para cualquier actividad","Almacenamiento de estiércol con cama de agregados para el control de humedad (CP)",{"$f":"INDEX(Calculadora!$C$11:$H$60,MATCH('Ecuaciones y FE'!A594,Calculadora!$B$11:$B$60,0),MATCH(Calculadora!$H$11,Calculadora!$C$11:$H$11,0))","v":{"$error":"#N/A"}},null,null,null,null,null,0.25,null,null,null,null,4.0000000000000001E-3,null,null,null,null,null,null,{"$error":"#N/A"},{"$error":"#N/A"},null,null,null,null,null,null,{"$error":"#N/A"}]
["Ab173","Agropecuario","Subsector ganadería","Caprinos para cualquier actividad","Composteo en canal cerrado, con aireación forzada y mezclado permanente (CP)",{"$f":"INDEX(Calculadora!$C$11:$H$60,MATCH('Ecuaciones y FE'!A595,Calculadora!$B$11:$B$60,0),MATCH(Calculadora!$H$11,Calculadora!$C$11:$H$11,0))","v":{"$error":"#N/A"}},null,null,null,null,null,0,null,null,null,null,6.0000000000000001E-3,null,null,null,null,null,null,{"$error":"#N/A"},{"$error":"#N/A"},null,null,null,null,null,null,{"$error":"#N/A"}]
["Ab174","Agropecuario","Subsector ganadería","Caprinos para cualquier actividad","Composteo en pilas con aireación forzada pero sin mezclado (CP)",{"$f":"INDEX(Calculadora!$C$11:$H$60,MATCH('Ecuaciones y FE'!A596,Calculadora!$B$11:$B$60,0),MATCH(Calculadora!$H$11,Calculadora!$C$11:$H$11,0))","v":{"$error":"#N/A"}},null,null,null,null,null,0,null,null,null,null,6.0000000000000001E-3,null,null,null,null,null,null,{"$error":"#N/A"},{"$error":"#N/A"},null,null,null,null,null,null,{"$error":"#N/A"}]
["Ab175","Agropecuario","Subsector ganadería","Caprinos para cualquier actividad","Composteo en pilas rectangulares con mezclado de medias vueltas regulares (diario) para mezclado y aireación (CP)",{"$f":"INDEX(Calculadora!$C$11:$H$60,MATCH('Ecuaciones y FE'!A597,Calculadora!$B$11:$B$60,0),MATCH(Calculadora!$H$11,Calculadora!$C$11:$H$11,0))","v":{"$error":"#N/A"}},null,null,null,null,null,0,null,null,null,null,0.1,null,null,null,null,null,null,{"$error":"#N/A"},{"$error":"#N/A"},null,null,null,null,null,null,{"$error":"#N/A"}]
["Ab176","Agropecuario","Subsector ganadería","Caprinos para cualquier actividad","Composteo en pilas rectangulares con mezclado de medias vueltas frecuentes para mezclado y aireación (CP)",{"$f":"INDEX(Calculadora!$C$11:$H$60,MATCH('Ecuaciones y FE'!A598,Calculadora!$B$11:$B$60,0),MATCH(Calculadora!$H$11,Calculadora!$C$11:$H$11,0))","v":{"$error":"#N/A"}},null,null,null,null,null,0,null,null,null,null,0.01,null,null,null,null,null,null,{"$error":"#N/A"},{"$error":"#N/A"},null,null,null,null,null,null,{"$error":"#N/A"}]
["Ab177","Agropecuario","Subsector ganadería","Caprinos para cualquier actividad","Mezclado de estiércol de aves de corral con hojarasca en camas profundas (no combinadas con engorde en corral o pastura) (CP)",{"$f":"INDEX(Calculadora!$C$11:$H$60,MATCH('Ecuaciones y FE'!A599,Calculadora!$B$11:$B$60,0),MATCH(Calculadora!$H$11,Calculadora!$C$11:$H$11,0))","v":{"$error":"#N/A"}},null,null,null,null,null,0,null,null,null,null,1E-3,null,null,null,null,null,null,{"$error":"#N/A"},{"$error":"#N/A"},null,null,null,null,null,null,{"$error":"#N/A"}]
["Ab178","Agropecuario","Subsector ganadería","Caprinos para cualquier actividad","Manejo de estiércol de aves de corral sin hojarasca en pozos abiertos en instalaciones cerradas (CP)",{"$f":"INDEX(Calculadora!$C$11:$H$60,MATCH('Ecuaciones y FE'!A600,Calculadora!$B$11:$B$60,0),MATCH(Calculadora!$H$11,Calculadora!$C$11:$H$11,0))","v":{"$error":"#N/A"}},null,null,null,null,null,0,null,null,null,null,1E-3,null,null,null,null,null,null,{"$error":"#N/A"},{"$error":"#N/A"},null,null,null,null,null,null,{"$error":"#N/A"}]
["Ab179","Agropecuario","Subsector ganadería","Caprinos para cualquier actividad","Oxidación biológica aeróbica del estiércol con aireación (CP)",{"$f":"INDEX(Calculadora!$C$11:$H$60,MATCH('Ecuaciones y FE'!A601,Calculadora!$B$11:$B$60,0),MATCH(Calculadora!$H$11,Calculadora!$C$11:$H$11,0))","v":{"$error":"#N/A"}},null,null,null,null,null,0,null,null,null,null,0.01,null,null,null,null,null,null,{"$error":"#N/A"},{"$error":"#N/A"},null,null,null,null,null,null,{"$error":"#N/A"}]
["Ab180","Agropecuario","Subsector ganadería","Caprinos para cualquier actividad","Oxidación biológica aeróbica del estiércol con aireación forzada (CP)",{"$f":"INDEX(Calculadora!$C$11:$H$60,MATCH('Ecuaciones y FE'!A602,Calculadora!$B$11:$B$60,0),MATCH(Calculadora!$H$11,Calculadora!$C$11:$H$11,0))","v":{"$error":"#N/A"}},null,null,null,null,null,0,null,null,null,null,5.0000000000000001E-3,null,null,null,null,null,null,{"$error":"#N/A"},{"$error":"#N/A"},null,null,null,null,null,null,{"$error":"#N/A"}]
[null,"Agropecuario","Explotación de ovinos y caprinos","Producción de cualquier tipo de ave en incubadora",null,{"$f":"INDEX(Calculadora!$C$11:$H$60,MATCH('Ecuaciones y FE'!A603,Calculadora!$B$11:$B$60,0),MATCH(Calculadora!$H$11,Calculadora!$C$11:$H$11,0))","v":{"$error":"#N/A"}},"cabeza","Pregunta al usuario",null,null,0.6,null,null,null,null,1.6E-2,0.01]
["Ab181","Agropecuario","Subsector ganadería","Producción de cualquier tipo de ave en incubadora","Sin gestión de estiércol excretado en pasturas, prados o praderas (AI)",{"$f":"INDEX(Calculadora!$C$11:$H$60,MATCH('Ecuaciones y FE'!A604,Calculadora!$B$11:$B$60,0),MATCH(Calculadora!$H$11,Calculadora!$C$11:$H$11,0))","v":{"$error":"#N/A"}},null,null,null,null,null,0,null,null,null,null,0,null,null,null,null,null,null,{"$f":"$P$603*F604/1000","v":{"$error":"#N/A"}},{"$f":"(((F604*$K$603*Q604*(44/28))/1000)+((F604*$K$603*L604*$J$413*(44/28))/1000))","v":{"$error":"#N/A"}},null,null,null,null,null,null,{"$error":"#N/A"}]
["Ab182","Agropecuario","Subsector ganadería","Producción de cualquier tipo de ave en incubadora","Aplicación de estiércol en tierras de cultivo o pasturas dentro de las 24 horas de su excreción (AI)",{"$f":"INDEX(Calculadora!$C$11:$H$60,MATCH('Ecuaciones y FE'!A605,Calculadora!$B$11:$B$60,0),MATCH(Calculadora!$H$11,Calculadora!$C$11:$H$11,0))","v":{"$error":"#N/A"}},null,null,null,null,null,0,null,null,null,null,0,null,null,null,null,null,null,{"$f":"$P$603*F605/1000","v":{"$error":"#N/A"}},{"$f":"(((F605*$K$603*Q605*(44/28))/1000)+((F605*$K$603*L605*$J$413*(44/28))/1000))","v":{"$error":"#N/A"}},null,null,null,null,null,null,{"$error":"#N/A"}]
["Ab183","Agropecuario","Subsector ganadería","Producción de cualquier tipo de ave en incubadora","Almacenamiento de estiércol en pilas o montones no confinados (AI)",{"$f":"INDEX(Calculadora!$C$11:$H$60,MATCH('Ecuaciones y FE'!A606,Calculadora!$B$11:$B$60,0),MATCH(Calculadora!$H$11,Calculadora!$C$11:$H$11,0))","v":{"$error":"#N/A"}},null,null,null,null,null,0,null,null,null,null,5.0000000000000001E-3,null,null,null,null,null,null,{"$error":"#N/A"},{"$error":"#N/A"},null,null,null,null,null,null,{"$error":"#N/A"}]
["Ab184","Agropecuario","Subsector ganadería","Producción de cualquier tipo de ave en incubadora","Confinamiento de estiércol, con o sin retiro periódico (AI)",{"$f":"INDEX(Calculadora!$C$11:$H$60,MATCH('Ecuaciones y FE'!A607,Calculadora!$B$11:$B$60,0),MATCH(Calculadora!$H$11,Calculadora!$C$11:$H$11,0))","v":{"$error":"#N/A"}},null,null,null,null,null,0,null,null,null,null,0.02,null,null,null,null,null,null,{"$error":"#N/A"},{"$error":"#N/A"},null,null,null,null,null,null,{"$error":"#N/A"}]
["Ab185","Agropecuario","Subsector ganadería","Producción de cualquier tipo de ave en incubadora","Almacenamiento de estiércol (como se excreta o con un mínimo de agua) en tanques o estanques de tierra (AI)",{"$f":"INDEX(Calculadora!$C$11:$H$60,MATCH('Ecuaciones y FE'!A608,Calculadora!$B$11:$B$60,0),MATCH(Calculadora!$H$11,Calculadora!$C$11:$H$11,0))","v":{"$error":"#N/A"}},null,null,null,null,null,0,null,null,null,null,5.0000000000000001E-3,null,null,null,null,null,null,{"$error":"#N/A"},{"$error":"#N/A"},null,null,null,null,null,null,{"$f":"(X608*$AI$3)+(Y608*$AI$4)","v":{"$error":"#N/A"}}]
["Ab186","Agropecuario","Subsector ganadería","Producción de cualquier tipo de ave en incubadora","Almacenamiento de estiércol líquido (AI)",{"$f":"INDEX(Calculadora!$C$11:$H$60,MATCH('Ecuaciones y FE'!A609,Calculadora!$B$11:$B$60,0),MATCH(Calculadora!$H$11,Calculadora!$C$11:$H$11,0))","v":{"$error":"#N/A"}},null,null,null,null,null,0,null,null,null,null,0,null,null,null,null,null,null,{"$error":"#N/A"},{"$error":"#N/A"},null,null,null,null,null,null,{"$error":"#N/A"}]
["Ab187","Agropecuario","Subsector ganadería","Producción de cualquier tipo de ave en incubadora","Almacenamiento del estiércol (con poco o ningún agregado de agua) debajo de un suelo emparrillado (AI)",{"$f":"INDEX(Calculadora!$C$11:$H$60,MATCH('Ecuaciones y FE'!A610,Calculadora!$B$11:$B$60,0),MATCH(Calculadora!$H$11,Calculadora!$C$11:$H$11,0))","v":{"$error":"#N/A"}},null,null,null,null,null,0.4,null,null,null,null,2E-3,null,null,null,null,null,null,{"$error":"#N/A"},{"$error":"#N/A"},null,null,null,null,null,null,{"$error":"#N/A"}]
["Ab188","Agropecuario","Subsector ganadería","Producción de cualquier tipo de ave en incubadora","Almacenamiento de estiércol (con o sin paja) en un tanque contenedor o en una laguna cubierta en condiciones anaerobias (AI)",{"$f":"INDEX(Calculadora!$C$11:$H$60,MATCH('Ecuaciones y FE'!A611,Calculadora!$B$11:$B$60,0),MATCH(Calculadora!$H$11,Calculadora!$C$11:$H$11,0))","v":{"$error":"#N/A"}},null,null,null,null,null,0,null,null,null,null,0,null,null,null,null,null,null,{"$error":"#N/A"},{"$error":"#N/A"},null,null,null,null,null,null,{"$error":"#N/A"}]
["Ab189","Agropecuario","Subsector ganadería","Producción de cualquier tipo de ave en incubadora","Quema o uso como combustible de estiércol seco (AI)",{"$f":"INDEX(Calculadora!$C$11:$H$60,MATCH('Ecuaciones y FE'!A612,Calculadora!$B$11:$B$60,0),MATCH(Calculadora!$H$11,Calculadora!$C$11:$H$11,0))","v":{"$error":"#N/A"}},null,null,null,null,null,0,null,null,null,null,0,null,null,null,null,null,null,{"$error":"#N/A"},{"$error":"#N/A"},null,null,null,null,null,null,{"$error":"#N/A"}]
["Ab190","Agropecuario","Subsector ganadería","Producción de cualquier tipo de ave en incubadora","Almacenamiento de estiércol con cama de agregados para el control de humedad (AI)",{"$f":"INDEX(Calculadora!$C$11:$H$60,MATCH('Ecuaciones y FE'!A613,Calculadora!$B$11:$B$60,0),MATCH(Calculadora!$H$11,Calculadora!$C$11:$H$11,0))","v":{"$error":"#N/A"}},null,null,null,null,null,0,null,null,null,null,4.0000000000000001E-3,null,null,null,null,null,null,{"$error":"#N/A"},{"$error":"#N/A"},null,null,null,null,null,null,{"$error":"#N/A"}]
["Ab191","Agropecuario","Subsector ganadería","Producción de cualquier tipo de ave en incubadora","Composteo en canal cerrado, con aireación forzada y mezclado permanente (AI)",{"$f":"INDEX(Calculadora!$C$11:$H$60,MATCH('Ecuaciones y FE'!A614,Calculadora!$B$11:$B$60,0),MATCH(Calculadora!$H$11,Calculadora!$C$11:$H$11,0))","v":{"$error":"#N/A"}},null,null,null,null,null,0.4,null,null,null,null,6.0000000000000001E-3,null,null,null,null,null,null,{"$error":"#N/A"},{"$error":"#N/A"},null,null,null,null,null,null,{"$error":"#N/A"}]
["Ab192","Agropecuario","Subsector ganadería","Producción de cualquier tipo de ave en incubadora","Composteo en pilas con aireación forzada pero sin mezclado (AI)",{"$f":"INDEX(Calculadora!$C$11:$H$60,MATCH('Ecuaciones y FE'!A615,Calculadora!$B$11:$B$60,0),MATCH(Calculadora!$H$11,Calculadora!$C$11:$H$11,0))","v":{"$error":"#N/A"}},null,null,null,null,null,0.55000000000000004,null,null,null,null,6.0000000000000001E-3,null,null,null,null,null,null,{"$error":"#N/A"},{"$error":"#N/A"},null,null,null,null,null,null,{"$error":"#N/A"}]
["Ab193","Agropecuario","Subsector ganadería","Producción de cualquier tipo de ave en incubadora","Composteo en pilas rectangulares con mezclado de medias vueltas regulares (diario) para mezclado y aireación (AI)",{"$f":"INDEX(Calculadora!$C$11:$H$60,MATCH('Ecuaciones y FE'!A616,Calculadora!$B$11:$B$60,0),MATCH(Calculadora!$H$11,Calculadora!$C$11:$H$11,0))","v":{"$error":"#N/A"}},null,null,null,null,null,0,null,null,null,null,0.1,null,null,null,null,null,null,{"$error":"#N/A"},{"$error":"#N/A"},null,null,null,null,null,null,{"$error":"#N/A"}]
["Ab194","Agropecuario","Subsector ganadería","Producción de cualquier tipo de ave en incubadora","Composteo en pilas rectangulares con mezclado de medias vueltas frecuentes para mezclado y aireación (AI)",{"$f":"INDEX(Calculadora!$C$11:$H$60,MATCH('Ecuaciones y FE'!A617,Calculadora!$B$11:$B$60,0),MATCH(Calculadora!$H$11,Calculadora!$C$11:$H$11,0))","v":{"$error":"#N/A"}},null,null,null,null,null,0,null,null,null,null,0.01,null,null,null,null,null,null,{"$error":"#N/A"},{"$error":"#N/A"},null,null,null,null,null,null,{"$error":"#N/A"}]
["Ab195","Agropecuario","Subsector ganadería","Producción de cualquier tipo de ave en incubadora","Mezclado de estiércol de aves de corral con hojarasca en camas profundas (no combinadas con engorde en corral o pastura) (AI)",{"$f":"INDEX(Calculadora!$C$11:$H$60,MATCH('Ecuaciones y FE'!A618,Calculadora!$B$11:$B$60,0),MATCH(Calculadora!$H$11,Calculadora!$C$11:$H$11,0))","v":{"$error":"#N/A"}},null,null,null,null,null,0,null,null,null,null,1E-3,null,null,null,null,null,null,{"$error":"#N/A"},{"$error":"#N/A"},null,null,null,null,null,null,{"$error":"#N/A"}]
["Ab196","Agropecuario","Subsector ganadería","Producción de cualquier tipo de ave en incubadora","Manejo de estiércol de aves de corral sin hojarasca en pozos abiertos en instalaciones cerradas (AI)",{"$f":"INDEX(Calculadora!$C$11:$H$60,MATCH('Ecuaciones y FE'!A619,Calculadora!$B$11:$B$60,0),MATCH(Calculadora!$H$11,Calculadora!$C$11:$H$11,0))","v":{"$error":"#N/A"}},null,null,null,null,null,0,null,null,null,null,1E-3,null,null,null,null,null,null,{"$error":"#N/A"},{"$error":"#N/A"},null,null,null,null,null,null,{"$error":"#N/A"}]
["Ab197","Agropecuario","Subsector ganadería","Producción de cualquier tipo de ave en incubadora","Oxidación biológica aeróbica del estiércol con aireación (AI)",{"$f":"INDEX(Calculadora!$C$11:$H$60,MATCH('Ecuaciones y FE'!A620,Calculadora!$B$11:$B$60,0),MATCH(Calculadora!$H$11,Calculadora!$C$11:$H$11,0))","v":{"$error":"#N/A"}},null,null,null,null,null,0,null,null,null,null,0.01,null,null,null,null,null,null,{"$error":"#N/A"},{"$error":"#N/A"},null,null,null,null,null,null,{"$error":"#N/A"}]
["Ab198","Agropecuario","Subsector ganadería","Producción de cualquier tipo de ave en incubadora","Oxidación biológica aeróbica del estiércol con aireación forzada (AI)",{"$f":"INDEX(Calculadora!$C$11:$H$60,MATCH('Ecuaciones y FE'!A621,Calculadora!$B$11:$B$60,0),MATCH(Calculadora!$H$11,Calculadora!$C$11:$H$11,0))","v":{"$error":"#N/A"}},null,null,null,null,null,0,null,null,null,null,5.0000000000000001E-3,null,null,null,null,null,null,{"$error":"#N/A"},{"$error":"#N/A"},null,null,null,null,null,null,{"$error":"#N/A"}]
["Ra","AGUAS RESIDUALES",null,"Actividad","Tipo de Tratamiento","volumen (m3) x DQO (ton DQO/m3)","Unidades Producción",null,null,null,null,null,null,null,null,"FE (ton CH4/ton DQO)",null,null,null,null,null,null,null,"Emisiones CH4",null,null,null,null,null,null,null,"Emisiones CO2e"]
["Ra1","Residuos","Subsector aguas residuales","Tratamiento de aguas residuales","Planta de tratamiento aeróbico bien operada",{"$f":"INDEX(Calculadora!$C$11:$H$60,MATCH('Ecuaciones y FE'!A623,Calculadora!$B$11:$B$60,0),MATCH(Calculadora!$H$11,Calculadora!$C$11:$H$11,0))","v":{"$error":"#N/A"}},"ton DQO",null,null,null,null,null,null,null,null,0,null,null,null,null,null,null,null,{"$f":"F623*P623","v":{"$error":"#N/A"}},null,null,null,null,null,null,null,{"$f":"X623*AI3","v":{"$error":"#N/A"}}]
["Ra2","Residuos","Subsector aguas residuales","Tratamiento de aguas residuales","Planta de tratamiento aeróbico mal operada o sobrecargada",{"$f":"INDEX(Calculadora!$C$11:$H$60,MATCH('Ecuaciones y FE'!A624,Calculadora!$B$11:$B$60,0),MATCH(Calculadora!$H$11,Calculadora!$C$11:$H$11,0))","v":{"$error":"#N/A"}},"ton DQO",null,null,null,null,null,null,null,null,7.4999999999999997E-2,null,null,null,null,null,null,null,{"$f":"F624*P624","v":{"$error":"#N/A"}},null,null,null,null,null,null,null,{"$f":"X624*AI3","v":{"$error":"#N/A"}}]
["Ra3","Residuos","Subsector aguas residuales","Tratamiento de aguas residuales","Digestor anaeróbico para lodos (no se considera la recuperación de metano)",{"$f":"INDEX(Calculadora!$C$11:$H$60,MATCH('Ecuaciones y FE'!A625,Calculadora!$B$11:$B$60,0),MATCH(Calculadora!$H$11,Calculadora!$C$11:$H$11,0))","v":{"$error":"#N/A"}},"ton DQO",null,null,null,null,null,null,null,null,0.2,null,null,null,null,null,null,null,{"$f":"F625*P625","v":{"$error":"#N/A"}},null,null,null,null,null,null,null,{"$f":"X625*AI3","v":{"$error":"#N/A"}}]
["Ra4","Residuos","Subsector aguas residuales","Tratamiento de aguas residuales","Laguna anaeróbica poco profunda (menor de 2 metros)",{"$f":"INDEX(Calculadora!$C$11:$H$60,MATCH('Ecuaciones y FE'!A626,Calculadora!$B$11:$B$60,0),MATCH(Calculadora!$H$11,Calculadora!$C$11:$H$11,0))","v":{"$error":"#N/A"}},"ton DQO",null,null,null,null,null,null,null,null,0.05,null,null,null,null,null,null,null,{"$f":"F626*P626","v":{"$error":"#N/A"}},null,null,null,null,null,null,null,{"$f":"X626*AI3","v":{"$error":"#N/A"}}]
["Ra5","Residuos","Subsector aguas residuales","Tratamiento de aguas residuales","Laguna anaeróbica profunda (mayor a dos metros)",{"$f":"INDEX(Calculadora!$C$11:$H$60,MATCH('Ecuaciones y FE'!A627,Calculadora!$B$11:$B$60,0),MATCH(Calculadora!$H$11,Calculadora!$C$11:$H$11,0))","v":{"$error":"#N/A"}},"ton DQO",null,null,null,null,null,null,null,null,0.2,null,null,null,null,null,null,null,{"$f":"F627*P627","v":{"$error":"#N/A"}},null,null,null,null,null,null,null,{"$f":"X627*AI3","v":{"$error":"#N/A"}}]
["Ra","RESIDUOS SÓLIDOS",null,"Actividad","Tipo de Tratamiento","Producción","Unidades Producción",null,null,null,null,null,null,null,null,null,null,null,null,null,null,null,"Emisiones C2O",null,null,null,null,null,null,null,null,"Emisiones CO2e"]
["Rb1","Residuos","Subsector residuos sólidos urbanos y residuos de manejo especial, incluyendo disposición final","Actividades de reducción en la fuente de generación del residuo, separación, reutilización, reciclaje, co-procesamiento, tratamiento biológico, químico, físico o térmico, acopio, almacenamiento, transporte y disposición final de residuos, individualmente realizadas o combinadas de manera apropiada","Rb1. Únicamente reporta consumo energético - Sector Todos",{"$f":"INDEX(Calculadora!$C$11:$H$60,MATCH('Ecuaciones y FE'!A629,Calculadora!$B$11:$B$60,0),MATCH(Calculadora!$H$11,Calculadora!$C$11:$H$11,0))","v":{"$error":"#N/A"}},"NA",null,null,null,null,null,null,null,null,null,null,null,null,null,null,null,0,null,null,null,null,null,null,null,null,0]
["Rb2","Residuos","Subsector residuos sólidos urbanos y residuos de manejo especial, incluyendo disposición final","Actividades de remediación de sitios contaminados con residuos","Rb2. Únicamente reporta consumo energético - Sector Todos",{"$f":"INDEX(Calculadora!$C$11:$H$60,MATCH('Ecuaciones y FE'!A630,Calculadora!$B$11:$B$60,0),MATCH(Calculadora!$H$11,Calculadora!$C$11:$H$11,0))","v":{"$error":"#N/A"}},"NA",null,null,null,null,null,null,null,null,null,null,null,null,null,null,null,0,null,null,null,null,null,null,null,null,0]
["Ca","CONSTRUCCIÓN",null,"Actividad","Categoría","Producción","Unidades Producción",null,null,null,null,null,null,null,null,null,null,null,null,null,null,null,"Emisiones C2O",null,null,null,null,null,null,null,null,"Emisiones CO2e"]
["Ca01","Comercio_y_Servicios","Subsector construcción","Edificación residencial","Ca1. Únicamente reporta consumo energético - Sector Todos",{"$f":"INDEX(Calculadora!$C$11:$H$60,MATCH('Ecuaciones y FE'!A632,Calculadora!$B$11:$B$60,0),MATCH(Calculadora!$H$11,Calculadora!$C$11:$H$11,0))","v":{"$error":"#N/A"}},"NA",null,null,null,null,null,null,null,null,null,null,null,null,null,null,null,0,null,null,null,null,null,null,null,null,0]
["Ca02","Comercio_y_Servicios","Subsector construcción","Edificación no residencial","Ca2. Únicamente reporta consumo energético - Sector Todos",{"$f":"INDEX(Calculadora!$C$11:$H$60,MATCH('Ecuaciones y FE'!A633,Calculadora!$B$11:$B$60,0),MATCH(Calculadora!$H$11,Calculadora!$C$11:$H$11,0))","v":{"$error":"#N/A"}},"NA",null,null,null,null,null,null,null,null,null,null,null,null,null,null,null,0,null,null,null,null,null,null,null,null,0]
["Ca03","Comercio_y_Servicios","Subsector construcción","Construcción de obras para el suministro de agua, petróleo, gas, energía eléctrica y telecomunicaciones","Ca3. Únicamente reporta consumo energético - Sector Todos",{"$f":"INDEX(Calculadora!$C$11:$H$60,MATCH('Ecuaciones y FE'!A634,Calculadora!$B$11:$B$60,0),MATCH(Calculadora!$H$11,Calculadora!$C$11:$H$11,0))","v":{"$error":"#N/A"}},"NA",null,null,null,null,null,null,null,null,null,null,null,null,null,null,null,0,null,null,null,null,null,null,null,null,0]
["Ca04","Comercio_y_Servicios","Subsector construcción","División de terrenos y construcción de obras de urbanización","Ca4. Únicamente reporta consumo energético - Sector Todos",{"$f":"INDEX(Calculadora!$C$11:$H$60,MATCH('Ecuaciones y FE'!A635,Calculadora!$B$11:$B$60,0),MATCH(Calculadora!$H$11,Calculadora!$C$11:$H$11,0))","v":{"$error":"#N/A"}},"NA",null,null,null,null,null,null,null,null,null,null,null,null,null,null,null,0,null,null,null,null,null,null,null,null,0]
["Ca05","Comercio_y_Servicios","Subsector construcción","Construcción de vías de comunicación","Ca5. Únicamente reporta consumo energético - Sector Todos",{"$f":"INDEX(Calculadora!$C$11:$H$60,MATCH('Ecuaciones y FE'!A636,Calculadora!$B$11:$B$60,0),MATCH(Calculadora!$H$11,Calculadora!$C$11:$H$11,0))","v":{"$error":"#N/A"}},"NA",null,null,null,null,null,null,null,null,null,null,null,null,null,null,null,0,null,null,null,null,null,null,null,null,0]
["Ca06","Comercio_y_Servicios","Subsector construcción","Otras construcciones de ingeniería civil","Ca6. Únicamente reporta consumo energético - Sector Todos",{"$f":"INDEX(Calculadora!$C$11:$H$60,MATCH('Ecuaciones y FE'!A637,Calculadora!$B$11:$B$60,0),MATCH(Calculadora!$H$11,Calculadora!$C$11:$H$11,0))","v":{"$error":"#N/A"}},"NA",null,null,null,null,null,null,null,null,null,null,null,null,null,null,null,0,null,null,null,null,null,null,null,null,0]
["Ca07","Comercio_y_Servicios","Subsector construcción","Cimentaciones, montaje de estructuras prefabricadas y trabajos en exteriores","Ca7. Únicamente reporta consumo energético - Sector Todos",{"$f":"INDEX(Calculadora!$C$11:$H$60,MATCH('Ecuaciones y FE'!A638,Calculadora!$B$11:$B$60,0),MATCH(Calculadora!$H$11,Calculadora!$C$11:$H$11,0))","v":{"$error":"#N/A"}},"NA",null,null,null,null,null,null,null,null,null,null,null,null,null,null,null,0,null,null,null,null,null,null,null,null,0]
["Ca08","Comercio_y_Servicios","Subsector construcción","Instalaciones y equipamiento en construcciones","Ca8. Únicamente reporta consumo energético - Sector Todos",{"$f":"INDEX(Calculadora!$C$11:$H$60,MATCH('Ecuaciones y FE'!A639,Calculadora!$B$11:$B$60,0),MATCH(Calculadora!$H$11,Calculadora!$C$11:$H$11,0))","v":{"$error":"#N/A"}},"NA",null,null,null,null,null,null,null,null,null,null,null,null,null,null,null,0,null,null,null,null,null,null,null,null,0]
["Ca09","Comercio_y_Servicios","Subsector construcción","Trabajos de acabados en edificaciones","Ca9. Únicamente reporta consumo energético - Sector Todos",{"$f":"INDEX(Calculadora!$C$11:$H$60,MATCH('Ecuaciones y FE'!A640,Calculadora!$B$11:$B$60,0),MATCH(Calculadora!$H$11,Calculadora!$C$11:$H$11,0))","v":{"$error":"#N/A"}},"NA",null,null,null,null,null,null,null,null,null,null,null,null,null,null,null,0,null,null,null,null,null,null,null,null,0]
["Ca10","Comercio_y_Servicios","Subsector construcción","Otros trabajos especializados para la construcción","Ca10. Únicamente reporta consumo energético - Sector Todos",{"$f":"INDEX(Calculadora!$C$11:$H$60,MATCH('Ecuaciones y FE'!A641,Calculadora!$B$11:$B$60,0),MATCH(Calculadora!$H$11,Calculadora!$C$11:$H$11,0))","v":{"$error":"#N/A"}},"NA",null,null,null,null,null,null,null,null,null,null,null,null,null,null,null,0,null,null,null,null,null,null,null,null,0]
[null,null,null,null,"Combustible","Consumo","Unidades consumo",null,"PC","Unidades PC",null,null,null,null,"FE_CO2 (ton/MJ)","FE_CH4 \n(kg/MJ)","FE_N20 \n(kg/MJ)",null,null,null,null,null,"Emisiones ton CO2","Emisiones CH4","Emisiones N2O",null,null,null,null,null,null,"Emisiones ton CO2e"]
["Ca11","Comercio_y_Servicios","Subsector construcción","Maquinaria_construcción","Gasolinas_maquinaria_construcción",{"$f":"INDEX(Calculadora!$C$11:$H$60,MATCH('Ecuaciones y FE'!A643,Calculadora!$B$11:$B$60,0),MATCH(Calculadora!$H$11,Calculadora!$C$11:$H$11,0))","v":{"$error":"#N/A"}},"L",null,5542,"(MJ/bl)",null,null,null,null,6.9300000000000004E-5,8.0000000000000007E-5,1.9999999999999999E-6,null,null,null,null,null,{"$f":"$F$643*($I$643/159)*$O$643","v":{"$error":"#N/A"}},{"$f":"$F$643*($I$643/159)*($P$643/1000)","v":{"$error":"#N/A"}},{"$f":"$F$643*($I$643/159)*($Q$643/1000)","v":{"$error":"#N/A"}},null,null,null,null,null,null,{"$f":"W643+(X643*AI3)+(Y643*$AI$4)","v":{"$error":"#N/A"}}]
["Ca12","Comercio_y_Servicios","Subsector construcción","Maquinaria_construcción","Diesel_maquinaria_construcción",{"$f":"INDEX(Calculadora!$C$11:$H$60,MATCH('Ecuaciones y FE'!A644,Calculadora!$B$11:$B$60,0),MATCH(Calculadora!$H$11,Calculadora!$C$11:$H$11,0))","v":{"$error":"#N/A"}},"L",null,5952,"(MJ/bl)",null,null,null,null,7.4099999999999999E-5,4.1500000000000001E-6,2.8600000000000001E-5,null,null,null,null,null,{"$f":"$F$644*($I$644/159)*$O$644","v":{"$error":"#N/A"}},{"$f":"$F$644*($I$644/159)*($P$644/1000)","v":{"$error":"#N/A"}},{"$f":"$F$644*($I$644/159)*($Q$644/1000)","v":{"$error":"#N/A"}},null,null,null,null,null,null,{"$f":"W644+(X644*AI3)+(Y644*$AI$4)","v":{"$error":"#N/A"}}]
["Cb","COMERCIO",null,"Actividad","Categoría","Producción","Unidades Producción",null,null,null,null,null,null,null,null,null,null,null,null,null,null,null,"Emisiones C2O",null,null,null,null,null,null,null,null,"Emisiones CO2e"]
["Cb1","Comercio_y_Servicios","Subsector comercio","Comercio al por mayor de abarrotes y alimentos","Cb1. Únicamente reporta consumo energético - Sector Todos",{"$f":"INDEX(Calculadora!$C$11:$H$60,MATCH('Ecuaciones y FE'!A646,Calculadora!$B$11:$B$60,0),MATCH(Calculadora!$H$11,Calculadora!$C$11:$H$11,0))","v":{"$error":"#N/A"}},"NA",null,null,null,null,null,null,null,null,null,null,null,null,null,null,null,0,null,null,null,null,null,null,null,null,0]
["Cb2","Comercio_y_Servicios","Subsector comercio","Comercio al por mayor de bebidas, hielo y tabaco","Cb2. Únicamente reporta consumo energético - Sector Todos",{"$f":"INDEX(Calculadora!$C$11:$H$60,MATCH('Ecuaciones y FE'!A647,Calculadora!$B$11:$B$60,0),MATCH(Calculadora!$H$11,Calculadora!$C$11:$H$11,0))","v":{"$error":"#N/A"}},"NA",null,null,null,null,null,null,null,null,null,null,null,null,null,null,null,0,null,null,null,null,null,null,null,null,0]
["Cb3","Comercio_y_Servicios","Subsector comercio","Comercio al por mayor de productos textiles y calzado","Cb3. Únicamente reporta consumo energético - Sector Todos",{"$f":"INDEX(Calculadora!$C$11:$H$60,MATCH('Ecuaciones y FE'!A648,Calculadora!$B$11:$B$60,0),MATCH(Calculadora!$H$11,Calculadora!$C$11:$H$11,0))","v":{"$error":"#N/A"}},"NA",null,null,null,null,null,null,null,null,null,null,null,null,null,null,null,0,null,null,null,null,null,null,null,null,0]
["Cb4","Comercio_y_Servicios","Subsector comercio","Comercio al por mayor de materias primas agropecuarias y forestales","Cb4. Únicamente reporta consumo energético - Sector Todos",{"$f":"INDEX(Calculadora!$C$11:$H$60,MATCH('Ecuaciones y FE'!A649,Calculadora!$B$11:$B$60,0),MATCH(Calculadora!$H$11,Calculadora!$C$11:$H$11,0))","v":{"$error":"#N/A"}},"NA",null,null,null,null,null,null,null,null,null,null,null,null,null,null,null,0,null,null,null,null,null,null,null,null,0]
["Cb5","Comercio_y_Servicios","Subsector comercio","Comercio al por mayor de materias primas para la industria","Cb5. Únicamente reporta consumo energético - Sector Todos",{"$f":"INDEX(Calculadora!$C$11:$H$60,MATCH('Ecuaciones y FE'!A650,Calculadora!$B$11:$B$60,0),MATCH(Calculadora!$H$11,Calculadora!$C$11:$H$11,0))","v":{"$error":"#N/A"}},"NA",null,null,null,null,null,null,null,null,null,null,null,null,null,null,null,0,null,null,null,null,null,null,null,null,0]
["Cb6","Comercio_y_Servicios","Subsector comercio","Comercio al por mayor de maquinaria y equipo agropecuario, forestal y para la pesca","Cb6. Únicamente reporta consumo energético - Sector Todos",{"$f":"INDEX(Calculadora!$C$11:$H$60,MATCH('Ecuaciones y FE'!A651,Calculadora!$B$11:$B$60,0),MATCH(Calculadora!$H$11,Calculadora!$C$11:$H$11,0))","v":{"$error":"#N/A"}},"NA",null,null,null,null,null,null,null,null,null,null,null,null,null,null,null,0,null,null,null,null,null,null,null,null,0]
["Cb7","Comercio_y_Servicios","Subsector comercio","Comercio al por mayor de mobiliario y equipo de cómputo y de oficina, y de otra maquinaria y equipo de uso general","Cb7. Únicamente reporta consumo energético - Sector Todos",{"$f":"INDEX(Calculadora!$C$11:$H$60,MATCH('Ecuaciones y FE'!A652,Calculadora!$B$11:$B$60,0),MATCH(Calculadora!$H$11,Calculadora!$C$11:$H$11,0))","v":{"$error":"#N/A"}},"NA",null,null,null,null,null,null,null,null,null,null,null,null,null,null,null,0,null,null,null,null,null,null,null,null,0]
["Cb8","Comercio_y_Servicios","Subsector comercio","Comercio al por menor de abarrotes y alimentos","Cb8. Únicamente reporta consumo energético - Sector Todos",{"$f":"INDEX(Calculadora!$C$11:$H$60,MATCH('Ecuaciones y FE'!A653,Calculadora!$B$11:$B$60,0),MATCH(Calculadora!$H$11,Calculadora!$C$11:$H$11,0))","v":{"$error":"#N/A"}},"NA",null,null,null,null,null,null,null,null,null,null,null,null,null,null,null,0,null,null,null,null,null,null,null,null,0]
["Cb9","Comercio_y_Servicios","Subsector comercio","Comercio al por menor en tiendas de autoservicio","Cb9. Únicamente reporta consumo energético - Sector Todos",{"$f":"INDEX(Calculadora!$C$11:$H$60,MATCH('Ecuaciones y FE'!A654,Calculadora!$B$11:$B$60,0),MATCH(Calculadora!$H$11,Calculadora!$C$11:$H$11,0))","v":{"$error":"#N/A"}},"NA",null,null,null,null,null,null,null,null,null,null,null,null,null,null,null,0,null,null,null,null,null,null,null,null,0]
["Cb10","Comercio_y_Servicios","Subsector comercio","Comercio al por menor en tiendas departamentales","Cb10. Únicamente reporta consumo energético - Sector Todos",{"$f":"INDEX(Calculadora!$C$11:$H$60,MATCH('Ecuaciones y FE'!A655,Calculadora!$B$11:$B$60,0),MATCH(Calculadora!$H$11,Calculadora!$C$11:$H$11,0))","v":{"$error":"#N/A"}},"NA",null,null,null,null,null,null,null,null,null,null,null,null,null,null,null,0,null,null,null,null,null,null,null,null,0]
["Cb11","Comercio_y_Servicios","Subsector comercio","Comercio al por menor de ropa, bisutería y accesorios de vestir","Cb11. Únicamente reporta consumo energético - Sector Todos",{"$f":"INDEX(Calculadora!$C$11:$H$60,MATCH('Ecuaciones y FE'!A656,Calculadora!$B$11:$B$60,0),MATCH(Calculadora!$H$11,Calculadora!$C$11:$H$11,0))","v":{"$error":"#N/A"}},"NA",null,null,null,null,null,null,null,null,null,null,null,null,null,null,null,0,null,null,null,null,null,null,null,null,0]
["Cb12","Comercio_y_Servicios","Subsector comercio","Comercio al por menor de partes y refacciones para automóviles, camionetas y camiones","Cb12. Únicamente reporta consumo energético - Sector Todos",{"$f":"INDEX(Calculadora!$C$11:$H$60,MATCH('Ecuaciones y FE'!A657,Calculadora!$B$11:$B$60,0),MATCH(Calculadora!$H$11,Calculadora!$C$11:$H$11,0))","v":{"$error":"#N/A"}},"NA",null,null,null,null,null,null,null,null,null,null,null,null,null,null,null,0,null,null,null,null,null,null,null,null,0]
["Cc","SERVICIOS EDUCATIVOS",null,"Actividad","Categoría","Producción","Unidades Producción",null,null,null,null,null,null,null,null,null,null,null,null,null,null,null,"Emisiones C2O",null,null,null,null,null,null,null,null,"Emisiones CO2e"]
["Cc1","Comercio_y_Servicios","Subsector servicios educativos","Escuelas de educación superior","Cc1. Únicamente reporta consumo energético - Sector Todos",{"$f":"INDEX(Calculadora!$C$11:$H$60,MATCH('Ecuaciones y FE'!A659,Calculadora!$B$11:$B$60,0),MATCH(Calculadora!$H$11,Calculadora!$C$11:$H$11,0))","v":{"$error":"#N/A"}},"NA",null,null,null,null,null,null,null,null,null,null,null,null,null,null,null,0,null,null,null,null,null,null,null,null,0]
["Cc","ENTRETENIMIENTO",null,"Actividad","Categoría","Producción","Unidades Producción",null,null,null,null,null,null,null,null,null,null,null,null,null,null,null,"Emisiones C2O",null,null,null,null,null,null,null,null,"Emisiones CO2e"]
["Cd1","Comercio_y_Servicios","Subsector actividades recreativas y entretenimiento","Parques con instalaciones recreativas y casas de juegos electrónicos","Cd1. Únicamente reporta consumo energético - Sector Todos",{"$f":"INDEX(Calculadora!$C$11:$H$60,MATCH('Ecuaciones y FE'!A661,Calculadora!$B$11:$B$60,0),MATCH(Calculadora!$H$11,Calculadora!$C$11:$H$11,0))","v":{"$error":"#N/A"}},"NA",null,null,null,null,null,null,null,null,null,null,null,null,null,null,null,0,null,null,null,null,null,null,null,null,0]
["Cc","TURISMO",null,"Actividad","Categoría","Producción","Unidades Producción",null,null,null,null,null,null,null,null,null,null,null,null,null,null,null,"Emisiones C2O",null,null,null,null,null,null,null,null,"Emisiones CO2e"]
["Ce1","Comercio_y_Servicios","Subsector turismo","Hoteles, moteles y similares","Ce1. Únicamente reporta consumo energético - Sector Todos",{"$f":"INDEX(Calculadora!$C$11:$H$60,MATCH('Ecuaciones y FE'!A663,Calculadora!$B$11:$B$60,0),MATCH(Calculadora!$H$11,Calculadora!$C$11:$H$11,0))","v":{"$error":"#N/A"}},"NA",null,null,null,null,null,null,null,null,null,null,null,null,null,null,null,0,null,null,null,null,null,null,null,null,0]
["Cc","SERVICIOS MÉDICOS",null,"Actividad","Categoría","Producción","Unidades Producción",null,null,null,null,null,null,null,null,null,null,null,null,null,null,null,"Emisiones C2O",null,null,null,null,null,null,null,null,"Emisiones CO2e"]
["Cf1","Comercio_y_Servicios","Subsector servicios médicos","Hospitales y laboratorios","Cf1. Únicamente reporta consumo energético - Sector Todos",{"$f":"INDEX(Calculadora!$C$11:$H$60,MATCH('Ecuaciones y FE'!A665,Calculadora!$B$11:$B$60,0),MATCH(Calculadora!$H$11,Calculadora!$C$11:$H$11,0))","v":{"$error":"#N/A"}},"NA",null,null,null,null,null,null,null,null,null,null,null,null,null,null,null,0,null,null,null,null,null,null,null,null,0]
["Cc","GOBIERNO",null,"Actividad","Categoría","Producción","Unidades Producción",null,null,null,null,null,null,null,null,null,null,null,null,null,null,null,"Emisiones C2O",null,null,null,null,null,null,null,null,"Emisiones CO2e"]
["Cg1","Comercio_y_Servicios","Subsector gobierno","Instalaciones en las que las dependencias y entidades de la administración pública federal, estatal o municipal realizan sus funciones","Cg1. Únicamente reporta consumo energético - Sector Todos",{"$f":"INDEX(Calculadora!$C$11:$H$60,MATCH('Ecuaciones y FE'!A667,Calculadora!$B$11:$B$60,0),MATCH(Calculadora!$H$11,Calculadora!$C$11:$H$11,0))","v":{"$error":"#N/A"}},"NA",null,null,null,null,null,null,null,null,null,null,null,null,null,null,null,0,null,null,null,null,null,null,null,null,0]
["Cc","SERVICIOS FINANCIEROS",null,"Actividad","Categoría","Producción","Unidades Producción",null,null,null,null,null,null,null,null,null,null,null,null,null,null,null,"Emisiones C2O",null,null,null,null,null,null,null,null,"Emisiones CO2e"]
["Ch1","Comercio_y_Servicios","Subsector servicios financieros","Banca múltiple","Ch1. Únicamente reporta consumo energético - Sector Todos",{"$f":"INDEX(Calculadora!$C$11:$H$60,MATCH('Ecuaciones y FE'!A669,Calculadora!$B$11:$B$60,0),MATCH(Calculadora!$H$11,Calculadora!$C$11:$H$11,0))","v":{"$error":"#N/A"}},"NA",null,null,null,null,null,null,null,null,null,null,null,null,null,null,null,0,null,null,null,null,null,null,null,null,0]
["Ch2","Comercio_y_Servicios","Subsector servicios financieros","Alquiler sin intermediación de bienes raíces","Ch2. Únicamente reporta consumo energético - Sector Todos",{"$f":"INDEX(Calculadora!$C$11:$H$60,MATCH('Ecuaciones y FE'!A670,Calculadora!$B$11:$B$60,0),MATCH(Calculadora!$H$11,Calculadora!$C$11:$H$11,0))","v":{"$error":"#N/A"}},"NA",null,null,null,null,null,null,null,null,null,null,null,null,null,null,null,0]
["Ch3","Comercio_y_Servicios","Subsector servicios financieros","Inmobiliarias y corredores de bienes raíces","Ch3. Únicamente reporta consumo energético - Sector Todos",{"$f":"INDEX(Calculadora!$C$11:$H$60,MATCH('Ecuaciones y FE'!A671,Calculadora!$B$11:$B$60,0),MATCH(Calculadora!$H$11,Calculadora!$C$11:$H$11,0))","v":{"$error":"#N/A"}},"NA",null,null,null,null,null,null,null,null,null,null,null,null,null,null,null,0]
[]
[]
[]
[]
[]
[]
[null,158.9873,"l / bbl"]

{"sheet":"Emisiones","index":3,"n_rows":610,"n_cols":11,"rows_kept":610,"cut":false,"hidden":true,"merged":[]}
[]
["ID","SECTOR","SUBSECTOR","ACTIVIDAD","CATEGORÍA","DESCRIPCIÓN","UNIDAD","Emisiones CO2e","Emisiones CO2","Emisiones CH4","Emisiones N2O"]
["Aa1","Agropecuario","Subsector_Agricultura","Oleaginosas_gramíneas_leguminosas_o_cereales_en_grano_y_forrajeras","Aa1. Únicamente reporta consumo energético - Energía y Transporte","No ingrese información, remítase a la actividad de \"Maquinaria Agrícola\" y al sector \"Energía\" y \"Transporte\"","NA",{"$f":"'Ecuaciones y FE'!AF406","v":0}]
["Aa2","Agropecuario","Subsector_Agricultura","Cultivo_de_hortalizas","Aa2. Únicamente reporta consumo energético - Energía y Transporte","No ingrese información, remítase a la actividad de \"Maquinaria Agrícola\" y al sector \"Energía\" y \"Transporte\"","NA",{"$f":"'Ecuaciones y FE'!AF407","v":0}]
["Aa3","Agropecuario","Subsector_Agricultura","Cultivo_de_frutales_y_nueces","Aa3. Únicamente reporta consumo energético - Energía y Transporte","No ingrese información, remítase a la actividad de \"Maquinaria Agrícola\" y al sector \"Energía\" y \"Transporte\"","NA",{"$f":"'Ecuaciones y FE'!AF408","v":0}]
["Aa4","Agropecuario","Subsector_Agricultura","Cultivo_en_invernaderos_y_viveros_y_floricultura","Aa4. Únicamente reporta consumo energético - Energía y Transporte","No ingrese información, remítase a la actividad de \"Maquinaria Agrícola\" y al sector \"Energía\" y \"Transporte\"","NA",{"$f":"'Ecuaciones y FE'!AF409","v":0}]
["Aa5","Agropecuario","Subsector_Agricultura","Maquinaria_agrícola","Aa5. Diesel","Ingrese el consumo mensual de diesel en litros","l",{"$f":"'Ecuaciones y FE'!AF410","v":{"$error":"#N/A"}},{"$f":"'Ecuaciones y FE'!W410","v":{"$error":"#N/A"}},{"$f":"'Ecuaciones y FE'!X410","v":{"$error":"#N/A"}},{"$f":"'Ecuaciones y FE'!Y410","v":{"$error":"#N/A"}}]
["Aa6","Agropecuario","Subsector_Agricultura","Maquinaria_agrícola","Aa6. Gasolinas y naftas","Ingrese el consumo mensual de gasolina en litros","l",{"$f":"'Ecuaciones y FE'!AF411","v":{"$error":"#N/A"}},{"$f":"'Ecuaciones y FE'!W411","v":{"$error":"#N/A"}},{"$f":"'Ecuaciones y FE'!X411","v":{"$error":"#N/A"}},{"$f":"'Ecuaciones y FE'!Y411","v":{"$error":"#N/A"}}]
["Ab001","Agropecuario","Subsector ganadería","Bovinos para la producción conjunta de leche y carne","Sin gestión de estiércol excretado en pasturas, prados o praderas (BCyL)","Multiplique el número de cabezas por la fracción de excretas manejadas, e ingrese el resultado","cabezas",{"$f":"'Ecuaciones y FE'!AF414","v":{"$error":"#N/A"}},{"$f":"'Ecuaciones y FE'!W414","v":0},{"$f":"'Ecuaciones y FE'!X414","v":{"$error":"#N/A"}},{"$f":"'Ecuaciones y FE'!Y414","v":{"$error":"#N/A"}}]
["Ab002","Agropecuario","Subsector ganadería","Bovinos para la producción conjunta de leche y carne","Aplicación de estiércol en tierras de cultivo o pasturas dentro de las 24 horas de su excreción (BCyL)","Multiplique el número de cabezas por la fracción de excretas manejadas, e ingrese el resultado","cabezas",{"$f":"'Ecuaciones y FE'!AF415","v":{"$error":"#N/A"}},{"$f":"'Ecuaciones y FE'!W415","v":0},{"$f":"'Ecuaciones y FE'!X415","v":{"$error":"#N/A"}},{"$f":"'Ecuaciones y FE'!Y415","v":{"$error":"#N/A"}}]
["Ab003","Agropecuario","Subsector ganadería","Bovinos para la producción conjunta de leche y carne","Almacenamiento de estiércol en pilas o montones no confinados (BCyL)","Multiplique el número de cabezas por la fracción de excretas manejadas, e ingrese el resultado","cabezas",{"$f":"'Ecuaciones y FE'!AF416","v":{"$error":"#N/A"}},{"$f":"'Ecuaciones y FE'!W416","v":0},{"$f":"'Ecuaciones y FE'!X416","v":{"$error":"#N/A"}},{"$f":"'Ecuaciones y FE'!Y416","v":{"$error":"#N/A"}}]
["Ab004","Agropecuario","Subsector ganadería","Bovinos para la producción conjunta de leche y carne","Confinamiento de estiércol, con o sin retiro periódico (BCyL)","Multiplique el número de cabezas por la fracción de excretas manejadas, e ingrese el resultado","cabezas",{"$f":"'Ecuaciones y FE'!AF417","v":{"$error":"#N/A"}},{"$f":"'Ecuaciones y FE'!W417","v":0},{"$f":"'Ecuaciones y FE'!X417","v":{"$error":"#N/A"}},{"$f":"'Ecuaciones y FE'!Y417","v":{"$error":"#N/A"}}]
["Ab005","Agropecuario","Subsector ganadería","Bovinos para la producción conjunta de leche y carne","Almacenamiento de estiércol (como se excreta o con un mínimo de agua) en tanques o estanques de tierra (BCyL)","Multiplique el número de cabezas por la fracción de excretas manejadas, e ingrese el resultado","cabezas",{"$f":"'Ecuaciones y FE'!AF418","v":{"$error":"#N/A"}},{"$f":"'Ecuaciones y FE'!W418","v":0},{"$f":"'Ecuaciones y FE'!X418","v":{"$error":"#N/A"}},{"$f":"'Ecuaciones y FE'!Y418","v":{"$error":"#N/A"}}]
["Ab006","Agropecuario","Subsector ganadería","Bovinos para la producción conjunta de leche y carne","Almacenamiento de estiércol líquido (BCyL)","Multiplique el número de cabezas por la fracción de excretas manejadas, e ingrese el resultado","cabezas",{"$f":"'Ecuaciones y FE'!AF419","v":{"$error":"#N/A"}},{"$f":"'Ecuaciones y FE'!W419","v":0},{"$f":"'Ecuaciones y FE'!X419","v":{"$error":"#N/A"}},{"$f":"'Ecuaciones y FE'!Y419","v":{"$error":"#N/A"}}]
["Ab007","Agropecuario","Subsector ganadería","Bovinos para la producción conjunta de leche y carne","Almacenamiento del estiércol (con poco o ningún agregado de agua) debajo de un suelo emparrillado (BCyL)","Multiplique el número de cabezas por la fracción de excretas manejadas, e ingrese el resultado","cabezas",{"$f":"'Ecuaciones y FE'!AF420","v":{"$error":"#N/A"}},{"$f":"'Ecuaciones y FE'!W420","v":0},{"$f":"'Ecuaciones y FE'!X420","v":{"$error":"#N/A"}},{"$f":"'Ecuaciones y FE'!Y420","v":{"$error":"#N/A"}}]
["Ab008","Agropecuario","Subsector ganadería","Bovinos para la producción conjunta de leche y carne","Almacenamiento de estiércol (con o sin paja) en un tanque contenedor o en una laguna cubierta en condiciones anaerobias (BCyL)","Multiplique el número de cabezas por la fracción de excretas manejadas, e ingrese el resultado","cabezas",{"$f":"'Ecuaciones y FE'!AF421","v":{"$error":"#N/A"}},{"$f":"'Ecuaciones y FE'!W421","v":0},{"$f":"'Ecuaciones y FE'!X421","v":{"$error":"#N/A"}},{"$f":"'Ecuaciones y FE'!Y421","v":{"$error":"#N/A"}}]
["Ab009","Agropecuario","Subsector ganadería","Bovinos para la producción conjunta de leche y carne","Quema o uso como combustible de estiércol seco (BCyL)","Multiplique el número de cabezas por la fracción de excretas manejadas, e ingrese el resultado","cabezas",{"$f":"'Ecuaciones y FE'!AF422","v":{"$error":"#N/A"}},{"$f":"'Ecuaciones y FE'!W422","v":0},{"$f":"'Ecuaciones y FE'!X422","v":{"$error":"#N/A"}},{"$f":"'Ecuaciones y FE'!Y422","v":{"$error":"#N/A"}}]
["Ab010","Agropecuario","Subsector ganadería","Bovinos para la producción conjunta de leche y carne","Almacenamiento de estiércol con cama de agregados para el control de humedad (BCyL)","Multiplique el número de cabezas por la fracción de excretas manejadas, e ingrese el resultado","cabezas",{"$f":"'Ecuaciones y FE'!AF423","v":{"$error":"#N/A"}},{"$f":"'Ecuaciones y FE'!W423","v":0},{"$f":"'Ecuaciones y FE'!X423","v":{"$error":"#N/A"}},{"$f":"'Ecuaciones y FE'!Y423","v":{"$error":"#N/A"}}]
["Ab011","Agropecuario","Subsector ganadería","Bovinos para la producción conjunta de leche y carne","Composteo en canal cerrado, con aireación forzada y mezclado permanente (BCyL)","Multiplique el número de cabezas por la fracción de excretas manejadas, e ingrese el resultado","cabezas",{"$f":"'Ecuaciones y FE'!AF424","v":{"$error":"#N/A"}},{"$f":"'Ecuaciones y FE'!W424","v":0},{"$f":"'Ecuaciones y FE'!X424","v":{"$error":"#N/A"}},{"$f":"'Ecuaciones y FE'!Y424","v":{"$error":"#N/A"}}]
["Ab012","Agropecuario","Subsector ganadería","Bovinos para la producción conjunta de leche y carne","Composteo en pilas con aireación forzada pero sin mezclado (BCyL)","Multiplique el número de cabezas por la fracción de excretas manejadas, e ingrese el resultado","cabezas",{"$f":"'Ecuaciones y FE'!AF425","v":{"$error":"#N/A"}},{"$f":"'Ecuaciones y FE'!W425","v":0},{"$f":"'Ecuaciones y FE'!X425","v":{"$error":"#N/A"}},{"$f":"'Ecuaciones y FE'!Y425","v":{"$error":"#N/A"}}]
["Ab013","Agropecuario","Subsector ganadería","Bovinos para la producción conjunta de leche y carne","Composteo en pilas rectangulares con mezclado de medias vueltas regulares (diario) para mezclado y aireación (BCyL)","Multiplique el número de cabezas por la fracción de excretas manejadas, e ingrese el resultado","cabezas",{"$f":"'Ecuaciones y FE'!AF426","v":{"$error":"#N/A"}},{"$f":"'Ecuaciones y FE'!W426","v":0},{"$f":"'Ecuaciones y FE'!X426","v":{"$error":"#N/A"}},{"$f":"'Ecuaciones y FE'!Y426","v":{"$error":"#N/A"}}]
["Ab014","Agropecuario","Subsector ganadería","Bovinos para la producción conjunta de leche y carne","Composteo en pilas rectangulares con mezclado de medias vueltas frecuentes para mezclado y aireación (BCyL)","Multiplique el número de cabezas por la fracción de excretas manejadas, e ingrese el resultado","cabezas",{"$f":"'Ecuaciones y FE'!AF427","v":{"$error":"#N/A"}},{"$f":"'Ecuaciones y FE'!W427","v":0},{"$f":"'Ecuaciones y FE'!X427","v":{"$error":"#N/A"}},{"$f":"'Ecuaciones y FE'!Y427","v":{"$error":"#N/A"}}]
["Ab015","Agropecuario","Subsector ganadería","Bovinos para la producción conjunta de leche y carne","Mezclado de estiércol de aves de corral con hojarasca en camas profundas (no combinadas con engorde en corral o pastura) (BCyL)","Multiplique el número de cabezas por la fracción de excretas manejadas, e ingrese el resultado","cabezas",{"$f":"'Ecuaciones y FE'!AF428","v":{"$error":"#N/A"}},{"$f":"'Ecuaciones y FE'!W428","v":0},{"$f":"'Ecuaciones y FE'!X428","v":{"$error":"#N/A"}},{"$f":"'Ecuaciones y FE'!Y428","v":{"$error":"#N/A"}}]
["Ab016","Agropecuario","Subsector ganadería","Bovinos para la producción conjunta de leche y carne","Manejo de estiércol de aves de corral sin hojarasca en pozos abiertos en instalaciones cerradas (BCyL)","Multiplique el número de cabezas por la fracción de excretas manejadas, e ingrese el resultado","cabezas",{"$f":"'Ecuaciones y FE'!AF429","v":{"$error":"#N/A"}},{"$f":"'Ecuaciones y FE'!W429","v":0},{"$f":"'Ecuaciones y FE'!X429","v":{"$error":"#N/A"}},{"$f":"'Ecuaciones y FE'!Y429","v":{"$error":"#N/A"}}]
["Ab017","Agropecuario","Subsector ganadería","Bovinos para la producción conjunta de leche y carne","Oxidación biológica aeróbica del estiércol con aireación (BCyL)","Multiplique el número de cabezas por la fracción de excretas manejadas, e ingrese el resultado","cabezas",{"$f":"'Ecuaciones y FE'!AF430","v":{"$error":"#N/A"}},{"$f":"'Ecuaciones y FE'!W430","v":0},{"$f":"'Ecuaciones y FE'!X430","v":{"$error":"#N/A"}},{"$f":"'Ecuaciones y FE'!Y430","v":{"$error":"#N/A"}}]
["Ab018","Agropecuario","Subsector ganadería","Bovinos para la producción conjunta de leche y carne","Oxidación biológica aeróbica del estiércol con aireación forzada (BCyL)","Multiplique el número de cabezas por la fracción de excretas manejadas, e ingrese el resultado","cabezas",{"$f":"'Ecuaciones y FE'!AF431","v":{"$error":"#N/A"}},{"$f":"'Ecuaciones y FE'!W431","v":0},{"$f":"'Ecuaciones y FE'!X431","v":{"$error":"#N/A"}},{"$f":"'Ecuaciones y FE'!Y431","v":{"$error":"#N/A"}}]
["Ab019","Agropecuario","Subsector ganadería","Bovinos para la producción de carne","Sin gestión de estiércol excretado en pasturas, prados o praderas (BC)","Multiplique el número de cabezas por la fracción de excretas manejadas, e ingrese el resultado","cabezas",{"$f":"'Ecuaciones y FE'!AF433","v":{"$error":"#N/A"}},{"$f":"'Ecuaciones y FE'!W433","v":0},{"$f":"'Ecuaciones y FE'!X433","v":{"$error":"#N/A"}},{"$f":"'Ecuaciones y FE'!Y433","v":{"$error":"#N/A"}}]
["Ab020","Agropecuario","Subsector ganadería","Bovinos para la producción de carne","Aplicación de estiércol en tierras de cultivo o pasturas dentro de las 24 horas de su excreción (BC)","Multiplique el número de cabezas por la fracción de excretas manejadas, e ingrese el resultado","cabezas",{"$f":"'Ecuaciones y FE'!AF434","v":{"$error":"#N/A"}},{"$f":"'Ecuaciones y FE'!W434","v":0},{"$f":"'Ecuaciones y FE'!X434","v":{"$error":"#N/A"}},{"$f":"'Ecuaciones y FE'!Y434","v":{"$error":"#N/A"}}]
["Ab021","Agropecuario","Subsector ganadería","Bovinos para la producción de carne","Almacenamiento de estiércol en pilas o montones no confinados (BC)","Multiplique el número de cabezas por la fracción de excretas manejadas, e ingrese el resultado","cabezas",{"$f":"'Ecuaciones y FE'!AF435","v":{"$error":"#N/A"}},{"$f":"'Ecuaciones y FE'!W435","v":0},{"$f":"'Ecuaciones y FE'!X435","v":{"$error":"#N/A"}},{"$f":"'Ecuaciones y FE'!Y435","v":{"$error":"#N/A"}}]
["Ab022","Agropecuario","Subsector ganadería","Bovinos para la producción de carne","Confinamiento de estiércol, con o sin retiro periódico (BC)","Multiplique el número de cabezas por la fracción de excretas manejadas, e ingrese el resultado","cabezas",{"$f":"'Ecuaciones y FE'!AF436","v":{"$error":"#N/A"}},{"$f":"'Ecuaciones y FE'!W436","v":0},{"$f":"'Ecuaciones y FE'!X436","v":{"$error":"#N/A"}},{"$f":"'Ecuaciones y FE'!Y436","v":{"$error":"#N/A"}}]
["Ab023","Agropecuario","Subsector ganadería","Bovinos para la producción de carne","Almacenamiento de estiércol (como se excreta o con un mínimo de agua) en tanques o estanques de tierra (BC)","Multiplique el número de cabezas por la fracción de excretas manejadas, e ingrese el resultado","cabezas",{"$f":"'Ecuaciones y FE'!AF437","v":{"$error":"#N/A"}},{"$f":"'Ecuaciones y FE'!W437","v":0},{"$f":"'Ecuaciones y FE'!X437","v":{"$error":"#N/A"}},{"$f":"'Ecuaciones y FE'!Y437","v":{"$error":"#N/A"}}]
["Ab024","Agropecuario","Subsector ganadería","Bovinos para la producción de carne","Almacenamiento de estiércol líquido (BC)","Multiplique el número de cabezas por la fracción de excretas manejadas, e ingrese el resultado","cabezas",{"$f":"'Ecuaciones y FE'!AF438","v":{"$error":"#N/A"}},{"$f":"'Ecuaciones y FE'!W438","v":0},{"$f":"'Ecuaciones y FE'!X438","v":{"$error":"#N/A"}},{"$f":"'Ecuaciones y FE'!Y438","v":{"$error":"#N/A"}}]
["Ab025","Agropecuario","Subsector ganadería","Bovinos para la producción de carne","Almacenamiento del estiércol (con poco o ningún agregado de agua) debajo de un suelo emparrillado (BC)","Multiplique el número de cabezas por la fracción de excretas manejadas, e ingrese el resultado","cabezas",{"$f":"'Ecuaciones y FE'!AF439","v":{"$error":"#N/A"}},{"$f":"'Ecuaciones y FE'!W439","v":0},{"$f":"'Ecuaciones y FE'!X439","v":{"$error":"#N/A"}},{"$f":"'Ecuaciones y FE'!Y439","v":{"$error":"#N/A"}}]
["Ab026","Agropecuario","Subsector ganadería","Bovinos para la producción de carne","Almacenamiento de estiércol (con o sin paja) en un tanque contenedor o en una laguna cubierta en condiciones anaerobias (BC)","Multiplique el número de cabezas por la fracción de excretas manejadas, e ingrese el resultado","cabezas",{"$f":"'Ecuaciones y FE'!AF440","v":{"$error":"#N/A"}},{"$f":"'Ecuaciones y FE'!W440","v":0},{"$f":"'Ecuaciones y FE'!X440","v":{"$error":"#N/A"}},{"$f":"'Ecuaciones y FE'!Y440","v":{"$error":"#N/A"}}]
["Ab027","Agropecuario","Subsector ganadería","Bovinos para la producción de carne","Quema o uso como combustible de estiércol seco (BC)","Multiplique el número de cabezas por la fracción de excretas manejadas, e ingrese el resultado","cabezas",{"$f":"'Ecuaciones y FE'!AF441","v":{"$error":"#N/A"}},{"$f":"'Ecuaciones y FE'!W441","v":0},{"$f":"'Ecuaciones y FE'!X441","v":{"$error":"#N/A"}},{"$f":"'Ecuaciones y FE'!Y441","v":{"$error":"#N/A"}}]
["Ab028","Agropecuario","Subsector ganadería","Bovinos para la producción de carne","Almacenamiento de estiércol con cama de agregados para el control de humedad (BC)","Multiplique el número de cabezas por la fracción de excretas manejadas, e ingrese el resultado","cabezas",{"$f":"'Ecuaciones y FE'!AF442","v":{"$error":"#N/A"}},{"$f":"'Ecuaciones y FE'!W442","v":0},{"$f":"'Ecuaciones y FE'!X442","v":{"$error":"#N/A"}},{"$f":"'Ecuaciones y FE'!Y442","v":{"$error":"#N/A"}}]
["Ab029","Agropecuario","Subsector ganadería","Bovinos para la producción de carne","Composteo en canal cerrado, con aireación forzada y mezclado permanente (BC)","Multiplique el número de cabezas por la fracción de excretas manejadas, e ingrese el resultado","cabezas",{"$f":"'Ecuaciones y FE'!AF443","v":{"$error":"#N/A"}},{"$f":"'Ecuaciones y FE'!W443","v":0},{"$f":"'Ecuaciones y FE'!X443","v":{"$error":"#N/A"}},{"$f":"'Ecuaciones y FE'!Y443","v":{"$error":"#N/A"}}]
["Ab030","Agropecuario","Subsector ganadería","Bovinos para la producción de carne","Composteo en pilas con aireación forzada pero sin mezclado (BC)","Multiplique el número de cabezas por la fracción de excretas manejadas, e ingrese el resultado","cabezas",{"$f":"'Ecuaciones y FE'!AF444","v":{"$error":"#N/A"}},{"$f":"'Ecuaciones y FE'!W444","v":0},{"$f":"'Ecuaciones y FE'!X444","v":{"$error":"#N/A"}},{"$f":"'Ecuaciones y FE'!Y444","v":{"$error":"#N/A"}}]
["Ab031","Agropecuario","Subsector ganadería","Bovinos para la producción de carne","Composteo en pilas rectangulares con mezclado de medias vueltas regulares (diario) para mezclado y aireación (BC)","Multiplique el número de cabezas por la fracción de excretas manejadas, e ingrese el resultado","cabezas",{"$f":"'Ecuaciones y FE'!AF445","v":{"$error":"#N/A"}},{"$f":"'Ecuaciones y FE'!W445","v":0},{"$f":"'Ecuaciones y FE'!X445","v":{"$error":"#N/A"}},{"$f":"'Ecuaciones y FE'!Y445","v":{"$error":"#N/A"}}]
["Ab032","Agropecuario","Subsector ganadería","Bovinos para la producción de carne","Composteo en pilas rectangulares con mezclado de medias vueltas frecuentes para mezclado y aireación (BC)","Multiplique el número de cabezas por la fracción de excretas manejadas, e ingrese el resultado","cabezas",{"$f":"'Ecuaciones y FE'!AF446","v":{"$error":"#N/A"}},{"$f":"'Ecuaciones y FE'!W446","v":0},{"$f":"'Ecuaciones y FE'!X446","v":{"$error":"#N/A"}},{"$f":"'Ecuaciones y FE'!Y446","v":{"$error":"#N/A"}}]
["Ab033","Agropecuario","Subsector ganadería","Bovinos para la producción de carne","Mezclado de estiércol de aves de corral con hojarasca en camas profundas (no combinadas con engorde en corral o pastura) (BC)","Multiplique el número de cabezas por la fracción de excretas manejadas, e ingrese el resultado","cabezas",{"$f":"'Ecuaciones y FE'!AF447","v":{"$error":"#N/A"}},{"$f":"'Ecuaciones y FE'!W447","v":0},{"$f":"'Ecuaciones y FE'!X447","v":{"$error":"#N/A"}},{"$f":"'Ecuaciones y FE'!Y447","v":{"$error":"#N/A"}}]
["Ab034","Agropecuario","Subsector ganadería","Bovinos para la producción de carne","Manejo de estiércol de aves de corral sin hojarasca en pozos abiertos en instalaciones cerradas  (BC)","Multiplique el número de cabezas por la fracción de excretas manejadas, e ingrese el resultado","cabezas",{"$f":"'Ecuaciones y FE'!AF448","v":{"$error":"#N/A"}},{"$f":"'Ecuaciones y FE'!W448","v":0},{"$f":"'Ecuaciones y FE'!X448","v":{"$error":"#N/A"}},{"$f":"'Ecuaciones y FE'!Y448","v":{"$error":"#N/A"}}]
["Ab035","Agropecuario","Subsector ganadería","Bovinos para la producción de carne","Oxidación biológica aeróbica del estiércol con aireación  (BC)","Multiplique el número de cabezas por la fracción de excretas manejadas, e ingrese el resultado","cabezas",{"$f":"'Ecuaciones y FE'!AF449","v":{"$error":"#N/A"}},{"$f":"'Ecuaciones y FE'!W449","v":0},{"$f":"'Ecuaciones y FE'!X449","v":{"$error":"#N/A"}},{"$f":"'Ecuaciones y FE'!Y449","v":{"$error":"#N/A"}}]
["Ab036","Agropecuario","Subsector ganadería","Bovinos para la producción de carne","Oxidación biológica aeróbica del estiércol con aireación forzada  (BC)","Multiplique el número de cabezas por la fracción de excretas manejadas, e ingrese el resultado","cabezas",{"$f":"'Ecuaciones y FE'!AF450","v":{"$error":"#N/A"}},{"$f":"'Ecuaciones y FE'!W450","v":0},{"$f":"'Ecuaciones y FE'!X450","v":{"$error":"#N/A"}},{"$f":"'Ecuaciones y FE'!Y450","v":{"$error":"#N/A"}}]
["Ab037","Agropecuario","Subsector ganadería","Bovinos para la producción de leche","Sin gestión de estiércol excretado en pasturas, prados o praderas (BL)","Multiplique el número de cabezas por la fracción de excretas manejadas, e ingrese el resultado","cabezas",{"$f":"'Ecuaciones y FE'!AF452","v":{"$error":"#N/A"}},{"$f":"'Ecuaciones y FE'!W452","v":0},{"$f":"'Ecuaciones y FE'!X452","v":{"$error":"#N/A"}},{"$f":"'Ecuaciones y FE'!Y452","v":{"$error":"#N/A"}}]
["Ab038","Agropecuario","Subsector ganadería","Bovinos para la producción de leche","Aplicación de estiércol en tierras de cultivo o pasturas dentro de las 24 horas de su excreción (BL)","Multiplique el número de cabezas por la fracción de excretas manejadas, e ingrese el resultado","cabezas",{"$f":"'Ecuaciones y FE'!AF453","v":{"$error":"#N/A"}},{"$f":"'Ecuaciones y FE'!W453","v":0},{"$f":"'Ecuaciones y FE'!X453","v":{"$error":"#N/A"}},{"$f":"'Ecuaciones y FE'!Y453","v":{"$error":"#N/A"}}]
["Ab039","Agropecuario","Subsector ganadería","Bovinos para la producción de leche","Almacenamiento de estiércol en pilas o montones no confinados (BL)","Multiplique el número de cabezas por la fracción de excretas manejadas, e ingrese el resultado","cabezas",{"$f":"'Ecuaciones y FE'!AF454","v":{"$error":"#N/A"}},{"$f":"'Ecuaciones y FE'!W454","v":0},{"$f":"'Ecuaciones y FE'!X454","v":{"$error":"#N/A"}},{"$f":"'Ecuaciones y FE'!Y454","v":{"$error":"#N/A"}}]
["Ab040","Agropecuario","Subsector ganadería","Bovinos para la producción de leche","Confinamiento de estiércol, con o sin retiro periódico (BL)","Multiplique el número de cabezas por la fracción de excretas manejadas, e ingrese el resultado","cabezas",{"$f":"'Ecuaciones y FE'!AF455","v":{"$error":"#N/A"}},{"$f":"'Ecuaciones y FE'!W455","v":0},{"$f":"'Ecuaciones y FE'!X455","v":{"$error":"#N/A"}},{"$f":"'Ecuaciones y FE'!Y455","v":{"$error":"#N/A"}}]
["Ab041","Agropecuario","Subsector ganadería","Bovinos para la producción de leche","Almacenamiento de estiércol (como se excreta o con un mínimo de agua) en tanques o estanques de tierra (BL)","Multiplique el número de cabezas por la fracción de excretas manejadas, e ingrese el resultado","cabezas",{"$f":"'Ecuaciones y FE'!AF456","v":{"$error":"#N/A"}},{"$f":"'Ecuaciones y FE'!W456","v":0},{"$f":"'Ecuaciones y FE'!X456","v":{"$error":"#N/A"}},{"$f":"'Ecuaciones y FE'!Y456","v":{"$error":"#N/A"}}]
["Ab042","Agropecuario","Subsector ganadería","Bovinos para la producción de leche","Almacenamiento de estiércol líquido (BL)","Multiplique el número de cabezas por la fracción de excretas manejadas, e ingrese el resultado","cabezas",{"$f":"'Ecuaciones y FE'!AF457","v":{"$error":"#N/A"}},{"$f":"'Ecuaciones y FE'!W457","v":0},{"$f":"'Ecuaciones y FE'!X457","v":{"$error":"#N/A"}},{"$f":"'Ecuaciones y FE'!Y457","v":{"$error":"#N/A"}}]
["Ab043","Agropecuario","Subsector ganadería","Bovinos para la producción de leche","Almacenamiento del estiércol (con poco o ningún agregado de agua) debajo de un suelo emparrillado (BL)","Multiplique el número de cabezas por la fracción de excretas manejadas, e ingrese el resultado","cabezas",{"$f":"'Ecuaciones y FE'!AF458","v":{"$error":"#N/A"}},{"$f":"'Ecuaciones y FE'!W458","v":0},{"$f":"'Ecuaciones y FE'!X458","v":{"$error":"#N/A"}},{"$f":"'Ecuaciones y FE'!Y458","v":{"$error":"#N/A"}}]
["Ab044","Agropecuario","Subsector ganadería","Bovinos para la producción de leche","Almacenamiento de estiércol (con o sin paja) en un tanque contenedor o en una laguna cubierta en condiciones anaerobias (BL)","Multiplique el número de cabezas por la fracción de excretas manejadas, e ingrese el resultado","cabezas",{"$f":"'Ecuaciones y FE'!AF459","v":{"$error":"#N/A"}},{"$f":"'Ecuaciones y FE'!W459","v":0},{"$f":"'Ecuaciones y FE'!X459","v":{"$error":"#N/A"}},{"$f":"'Ecuaciones y FE'!Y459","v":{"$error":"#N/A"}}]
["Ab045","Agropecuario","Subsector ganadería","Bovinos para la producción de leche","Quema o uso como combustible de estiércol seco (BL)","Multiplique el número de cabezas por la fracción de excretas manejadas, e ingrese el resultado","cabezas",{"$f":"'Ecuaciones y FE'!AF460","v":{"$error":"#N/A"}},{"$f":"'Ecuaciones y FE'!W460","v":0},{"$f":"'Ecuaciones y FE'!X460","v":{"$error":"#N/A"}},{"$f":"'Ecuaciones y FE'!Y460","v":{"$error":"#N/A"}}]
["Ab046","Agropecuario","Subsector ganadería","Bovinos para la producción de leche","Almacenamiento de estiércol con cama de agregados para el control de humedad (BL)","Multiplique el número de cabezas por la fracción de excretas manejadas, e ingrese el resultado","cabezas",{"$f":"'Ecuaciones y FE'!AF461","v":{"$error":"#N/A"}},{"$f":"'Ecuaciones y FE'!W461","v":0},{"$f":"'Ecuaciones y FE'!X461","v":{"$error":"#N/A"}},{"$f":"'Ecuaciones y FE'!Y461","v":{"$error":"#N/A"}}]
["Ab047","Agropecuario","Subsector ganadería","Bovinos para la producción de leche","Composteo en canal cerrado, con aireación forzada y mezclado permanente (BL)","Multiplique el número de cabezas por la fracción de excretas manejadas, e ingrese el resultado","cabezas",{"$f":"'Ecuaciones y FE'!AF462","v":{"$error":"#N/A"}},{"$f":"'Ecuaciones y FE'!W462","v":0},{"$f":"'Ecuaciones y FE'!X462","v":{"$error":"#N/A"}},{"$f":"'Ecuaciones y FE'!Y462","v":{"$error":"#N/A"}}]
["Ab048","Agropecuario","Subsector ganadería","Bovinos para la producción de leche","Composteo en pilas con aireación forzada pero sin mezclado (BL)","Multiplique el número de cabezas por la fracción de excretas manejadas, e ingrese el resultado","cabezas",{"$f":"'Ecuaciones y FE'!AF463","v":{"$error":"#N/A"}},{"$f":"'Ecuaciones y FE'!W463","v":0},{"$f":"'Ecuaciones y FE'!X463","v":{"$error":"#N/A"}},{"$f":"'Ecuaciones y FE'!Y463","v":{"$error":"#N/A"}}]
["Ab049","Agropecuario","Subsector ganadería","Bovinos para la producción de leche","Composteo en pilas rectangulares con mezclado de medias vueltas regulares (diario) para mezclado y aireación (BL)","Multiplique el número de cabezas por la fracción de excretas manejadas, e ingrese el resultado","cabezas",{"$f":"'Ecuaciones y FE'!AF464","v":{"$error":"#N/A"}},{"$f":"'Ecuaciones y FE'!W464","v":0},{"$f":"'Ecuaciones y FE'!X464","v":{"$error":"#N/A"}},{"$f":"'Ecuaciones y FE'!Y464","v":{"$error":"#N/A"}}]
["Ab050","Agropecuario","Subsector ganadería","Bovinos para la producción de leche","Composteo en pilas rectangulares con mezclado de medias vueltas frecuentes para mezclado y aireación (BL)","Multiplique el número de cabezas por la fracción de excretas manejadas, e ingrese el resultado","cabezas",{"$f":"'Ecuaciones y FE'!AF465","v":{"$error":"#N/A"}},{"$f":"'Ecuaciones y FE'!W465","v":0},{"$f":"'Ecuaciones y FE'!X465","v":{"$error":"#N/A"}},{"$f":"'Ecuaciones y FE'!Y465","v":{"$error":"#N/A"}}]
["Ab051","Agropecuario","Subsector ganadería","Bovinos para la producción de leche","Mezclado de estiércol de aves de corral con hojarasca en camas profundas (no combinadas con engorde en corral o pastura) (BL)","Multiplique el número de cabezas por la fracción de excretas manejadas, e ingrese el resultado","cabezas",{"$f":"'Ecuaciones y FE'!AF466","v":{"$error":"#N/A"}},{"$f":"'Ecuaciones y FE'!W466","v":0},{"$f":"'Ecuaciones y FE'!X466","v":{"$error":"#N/A"}},{"$f":"'Ecuaciones y FE'!Y466","v":{"$error":"#N/A"}}]
["Ab052","Agropecuario","Subsector ganadería","Bovinos para la producción de leche","Manejo de estiércol de aves de corral sin hojarasca en pozos abiertos en instalaciones cerradas (BL)","Multiplique el número de cabezas por la fracción de excretas manejadas, e ingrese el resultado","cabezas",{"$f":"'Ecuaciones y FE'!AF467","v":{"$error":"#N/A"}},{"$f":"'Ecuaciones y FE'!W467","v":0},{"$f":"'Ecuaciones y FE'!X467","v":{"$error":"#N/A"}},{"$f":"'Ecuaciones y FE'!Y467","v":{"$error":"#N/A"}}]
["Ab053","Agropecuario","Subsector ganadería","Bovinos para la producción de leche","Oxidación biológica aeróbica del estiércol con aireación  (BL)","Multiplique el número de cabezas por la fracción de excretas manejadas, e ingrese el resultado","cabezas",{"$f":"'Ecuaciones y FE'!AF468","v":{"$error":"#N/A"}},{"$f":"'Ecuaciones y FE'!W468","v":0},{"$f":"'Ecuaciones y FE'!X468","v":{"$error":"#N/A"}},{"$f":"'Ecuaciones y FE'!Y468","v":{"$error":"#N/A"}}]
["Ab054","Agropecuario","Subsector ganadería","Bovinos para la producción de leche","Oxidación biológica aeróbica del estiércol con aireación forzada (BL)","Multiplique el número de cabezas por la fracción de excretas manejadas, e ingrese el resultado","cabezas",{"$f":"'Ecuaciones y FE'!AF469","v":{"$error":"#N/A"}},{"$f":"'Ecuaciones y FE'!W469","v":0},{"$f":"'Ecuaciones y FE'!X469","v":{"$error":"#N/A"}},{"$f":"'Ecuaciones y FE'!Y469","v":{"$error":"#N/A"}}]
["Ab055","Agropecuario","Subsector ganadería","Bovinos para otros propósitos ","Sin gestión de estiércol excretado en pasturas, prados o praderas (BO)","Multiplique el número de cabezas por la fracción de excretas manejadas, e ingrese el resultado","cabezas",{"$f":"'Ecuaciones y FE'!AF471","v":{"$error":"#N/A"}},{"$f":"'Ecuaciones y FE'!W471","v":0},{"$f":"'Ecuaciones y FE'!X471","v":{"$error":"#N/A"}},{"$f":"'Ecuaciones y FE'!Y471","v":{"$error":"#N/A"}}]
["Ab056","Agropecuario","Subsector ganadería","Bovinos para otros propósitos ","Aplicación de estiércol en tierras de cultivo o pasturas dentro de las 24 horas de su excreción (BO)","Multiplique el número de cabezas por la fracción de excretas manejadas, e ingrese el resultado","cabezas",{"$f":"'Ecuaciones y FE'!AF472","v":{"$error":"#N/A"}},{"$f":"'Ecuaciones y FE'!W472","v":0},{"$f":"'Ecuaciones y FE'!X472","v":{"$error":"#N/A"}},{"$f":"'Ecuaciones y FE'!Y472","v":{"$error":"#N/A"}}]
["Ab057","Agropecuario","Subsector ganadería","Bovinos para otros propósitos ","Almacenamiento de estiércol en pilas o montones no confinados (BO)","Multiplique el número de cabezas por la fracción de excretas manejadas, e ingrese el resultado","cabezas",{"$f":"'Ecuaciones y FE'!AF473","v":{"$error":"#N/A"}},{"$f":"'Ecuaciones y FE'!W473","v":0},{"$f":"'Ecuaciones y FE'!X473","v":{"$error":"#N/A"}},{"$f":"'Ecuaciones y FE'!Y473","v":{"$error":"#N/A"}}]
["Ab058","Agropecuario","Subsector ganadería","Bovinos para otros propósitos ","Confinamiento de estiércol, con o sin retiro periódico (BO)","Multiplique el número de cabezas por la fracción de excretas manejadas, e ingrese el resultado","cabezas",{"$f":"'Ecuaciones y FE'!AF474","v":{"$error":"#N/A"}},{"$f":"'Ecuaciones y FE'!W474","v":0},{"$f":"'Ecuaciones y FE'!X474","v":{"$error":"#N/A"}},{"$f":"'Ecuaciones y FE'!Y474","v":{"$error":"#N/A"}}]
["Ab059","Agropecuario","Subsector ganadería","Bovinos para otros propósitos ","Almacenamiento de estiércol (como se excreta o con un mínimo de agua) en tanques o estanques de tierra (BO)","Multiplique el número de cabezas por la fracción de excretas manejadas, e ingrese el resultado","cabezas",{"$f":"'Ecuaciones y FE'!AF475","v":{"$error":"#N/A"}},{"$f":"'Ecuaciones y FE'!W475","v":0},{"$f":"'Ecuaciones y FE'!X475","v":{"$error":"#N/A"}},{"$f":"'Ecuaciones y FE'!Y475","v":{"$error":"#N/A"}}]
["Ab060","Agropecuario","Subsector ganadería","Bovinos para otros propósitos ","Almacenamiento de estiércol líquido (BO)","Multiplique el número de cabezas por la fracción de excretas manejadas, e ingrese el resultado","cabezas",{"$f":"'Ecuaciones y FE'!AF476","v":{"$error":"#N/A"}},{"$f":"'Ecuaciones y FE'!W476","v":0},{"$f":"'Ecuaciones y FE'!X476","v":{"$error":"#N/A"}},{"$f":"'Ecuaciones y FE'!Y476","v":{"$error":"#N/A"}}]
["Ab061","Agropecuario","Subsector ganadería","Bovinos para otros propósitos ","Almacenamiento del estiércol (con poco o ningún agregado de agua) debajo de un suelo emparrillado (BO)","Multiplique el número de cabezas por la fracción de excretas manejadas, e ingrese el resultado","cabezas",{"$f":"'Ecuaciones y FE'!AF477","v":{"$error":"#N/A"}},{"$f":"'Ecuaciones y FE'!W477","v":0},{"$f":"'Ecuaciones y FE'!X477","v":{"$error":"#N/A"}},{"$f":"'Ecuaciones y FE'!Y477","v":{"$error":"#N/A"}}]
["Ab062","Agropecuario","Subsector ganadería","Bovinos para otros propósitos ","Almacenamiento de estiércol (con o sin paja) en un tanque contenedor o en una laguna cubierta en condiciones anaerobias (BO)","Multiplique el número de cabezas por la fracción de excretas manejadas, e ingrese el resultado","cabezas",{"$f":"'Ecuaciones y FE'!AF478","v":{"$error":"#N/A"}},{"$f":"'Ecuaciones y FE'!W478","v":0},{"$f":"'Ecuaciones y FE'!X478","v":{"$error":"#N/A"}},{"$f":"'Ecuaciones y FE'!Y478","v":{"$error":"#N/A"}}]
["Ab063","Agropecuario","Subsector ganadería","Bovinos para otros propósitos ","Quema o uso como combustible de estiércol seco (BO)","Multiplique el número de cabezas por la fracción de excretas manejadas, e ingrese el resultado","cabezas",{"$f":"'Ecuaciones y FE'!AF479","v":{"$error":"#N/A"}},{"$f":"'Ecuaciones y FE'!W479","v":0},{"$f":"'Ecuaciones y FE'!X479","v":{"$error":"#N/A"}},{"$f":"'Ecuaciones y FE'!Y479","v":{"$error":"#N/A"}}]
["Ab064","Agropecuario","Subsector ganadería","Bovinos para otros propósitos ","Almacenamiento de estiércol con cama de agregados para el control de humedad (BO)","Multiplique el número de cabezas por la fracción de excretas manejadas, e ingrese el resultado","cabezas",{"$f":"'Ecuaciones y FE'!AF480","v":{"$error":"#N/A"}},{"$f":"'Ecuaciones y FE'!W480","v":0},{"$f":"'Ecuaciones y FE'!X480","v":{"$error":"#N/A"}},{"$f":"'Ecuaciones y FE'!Y480","v":{"$error":"#N/A"}}]
["Ab065","Agropecuario","Subsector ganadería","Bovinos para otros propósitos ","Composteo en canal cerrado, con aireación forzada y mezclado permanente (BO)","Multiplique el número de cabezas por la fracción de excretas manejadas, e ingrese el resultado","cabezas",{"$f":"'Ecuaciones y FE'!AF481","v":{"$error":"#N/A"}},{"$f":"'Ecuaciones y FE'!W481","v":0},{"$f":"'Ecuaciones y FE'!X481","v":{"$error":"#N/A"}},{"$f":"'Ecuaciones y FE'!Y481","v":{"$error":"#N/A"}}]
["Ab066","Agropecuario","Subsector ganadería","Bovinos para otros propósitos ","Composteo en pilas con aireación forzada pero sin mezclado (BO)","Multiplique el número de cabezas por la fracción de excretas manejadas, e ingrese el resultado","cabezas",{"$f":"'Ecuaciones y FE'!AF482","v":{"$error":"#N/A"}},{"$f":"'Ecuaciones y FE'!W482","v":0},{"$f":"'Ecuaciones y FE'!X482","v":{"$error":"#N/A"}},{"$f":"'Ecuaciones y FE'!Y482","v":{"$error":"#N/A"}}]
["Ab067","Agropecuario","Subsector ganadería","Bovinos para otros propósitos ","Composteo en pilas rectangulares con mezclado de medias vueltas regulares (diario) para mezclado y aireación (BO)","Multiplique el número de cabezas por la fracción de excretas manejadas, e ingrese el resultado","cabezas",{"$f":"'Ecuaciones y FE'!AF483","v":{"$error":"#N/A"}},{"$f":"'Ecuaciones y FE'!W483","v":0},{"$f":"'Ecuaciones y FE'!X483","v":{"$error":"#N/A"}},{"$f":"'Ecuaciones y FE'!Y483","v":{"$error":"#N/A"}}]
["Ab068","Agropecuario","Subsector ganadería","Bovinos para otros propósitos ","Composteo en pilas rectangulares con mezclado de medias vueltas frecuentes para mezclado y aireación (BO)","Multiplique el número de cabezas por la fracción de excretas manejadas, e ingrese el resultado","cabezas",{"$f":"'Ecuaciones y FE'!AF484","v":{"$error":"#N/A"}},{"$f":"'Ecuaciones y FE'!W484","v":0},{"$f":"'Ecuaciones y FE'!X484","v":{"$error":"#N/A"}},{"$f":"'Ecuaciones y FE'!Y484","v":{"$error":"#N/A"}}]
["Ab069","Agropecuario","Subsector ganadería","Bovinos para otros propósitos ","Mezclado de estiércol de aves de corral con hojarasca en camas profundas (no combinadas con engorde en corral o pastura) (BO)","Multiplique el número de cabezas por la fracción de excretas manejadas, e ingrese el resultado","cabezas",{"$f":"'Ecuaciones y FE'!AF485","v":{"$error":"#N/A"}},{"$f":"'Ecuaciones y FE'!W485","v":0},{"$f":"'Ecuaciones y FE'!X485","v":{"$error":"#N/A"}},{"$f":"'Ecuaciones y FE'!Y485","v":{"$error":"#N/A"}}]
["Ab070","Agropecuario","Subsector ganadería","Bovinos para otros propósitos ","Manejo de estiércol de aves de corral sin hojarasca en pozos abiertos en instalaciones cerradas (BO)","Multiplique el número de cabezas por la fracción de excretas manejadas, e ingrese el resultado","cabezas",{"$f":"'Ecuaciones y FE'!AF486","v":{"$error":"#N/A"}},{"$f":"'Ecuaciones y FE'!W486","v":0},{"$f":"'Ecuaciones y FE'!X486","v":{"$error":"#N/A"}},{"$f":"'Ecuaciones y FE'!Y486","v":{"$error":"#N/A"}}]
["Ab071","Agropecuario","Subsector ganadería","Bovinos para otros propósitos ","Oxidación biológica aeróbica del estiércol con aireación (BO)","Multiplique el número de cabezas por la fracción de excretas manejadas, e ingrese el resultado","cabezas",{"$f":"'Ecuaciones y FE'!AF487","v":{"$error":"#N/A"}},{"$f":"'Ecuaciones y FE'!W487","v":0},{"$f":"'Ecuaciones y FE'!X487","v":{"$error":"#N/A"}},{"$f":"'Ecuaciones y FE'!Y487","v":{"$error":"#N/A"}}]
["Ab072","Agropecuario","Subsector ganadería","Bovinos para otros propósitos ","Oxidación biológica aeróbica del estiércol con aireación forzada (BO)","Multiplique el número de cabezas por la fracción de excretas manejadas, e ingrese el resultado","cabezas",{"$f":"'Ecuaciones y FE'!AF488","v":{"$error":"#N/A"}},{"$f":"'Ecuaciones y FE'!W488","v":0},{"$f":"'Ecuaciones y FE'!X488","v":{"$error":"#N/A"}},{"$f":"'Ecuaciones y FE'!Y488","v":{"$error":"#N/A"}}]
["Ab073","Agropecuario","Subsector ganadería","Porcinos para la producción de carne","Sin gestión de estiércol excretado en pasturas, prados o praderas (P)","Multiplique el número de cabezas por la fracción de excretas manejadas, e ingrese el resultado","cabezas",{"$f":"'Ecuaciones y FE'!AF490","v":{"$error":"#N/A"}},{"$f":"'Ecuaciones y FE'!W490","v":0},{"$f":"'Ecuaciones y FE'!X490","v":{"$error":"#N/A"}},{"$f":"'Ecuaciones y FE'!Y490","v":{"$error":"#N/A"}}]
["Ab074","Agropecuario","Subsector ganadería","Porcinos para la producción de carne","Aplicación de estiércol en tierras de cultivo o pasturas dentro de las 24 horas de su excreción (P)","Multiplique el número de cabezas por la fracción de excretas manejadas, e ingrese el resultado","cabezas",{"$f":"'Ecuaciones y FE'!AF491","v":{"$error":"#N/A"}},{"$f":"'Ecuaciones y FE'!W491","v":0},{"$f":"'Ecuaciones y FE'!X491","v":{"$error":"#N/A"}},{"$f":"'Ecuaciones y FE'!Y491","v":{"$error":"#N/A"}}]
["Ab075","Agropecuario","Subsector ganadería","Porcinos para la producción de carne","Almacenamiento de estiércol en pilas o montones no confinados (P)","Multiplique el número de cabezas por la fracción de excretas manejadas, e ingrese el resultado","cabezas",{"$f":"'Ecuaciones y FE'!AF492","v":{"$error":"#N/A"}},{"$f":"'Ecuaciones y FE'!W492","v":0},{"$f":"'Ecuaciones y FE'!X492","v":{"$error":"#N/A"}},{"$f":"'Ecuaciones y FE'!Y492","v":{"$error":"#N/A"}}]
["Ab076","Agropecuario","Subsector ganadería","Porcinos para la producción de carne","Confinamiento de estiércol, con o sin retiro periódico (P)","Multiplique el número de cabezas por la fracción de excretas manejadas, e ingrese el resultado","cabezas",{"$f":"'Ecuaciones y FE'!AF493","v":{"$error":"#N/A"}},{"$f":"'Ecuaciones y FE'!W493","v":0},{"$f":"'Ecuaciones y FE'!X493","v":{"$error":"#N/A"}},{"$f":"'Ecuaciones y FE'!Y493","v":{"$error":"#N/A"}}]
["Ab077","Agropecuario","Subsector ganadería","Porcinos para la producción de carne","Almacenamiento de estiércol (como se excreta o con un mínimo de agua) en tanques o estanques de tierra (P)","Multiplique el número de cabezas por la fracción de excretas manejadas, e ingrese el resultado","cabezas",{"$f":"'Ecuaciones y FE'!AF494","v":{"$error":"#N/A"}},{"$f":"'Ecuaciones y FE'!W494","v":0},{"$f":"'Ecuaciones y FE'!X494","v":{"$error":"#N/A"}},{"$f":"'Ecuaciones y FE'!Y494","v":{"$error":"#N/A"}}]
["Ab078","Agropecuario","Subsector ganadería","Porcinos para la producción de carne","Almacenamiento de estiércol líquido (P)","Multiplique el número de cabezas por la fracción de excretas manejadas, e ingrese el resultado","cabezas",{"$f":"'Ecuaciones y FE'!AF495","v":{"$error":"#N/A"}},{"$f":"'Ecuaciones y FE'!W495","v":0},{"$f":"'Ecuaciones y FE'!X495","v":{"$error":"#N/A"}},{"$f":"'Ecuaciones y FE'!Y495","v":{"$error":"#N/A"}}]
["Ab079","Agropecuario","Subsector ganadería","Porcinos para la producción de carne","Almacenamiento del estiércol (con poco o ningún agregado de agua) debajo de un suelo emparrillado (P)","Multiplique el número de cabezas por la fracción de excretas manejadas, e ingrese el resultado","cabezas",{"$f":"'Ecuaciones y FE'!AF496","v":{"$error":"#N/A"}},{"$f":"'Ecuaciones y FE'!W496","v":0},{"$f":"'Ecuaciones y FE'!X496","v":{"$error":"#N/A"}},{"$f":"'Ecuaciones y FE'!Y496","v":{"$error":"#N/A"}}]
["Ab080","Agropecuario","Subsector ganadería","Porcinos para la producción de carne","Almacenamiento de estiércol (con o sin paja) en un tanque contenedor o en una laguna cubierta en condiciones anaerobias (P)","Multiplique el número de cabezas por la fracción de excretas manejadas, e ingrese el resultado","cabezas",{"$f":"'Ecuaciones y FE'!AF497","v":{"$error":"#N/A"}},{"$f":"'Ecuaciones y FE'!W497","v":0},{"$f":"'Ecuaciones y FE'!X497","v":{"$error":"#N/A"}},{"$f":"'Ecuaciones y FE'!Y497","v":{"$error":"#N/A"}}]
["Ab081","Agropecuario","Subsector ganadería","Porcinos para la producción de carne","Quema o uso como combustible de estiércol seco (P)","Multiplique el número de cabezas por la fracción de excretas manejadas, e ingrese el resultado","cabezas",{"$f":"'Ecuaciones y FE'!AF498","v":{"$error":"#N/A"}},{"$f":"'Ecuaciones y FE'!W498","v":0},{"$f":"'Ecuaciones y FE'!X498","v":{"$error":"#N/A"}},{"$f":"'Ecuaciones y FE'!Y498","v":{"$error":"#N/A"}}]
["Ab082","Agropecuario","Subsector ganadería","Porcinos para la producción de carne","Almacenamiento de estiércol con cama de agregados para el control de humedad (P)","Multiplique el número de cabezas por la fracción de excretas manejadas, e ingrese el resultado","cabezas",{"$f":"'Ecuaciones y FE'!AF499","v":{"$error":"#N/A"}},{"$f":"'Ecuaciones y FE'!W499","v":0},{"$f":"'Ecuaciones y FE'!X499","v":{"$error":"#N/A"}},{"$f":"'Ecuaciones y FE'!Y499","v":{"$error":"#N/A"}}]
["Ab083","Agropecuario","Subsector ganadería","Porcinos para la producción de carne","Composteo en canal cerrado, con aireación forzada y mezclado permanente (P)","Multiplique el número de cabezas por la fracción de excretas manejadas, e ingrese el resultado","cabezas",{"$f":"'Ecuaciones y FE'!AF500","v":{"$error":"#N/A"}},{"$f":"'Ecuaciones y FE'!W500","v":0},{"$f":"'Ecuaciones y FE'!X500","v":{"$error":"#N/A"}},{"$f":"'Ecuaciones y FE'!Y500","v":{"$error":"#N/A"}}]
["Ab084","Agropecuario","Subsector ganadería","Porcinos para la producción de carne","Composteo en pilas con aireación forzada pero sin mezclado (P)","Multiplique el número de cabezas por la fracción de excretas manejadas, e ingrese el resultado","cabezas",{"$f":"'Ecuaciones y FE'!AF501","v":{"$error":"#N/A"}},{"$f":"'Ecuaciones y FE'!W501","v":0},{"$f":"'Ecuaciones y FE'!X501","v":{"$error":"#N/A"}},{"$f":"'Ecuaciones y FE'!Y501","v":{"$error":"#N/A"}}]
["Ab085","Agropecuario","Subsector ganadería","Porcinos para la producción de carne","Composteo en pilas rectangulares con mezclado de medias vueltas regulares (diario) para mezclado y aireación (P)","Multiplique el número de cabezas por la fracción de excretas manejadas, e ingrese el resultado","cabezas",{"$f":"'Ecuaciones y FE'!AF502","v":{"$error":"#N/A"}},{"$f":"'Ecuaciones y FE'!W502","v":0},{"$f":"'Ecuaciones y FE'!X502","v":{"$error":"#N/A"}},{"$f":"'Ecuaciones y FE'!Y502","v":{"$error":"#N/A"}}]
["Ab086","Agropecuario","Subsector ganadería","Porcinos para la producción de carne","Composteo en pilas rectangulares con mezclado de medias vueltas frecuentes para mezclado y aireación (P)","Multiplique el número de cabezas por la fracción de excretas manejadas, e ingrese el resultado","cabezas",{"$f":"'Ecuaciones y FE'!AF503","v":{"$error":"#N/A"}},{"$f":"'Ecuaciones y FE'!W503","v":0},{"$f":"'Ecuaciones y FE'!X503","v":{"$error":"#N/A"}},{"$f":"'Ecuaciones y FE'!Y503","v":{"$error":"#N/A"}}]
["Ab087","Agropecuario","Subsector ganadería","Porcinos para la producción de carne","Mezclado de estiércol de aves de corral con hojarasca en camas profundas (no combinadas con engorde en corral o pastura) (P)","Multiplique el número de cabezas por la fracción de excretas manejadas, e ingrese el resultado","cabezas",{"$f":"'Ecuaciones y FE'!AF504","v":{"$error":"#N/A"}},{"$f":"'Ecuaciones y FE'!W504","v":0},{"$f":"'Ecuaciones y FE'!X504","v":{"$error":"#N/A"}},{"$f":"'Ecuaciones y FE'!Y504","v":{"$error":"#N/A"}}]
["Ab088","Agropecuario","Subsector ganadería","Porcinos para la producción de carne","Manejo de estiércol de aves de corral sin hojarasca en pozos abiertos en instalaciones cerradas (P)","Multiplique el número de cabezas por la fracción de excretas manejadas, e ingrese el resultado","cabezas",{"$f":"'Ecuaciones y FE'!AF505","v":{"$error":"#N/A"}},{"$f":"'Ecuaciones y FE'!W505","v":0},{"$f":"'Ecuaciones y FE'!X505","v":{"$error":"#N/A"}},{"$f":"'Ecuaciones y FE'!Y505","v":{"$error":"#N/A"}}]
["Ab089","Agropecuario","Subsector ganadería","Porcinos para la producción de carne","Oxidación biológica aeróbica del estiércol con aireación (P)","Multiplique el número de cabezas por la fracción de excretas manejadas, e ingrese el resultado","cabezas",{"$f":"'Ecuaciones y FE'!AF506","v":{"$error":"#N/A"}},{"$f":"'Ecuaciones y FE'!W506","v":0},{"$f":"'Ecuaciones y FE'!X506","v":{"$error":"#N/A"}},{"$f":"'Ecuaciones y FE'!Y506","v":{"$error":"#N/A"}}]
["Ab090","Agropecuario","Subsector ganadería","Porcinos para la producción de carne","Oxidación biológica aeróbica del estiércol con aireación forzada (P)","Multiplique el número de cabezas por la fracción de excretas manejadas, e ingrese el resultado","cabezas",{"$f":"'Ecuaciones y FE'!AF507","v":{"$error":"#N/A"}},{"$f":"'Ecuaciones y FE'!W507","v":0},{"$f":"'Ecuaciones y FE'!X507","v":{"$error":"#N/A"}},{"$f":"'Ecuaciones y FE'!Y507","v":{"$error":"#N/A"}}]
["Ab091","Agropecuario","Subsector ganadería","Avícola para la producción de huevo","Sin gestión de estiércol excretado en pasturas, prados o praderas (AH)","Multiplique el número de cabezas por la fracción de excretas manejadas, e ingrese el resultado","cabezas",{"$f":"'Ecuaciones y FE'!AF509","v":{"$error":"#N/A"}},{"$f":"'Ecuaciones y FE'!W509","v":0},{"$f":"'Ecuaciones y FE'!X509","v":{"$error":"#N/A"}},{"$f":"'Ecuaciones y FE'!Y509","v":{"$error":"#N/A"}}]
["Ab092","Agropecuario","Subsector ganadería","Avícola para la producción de huevo","Aplicación de estiércol en tierras de cultivo o pasturas dentro de las 24 horas de su excreción (AH)","Multiplique el número de cabezas por la fracción de excretas manejadas, e ingrese el resultado","cabezas",{"$f":"'Ecuaciones y FE'!AF510","v":{"$error":"#N/A"}},{"$f":"'Ecuaciones y FE'!W510","v":0},{"$f":"'Ecuaciones y FE'!X510","v":{"$error":"#N/A"}},{"$f":"'Ecuaciones y FE'!Y510","v":{"$error":"#N/A"}}]
["Ab093","Agropecuario","Subsector ganadería","Avícola para la producción de huevo","Almacenamiento de estiércol en pilas o montones no confinados (AH)","Multiplique el número de cabezas por la fracción de excretas manejadas, e ingrese el resultado","cabezas",{"$f":"'Ecuaciones y FE'!AF511","v":{"$error":"#N/A"}},{"$f":"'Ecuaciones y FE'!W511","v":0},{"$f":"'Ecuaciones y FE'!X511","v":{"$error":"#N/A"}},{"$f":"'Ecuaciones y FE'!Y511","v":{"$error":"#N/A"}}]
["Ab094","Agropecuario","Subsector ganadería","Avícola para la producción de huevo","Confinamiento de estiércol, con o sin retiro periódico (AH)","Multiplique el número de cabezas por la fracción de excretas manejadas, e ingrese el resultado","cabezas",{"$f":"'Ecuaciones y FE'!AF512","v":{"$error":"#N/A"}},{"$f":"'Ecuaciones y FE'!W512","v":0},{"$f":"'Ecuaciones y FE'!X512","v":{"$error":"#N/A"}},{"$f":"'Ecuaciones y FE'!Y512","v":{"$error":"#N/A"}}]
["Ab095","Agropecuario","Subsector ganadería","Avícola para la producción de huevo","Almacenamiento de estiércol (como se excreta o con un mínimo de agua) en tanques o estanques de tierra (AH)","Multiplique el número de cabezas por la fracción de excretas manejadas, e ingrese el resultado","cabezas",{"$f":"'Ecuaciones y FE'!AF513","v":{"$error":"#N/A"}},{"$f":"'Ecuaciones y FE'!W513","v":0},{"$f":"'Ecuaciones y FE'!X513","v":{"$error":"#N/A"}},{"$f":"'Ecuaciones y FE'!Y513","v":{"$error":"#N/A"}}]
["Ab096","Agropecuario","Subsector ganadería","Avícola para la producción de huevo","Almacenamiento de estiércol líquido (AH)","Multiplique el número de cabezas por la fracción de excretas manejadas, e ingrese el resultado","cabezas",{"$f":"'Ecuaciones y FE'!AF514","v":{"$error":"#N/A"}},{"$f":"'Ecuaciones y FE'!W514","v":0},{"$f":"'Ecuaciones y FE'!X514","v":{"$error":"#N/A"}},{"$f":"'Ecuaciones y FE'!Y514","v":{"$error":"#N/A"}}]
["Ab097","Agropecuario","Subsector ganadería","Avícola para la producción de huevo","Almacenamiento del estiércol (con poco o ningún agregado de agua) debajo de un suelo emparrillado (AH)","Multiplique el número de cabezas por la fracción de excretas manejadas, e ingrese el resultado","cabezas",{"$f":"'Ecuaciones y FE'!AF515","v":{"$error":"#N/A"}},{"$f":"'Ecuaciones y FE'!W515","v":0},{"$f":"'Ecuaciones y FE'!X515","v":{"$error":"#N/A"}},{"$f":"'Ecuaciones y FE'!Y515","v":{"$error":"#N/A"}}]
["Ab098","Agropecuario","Subsector ganadería","Avícola para la producción de huevo","Almacenamiento de estiércol (con o sin paja) en un tanque contenedor o en una laguna cubierta en condiciones anaerobias (AH)","Multiplique el número de cabezas por la fracción de excretas manejadas, e ingrese el resultado","cabezas",{"$f":"'Ecuaciones y FE'!AF516","v":{"$error":"#N/A"}},{"$f":"'Ecuaciones y FE'!W516","v":0},{"$f":"'Ecuaciones y FE'!X516","v":{"$error":"#N/A"}},{"$f":"'Ecuaciones y FE'!Y516","v":{"$error":"#N/A"}}]
["Ab099","Agropecuario","Subsector ganadería","Avícola para la producción de huevo","Quema o uso como combustible de estiércol seco (AH)","Multiplique el número de cabezas por la fracción de excretas manejadas, e ingrese el resultado","cabezas",{"$f":"'Ecuaciones y FE'!AF517","v":{"$error":"#N/A"}},{"$f":"'Ecuaciones y FE'!W517","v":0},{"$f":"'Ecuaciones y FE'!X517","v":{"$error":"#N/A"}},{"$f":"'Ecuaciones y FE'!Y517","v":{"$error":"#N/A"}}]
["Ab100","Agropecuario","Subsector ganadería","Avícola para la producción de huevo","Almacenamiento de estiércol con cama de agregados para el control de humedad (AH)","Multiplique el número de cabezas por la fracción de excretas manejadas, e ingrese el resultado","cabezas",{"$f":"'Ecuaciones y FE'!AF518","v":{"$error":"#N/A"}},{"$f":"'Ecuaciones y FE'!W518","v":0},{"$f":"'Ecuaciones y FE'!X518","v":{"$error":"#N/A"}},{"$f":"'Ecuaciones y FE'!Y518","v":{"$error":"#N/A"}}]
["Ab101","Agropecuario","Subsector ganadería","Avícola para la producción de huevo","Composteo en canal cerrado, con aireación forzada y mezclado permanente (AH)","Multiplique el número de cabezas por la fracción de excretas manejadas, e ingrese el resultado","cabezas",{"$f":"'Ecuaciones y FE'!AF519","v":{"$error":"#N/A"}},{"$f":"'Ecuaciones y FE'!W519","v":0},{"$f":"'Ecuaciones y FE'!X519","v":{"$error":"#N/A"}},{"$f":"'Ecuaciones y FE'!Y519","v":{"$error":"#N/A"}}]
["Ab102","Agropecuario","Subsector ganadería","Avícola para la producción de huevo","Composteo en pilas con aireación forzada pero sin mezclado (AH)","Multiplique el número de cabezas por la fracción de excretas manejadas, e ingrese el resultado","cabezas",{"$f":"'Ecuaciones y FE'!AF520","v":{"$error":"#N/A"}},{"$f":"'Ecuaciones y FE'!W520","v":0},{"$f":"'Ecuaciones y FE'!X520","v":{"$error":"#N/A"}},{"$f":"'Ecuaciones y FE'!Y520","v":{"$error":"#N/A"}}]
["Ab103","Agropecuario","Subsector ganadería","Avícola para la producción de huevo","Composteo en pilas rectangulares con mezclado de medias vueltas regulares (diario) para mezclado y aireación (AH)","Multiplique el número de cabezas por la fracción de excretas manejadas, e ingrese el resultado","cabezas",{"$f":"'Ecuaciones y FE'!AF521","v":{"$error":"#N/A"}},{"$f":"'Ecuaciones y FE'!W521","v":0},{"$f":"'Ecuaciones y FE'!X521","v":{"$error":"#N/A"}},{"$f":"'Ecuaciones y FE'!Y521","v":{"$error":"#N/A"}}]
["Ab104","Agropecuario","Subsector ganadería","Avícola para la producción de huevo","Composteo en pilas rectangulares con mezclado de medias vueltas frecuentes para mezclado y aireación (AH)","Multiplique el número de cabezas por la fracción de excretas manejadas, e ingrese el resultado","cabezas",{"$f":"'Ecuaciones y FE'!AF522","v":{"$error":"#N/A"}},{"$f":"'Ecuaciones y FE'!W522","v":0},{"$f":"'Ecuaciones y FE'!X522","v":{"$error":"#N/A"}},{"$f":"'Ecuaciones y FE'!Y522","v":{"$error":"#N/A"}}]
["Ab105","Agropecuario","Subsector ganadería","Avícola para la producción de huevo","Mezclado de estiércol de aves de corral con hojarasca en camas profundas (no combinadas con engorde en corral o pastura) (AH)","Multiplique el número de cabezas por la fracción de excretas manejadas, e ingrese el resultado","cabezas",{"$f":"'Ecuaciones y FE'!AF523","v":{"$error":"#N/A"}},{"$f":"'Ecuaciones y FE'!W523","v":0},{"$f":"'Ecuaciones y FE'!X523","v":{"$error":"#N/A"}},{"$f":"'Ecuaciones y FE'!Y523","v":{"$error":"#N/A"}}]
["Ab106","Agropecuario","Subsector ganadería","Avícola para la producción de huevo","Manejo de estiércol de aves de corral sin hojarasca en pozos abiertos en instalaciones cerradas (AH)","Multiplique el número de cabezas por la fracción de excretas manejadas, e ingrese el resultado","cabezas",{"$f":"'Ecuaciones y FE'!AF524","v":{"$error":"#N/A"}},{"$f":"'Ecuaciones y FE'!W524","v":0},{"$f":"'Ecuaciones y FE'!X524","v":{"$error":"#N/A"}},{"$f":"'Ecuaciones y FE'!Y524","v":{"$error":"#N/A"}}]
["Ab107","Agropecuario","Subsector ganadería","Avícola para la producción de huevo","Oxidación biológica aeróbica del estiércol con aireación (AH)","Multiplique el número de cabezas por la fracción de excretas manejadas, e ingrese el resultado","cabezas",{"$f":"'Ecuaciones y FE'!AF525","v":{"$error":"#N/A"}},{"$f":"'Ecuaciones y FE'!W525","v":0},{"$f":"'Ecuaciones y FE'!X525","v":{"$error":"#N/A"}},{"$f":"'Ecuaciones y FE'!Y525","v":{"$error":"#N/A"}}]
["Ab108","Agropecuario","Subsector ganadería","Avícola para la producción de huevo","Oxidación biológica aeróbica del estiércol con aireación forzada (AH)","Multiplique el número de cabezas por la fracción de excretas manejadas, e ingrese el resultado","cabezas",{"$f":"'Ecuaciones y FE'!AF526","v":{"$error":"#N/A"}},{"$f":"'Ecuaciones y FE'!W526","v":0},{"$f":"'Ecuaciones y FE'!X526","v":{"$error":"#N/A"}},{"$f":"'Ecuaciones y FE'!Y526","v":{"$error":"#N/A"}}]
["Ab109","Agropecuario","Subsector ganadería","Avícola para la producción de carne","Sin gestión de estiércol excretado en pasturas, prados o praderas (AC)","Multiplique el número de cabezas por la fracción de excretas manejadas, e ingrese el resultado","cabezas",{"$f":"'Ecuaciones y FE'!AF528","v":{"$error":"#N/A"}},{"$f":"'Ecuaciones y FE'!W528","v":0},{"$f":"'Ecuaciones y FE'!X528","v":{"$error":"#N/A"}},{"$f":"'Ecuaciones y FE'!Y528","v":{"$error":"#N/A"}}]
["Ab110","Agropecuario","Subsector ganadería","Avícola para la producción de carne","Aplicación de estiércol en tierras de cultivo o pasturas dentro de las 24 horas de su excreción (AC)","Multiplique el número de cabezas por la fracción de excretas manejadas, e ingrese el resultado","cabezas",{"$f":"'Ecuaciones y FE'!AF529","v":{"$error":"#N/A"}},{"$f":"'Ecuaciones y FE'!W529","v":0},{"$f":"'Ecuaciones y FE'!X529","v":{"$error":"#N/A"}},{"$f":"'Ecuaciones y FE'!Y529","v":{"$error":"#N/A"}}]
["Ab111","Agropecuario","Subsector ganadería","Avícola para la producción de carne","Almacenamiento de estiércol en pilas o montones no confinados (AC)","Multiplique el número de cabezas por la fracción de excretas manejadas, e ingrese el resultado","cabezas",{"$f":"'Ecuaciones y FE'!AF530","v":{"$error":"#N/A"}},{"$f":"'Ecuaciones y FE'!W530","v":0},{"$f":"'Ecuaciones y FE'!X530","v":{"$error":"#N/A"}},{"$f":"'Ecuaciones y FE'!Y530","v":{"$error":"#N/A"}}]
["Ab112","Agropecuario","Subsector ganadería","Avícola para la producción de carne","Confinamiento de estiércol, con o sin retiro periódico (AC)","Multiplique el número de cabezas por la fracción de excretas manejadas, e ingrese el resultado","cabezas",{"$f":"'Ecuaciones y FE'!AF531","v":{"$error":"#N/A"}},{"$f":"'Ecuaciones y FE'!W531","v":0},{"$f":"'Ecuaciones y FE'!X531","v":{"$error":"#N/A"}},{"$f":"'Ecuaciones y FE'!Y531","v":{"$error":"#N/A"}}]
["Ab113","Agropecuario","Subsector ganadería","Avícola para la producción de carne","Almacenamiento de estiércol (como se excreta o con un mínimo de agua) en tanques o estanques de tierra (AC)","Multiplique el número de cabezas por la fracción de excretas manejadas, e ingrese el resultado","cabezas",{"$f":"'Ecuaciones y FE'!AF532","v":{"$error":"#N/A"}},{"$f":"'Ecuaciones y FE'!W532","v":0},{"$f":"'Ecuaciones y FE'!X532","v":{"$error":"#N/A"}},{"$f":"'Ecuaciones y FE'!Y532","v":{"$error":"#N/A"}}]
["Ab114","Agropecuario","Subsector ganadería","Avícola para la producción de carne","Almacenamiento de estiércol líquido (AC)","Multiplique el número de cabezas por la fracción de excretas manejadas, e ingrese el resultado","cabezas",{"$f":"'Ecuaciones y FE'!AF533","v":{"$error":"#N/A"}},{"$f":"'Ecuaciones y FE'!W533","v":0},{"$f":"'Ecuaciones y FE'!X533","v":{"$error":"#N/A"}},{"$f":"'Ecuaciones y FE'!Y533","v":{"$error":"#N/A"}}]
["Ab115","Agropecuario","Subsector ganadería","Avícola para la producción de carne","Almacenamiento del estiércol (con poco o ningún agregado de agua) debajo de un suelo emparrillado (AC)","Multiplique el número de cabezas por la fracción de excretas manejadas, e ingrese el resultado","cabezas",{"$f":"'Ecuaciones y FE'!AF534","v":{"$error":"#N/A"}},{"$f":"'Ecuaciones y FE'!W534","v":0},{"$f":"'Ecuaciones y FE'!X534","v":{"$error":"#N/A"}},{"$f":"'Ecuaciones y FE'!Y534","v":{"$error":"#N/A"}}]
["Ab116","Agropecuario","Subsector ganadería","Avícola para la producción de carne","Almacenamiento de estiércol (con o sin paja) en un tanque contenedor o en una laguna cubierta en condiciones anaerobias (AC)","Multiplique el número de cabezas por la fracción de excretas manejadas, e ingrese el resultado","cabezas",{"$f":"'Ecuaciones y FE'!AF535","v":{"$error":"#N/A"}},{"$f":"'Ecuaciones y FE'!W535","v":0},{"$f":"'Ecuaciones y FE'!X535","v":{"$error":"#N/A"}},{"$f":"'Ecuaciones y FE'!Y535","v":{"$error":"#N/A"}}]
["Ab117","Agropecuario","Subsector ganadería","Avícola para la producción de carne","Quema o uso como combustible de estiércol seco (AC)","Multiplique el número de cabezas por la fracción de excretas manejadas, e ingrese el resultado","cabezas",{"$f":"'Ecuaciones y FE'!AF536","v":{"$error":"#N/A"}},{"$f":"'Ecuaciones y FE'!W536","v":0},{"$f":"'Ecuaciones y FE'!X536","v":{"$error":"#N/A"}},{"$f":"'Ecuaciones y FE'!Y536","v":{"$error":"#N/A"}}]
["Ab118","Agropecuario","Subsector ganadería","Avícola para la producción de carne","Almacenamiento de estiércol con cama de agregados para el control de humedad (AC)","Multiplique el número de cabezas por la fracción de excretas manejadas, e ingrese el resultado","cabezas",{"$f":"'Ecuaciones y FE'!AF537","v":{"$error":"#N/A"}},{"$f":"'Ecuaciones y FE'!W537","v":0},{"$f":"'Ecuaciones y FE'!X537","v":{"$error":"#N/A"}},{"$f":"'Ecuaciones y FE'!Y537","v":{"$error":"#N/A"}}]
["Ab119","Agropecuario","Subsector ganadería","Avícola para la producción de carne","Composteo en canal cerrado, con aireación forzada y mezclado permanente (AC)","Multiplique el número de cabezas por la fracción de excretas manejadas, e ingrese el resultado","cabezas",{"$f":"'Ecuaciones y FE'!AF538","v":{"$error":"#N/A"}},{"$f":"'Ecuaciones y FE'!W538","v":0},{"$f":"'Ecuaciones y FE'!X538","v":{"$error":"#N/A"}},{"$f":"'Ecuaciones y FE'!Y538","v":{"$error":"#N/A"}}]
["Ab120","Agropecuario","Subsector ganadería","Avícola para la producción de carne","Composteo en pilas con aireación forzada pero sin mezclado (AC)","Multiplique el número de cabezas por la fracción de excretas manejadas, e ingrese el resultado","cabezas",{"$f":"'Ecuaciones y FE'!AF539","v":{"$error":"#N/A"}},{"$f":"'Ecuaciones y FE'!W539","v":0},{"$f":"'Ecuaciones y FE'!X539","v":{"$error":"#N/A"}},{"$f":"'Ecuaciones y FE'!Y539","v":{"$error":"#N/A"}}]
["Ab121","Agropecuario","Subsector ganadería","Avícola para la producción de carne","Composteo en pilas rectangulares con mezclado de medias vueltas regulares (diario) para mezclado y aireación (AC)","Multiplique el número de cabezas por la fracción de excretas manejadas, e ingrese el resultado","cabezas",{"$f":"'Ecuaciones y FE'!AF540","v":{"$error":"#N/A"}},{"$f":"'Ecuaciones y FE'!W540","v":0},{"$f":"'Ecuaciones y FE'!X540","v":{"$error":"#N/A"}},{"$f":"'Ecuaciones y FE'!Y540","v":{"$error":"#N/A"}}]
["Ab122","Agropecuario","Subsector ganadería","Avícola para la producción de carne","Composteo en pilas rectangulares con mezclado de medias vueltas frecuentes para mezclado y aireación (AC)","Multiplique el número de cabezas por la fracción de excretas manejadas, e ingrese el resultado","cabezas",{"$f":"'Ecuaciones y FE'!AF541","v":{"$error":"#N/A"}},{"$f":"'Ecuaciones y FE'!W541","v":0},{"$f":"'Ecuaciones y FE'!X541","v":{"$error":"#N/A"}},{"$f":"'Ecuaciones y FE'!Y541","v":{"$error":"#N/A"}}]
["Ab123","Agropecuario","Subsector ganadería","Avícola para la producción de carne","Mezclado de estiércol de aves de corral con hojarasca en camas profundas (no combinadas con engorde en corral o pastura) (AC)","Multiplique el número de cabezas por la fracción de excretas manejadas, e ingrese el resultado","cabezas",{"$f":"'Ecuaciones y FE'!AF542","v":{"$error":"#N/A"}},{"$f":"'Ecuaciones y FE'!W542","v":0},{"$f":"'Ecuaciones y FE'!X542","v":{"$error":"#N/A"}},{"$f":"'Ecuaciones y FE'!Y542","v":{"$error":"#N/A"}}]
["Ab124","Agropecuario","Subsector ganadería","Avícola para la producción de carne","Manejo de estiércol de aves de corral sin hojarasca en pozos abiertos en instalaciones cerradas (AC)","Multiplique el número de cabezas por la fracción de excretas manejadas, e ingrese el resultado","cabezas",{"$f":"'Ecuaciones y FE'!AF543","v":{"$error":"#N/A"}},{"$f":"'Ecuaciones y FE'!W543","v":0},{"$f":"'Ecuaciones y FE'!X543","v":{"$error":"#N/A"}},{"$f":"'Ecuaciones y FE'!Y543","v":{"$error":"#N/A"}}]
["Ab125","Agropecuario","Subsector ganadería","Avícola para la producción de carne","Oxidación biológica aeróbica del estiércol con aireación (AC)","Multiplique el número de cabezas por la fracción de excretas manejadas, e ingrese el resultado","cabezas",{"$f":"'Ecuaciones y FE'!AF544","v":{"$error":"#N/A"}},{"$f":"'Ecuaciones y FE'!W544","v":0},{"$f":"'Ecuaciones y FE'!X544","v":{"$error":"#N/A"}},{"$f":"'Ecuaciones y FE'!Y544","v":{"$error":"#N/A"}}]
["Ab126","Agropecuario","Subsector ganadería","Avícola para la producción de carne","Oxidación biológica aeróbica del estiércol con aireación forzada (AC)","Multiplique el número de cabezas por la fracción de excretas manejadas, e ingrese el resultado","cabezas",{"$f":"'Ecuaciones y FE'!AF545","v":{"$error":"#N/A"}},{"$f":"'Ecuaciones y FE'!W545","v":0},{"$f":"'Ecuaciones y FE'!X545","v":{"$error":"#N/A"}},{"$f":"'Ecuaciones y FE'!Y545","v":{"$error":"#N/A"}}]
["Ab127","Agropecuario","Subsector ganadería","Avícola para la producción de guajolotes o pavos","Sin gestión de estiércol excretado en pasturas, prados o praderas (AGyP)","Multiplique el número de cabezas por la fracción de excretas manejadas, e ingrese el resultado","cabezas",{"$f":"'Ecuaciones y FE'!AF547","v":{"$error":"#N/A"}},{"$f":"'Ecuaciones y FE'!W547","v":0},{"$f":"'Ecuaciones y FE'!X547","v":{"$error":"#N/A"}},{"$f":"'Ecuaciones y FE'!Y547","v":{"$error":"#N/A"}}]
["Ab128","Agropecuario","Subsector ganadería","Avícola para la producción de guajolotes o pavos","Aplicación de estiércol en tierras de cultivo o pasturas dentro de las 24 horas de su excreción (AGyP)","Multiplique el número de cabezas por la fracción de excretas manejadas, e ingrese el resultado","cabezas",{"$f":"'Ecuaciones y FE'!AF548","v":{"$error":"#N/A"}},{"$f":"'Ecuaciones y FE'!W548","v":0},{"$f":"'Ecuaciones y FE'!X548","v":{"$error":"#N/A"}},{"$f":"'Ecuaciones y FE'!Y548","v":{"$error":"#N/A"}}]
["Ab129","Agropecuario","Subsector ganadería","Avícola para la producción de guajolotes o pavos","Almacenamiento de estiércol en pilas o montones no confinados (AGyP)","Multiplique el número de cabezas por la fracción de excretas manejadas, e ingrese el resultado","cabezas",{"$f":"'Ecuaciones y FE'!AF549","v":{"$error":"#N/A"}},{"$f":"'Ecuaciones y FE'!W549","v":0},{"$f":"'Ecuaciones y FE'!X549","v":{"$error":"#N/A"}},{"$f":"'Ecuaciones y FE'!Y549","v":{"$error":"#N/A"}}]
["Ab130","Agropecuario","Subsector ganadería","Avícola para la producción de guajolotes o pavos","Confinamiento de estiércol, con o sin retiro periódico (AGyP)","Multiplique el número de cabezas por la fracción de excretas manejadas, e ingrese el resultado","cabezas",{"$f":"'Ecuaciones y FE'!AF550","v":{"$error":"#N/A"}},{"$f":"'Ecuaciones y FE'!W550","v":0},{"$f":"'Ecuaciones y FE'!X550","v":{"$error":"#N/A"}},{"$f":"'Ecuaciones y FE'!Y550","v":{"$error":"#N/A"}}]
["Ab131","Agropecuario","Subsector ganadería","Avícola para la producción de guajolotes o pavos","Almacenamiento de estiércol (como se excreta o con un mínimo de agua) en tanques o estanques de tierra (AGyP)","Multiplique el número de cabezas por la fracción de excretas manejadas, e ingrese el resultado","cabezas",{"$f":"'Ecuaciones y FE'!AF551","v":{"$error":"#N/A"}},{"$f":"'Ecuaciones y FE'!W551","v":0},{"$f":"'Ecuaciones y FE'!X551","v":{"$error":"#N/A"}},{"$f":"'Ecuaciones y FE'!Y551","v":{"$error":"#N/A"}}]
["Ab132","Agropecuario","Subsector ganadería","Avícola para la producción de guajolotes o pavos","Almacenamiento de estiércol líquido (AGyP)","Multiplique el número de cabezas por la fracción de excretas manejadas, e ingrese el resultado","cabezas",{"$f":"'Ecuaciones y FE'!AF552","v":{"$error":"#N/A"}},{"$f":"'Ecuaciones y FE'!W552","v":0},{"$f":"'Ecuaciones y FE'!X552","v":{"$error":"#N/A"}},{"$f":"'Ecuaciones y FE'!Y552","v":{"$error":"#N/A"}}]
["Ab133","Agropecuario","Subsector ganadería","Avícola para la producción de guajolotes o pavos","Almacenamiento del estiércol (con poco o ningún agregado de agua) debajo de un suelo emparrillado (AGyP)","Multiplique el número de cabezas por la fracción de excretas manejadas, e ingrese el resultado","cabezas",{"$f":"'Ecuaciones y FE'!AF553","v":{"$error":"#N/A"}},{"$f":"'Ecuaciones y FE'!W553","v":0},{"$f":"'Ecuaciones y FE'!X553","v":{"$error":"#N/A"}},{"$f":"'Ecuaciones y FE'!Y553","v":{"$error":"#N/A"}}]
["Ab134","Agropecuario","Subsector ganadería","Avícola para la producción de guajolotes o pavos","Almacenamiento de estiércol (con o sin paja) en un tanque contenedor o en una laguna cubierta en condiciones anaerobias (AGyP)","Multiplique el número de cabezas por la fracción de excretas manejadas, e ingrese el resultado","cabezas",{"$f":"'Ecuaciones y FE'!AF554","v":{"$error":"#N/A"}},{"$f":"'Ecuaciones y FE'!W554","v":0},{"$f":"'Ecuaciones y FE'!X554","v":{"$error":"#N/A"}},{"$f":"'Ecuaciones y FE'!Y554","v":{"$error":"#N/A"}}]
["Ab135","Agropecuario","Subsector ganadería","Avícola para la producción de guajolotes o pavos","Quema o uso como combustible de estiércol seco (AGyP)","Multiplique el número de cabezas por la fracción de excretas manejadas, e ingrese el resultado","cabezas",{"$f":"'Ecuaciones y FE'!AF555","v":{"$error":"#N/A"}},{"$f":"'Ecuaciones y FE'!W555","v":0},{"$f":"'Ecuaciones y FE'!X555","v":{"$error":"#N/A"}},{"$f":"'Ecuaciones y FE'!Y555","v":{"$error":"#N/A"}}]
["Ab136","Agropecuario","Subsector ganadería","Avícola para la producción de guajolotes o pavos","Almacenamiento de estiércol con cama de agregados para el control de humedad (AGyP)","Multiplique el número de cabezas por la fracción de excretas manejadas, e ingrese el resultado","cabezas",{"$f":"'Ecuaciones y FE'!AF556","v":{"$error":"#N/A"}},{"$f":"'Ecuaciones y FE'!W556","v":0},{"$f":"'Ecuaciones y FE'!X556","v":{"$error":"#N/A"}},{"$f":"'Ecuaciones y FE'!Y556","v":{"$error":"#N/A"}}]
["Ab137","Agropecuario","Subsector ganadería","Avícola para la producción de guajolotes o pavos","Composteo en canal cerrado, con aireación forzada y mezclado permanente (AGyP)","Multiplique el número de cabezas por la fracción de excretas manejadas, e ingrese el resultado","cabezas",{"$f":"'Ecuaciones y FE'!AF557","v":{"$error":"#N/A"}},{"$f":"'Ecuaciones y FE'!W557","v":0},{"$f":"'Ecuaciones y FE'!X557","v":{"$error":"#N/A"}},{"$f":"'Ecuaciones y FE'!Y557","v":{"$error":"#N/A"}}]
["Ab138","Agropecuario","Subsector ganadería","Avícola para la producción de guajolotes o pavos","Composteo en pilas con aireación forzada pero sin mezclado (AGyP)","Multiplique el número de cabezas por la fracción de excretas manejadas, e ingrese el resultado","cabezas",{"$f":"'Ecuaciones y FE'!AF558","v":{"$error":"#N/A"}},{"$f":"'Ecuaciones y FE'!W558","v":0},{"$f":"'Ecuaciones y FE'!X558","v":{"$error":"#N/A"}},{"$f":"'Ecuaciones y FE'!Y558","v":{"$error":"#N/A"}}]
["Ab139","Agropecuario","Subsector ganadería","Avícola para la producción de guajolotes o pavos","Composteo en pilas rectangulares con mezclado de medias vueltas regulares (diario) para mezclado y aireación (AGyP)","Multiplique el número de cabezas por la fracción de excretas manejadas, e ingrese el resultado","cabezas",{"$f":"'Ecuaciones y FE'!AF559","v":{"$error":"#N/A"}},{"$f":"'Ecuaciones y FE'!W559","v":0},{"$f":"'Ecuaciones y FE'!X559","v":{"$error":"#N/A"}},{"$f":"'Ecuaciones y FE'!Y559","v":{"$error":"#N/A"}}]
["Ab140","Agropecuario","Subsector ganadería","Avícola para la producción de guajolotes o pavos","Composteo en pilas rectangulares con mezclado de medias vueltas frecuentes para mezclado y aireación (AGyP)","Multiplique el número de cabezas por la fracción de excretas manejadas, e ingrese el resultado","cabezas",{"$f":"'Ecuaciones y FE'!AF560","v":{"$error":"#N/A"}},{"$f":"'Ecuaciones y FE'!W560","v":0},{"$f":"'Ecuaciones y FE'!X560","v":{"$error":"#N/A"}},{"$f":"'Ecuaciones y FE'!Y560","v":{"$error":"#N/A"}}]
["Ab141","Agropecuario","Subsector ganadería","Avícola para la producción de guajolotes o pavos","Mezclado de estiércol de aves de corral con hojarasca en camas profundas (no combinadas con engorde en corral o pastura) (AGyP)","Multiplique el número de cabezas por la fracción de excretas manejadas, e ingrese el resultado","cabezas",{"$f":"'Ecuaciones y FE'!AF561","v":{"$error":"#N/A"}},{"$f":"'Ecuaciones y FE'!W561","v":0},{"$f":"'Ecuaciones y FE'!X561","v":{"$error":"#N/A"}},{"$f":"'Ecuaciones y FE'!Y561","v":{"$error":"#N/A"}}]
["Ab142","Agropecuario","Subsector ganadería","Avícola para la producción de guajolotes o pavos","Manejo de estiércol de aves de corral sin hojarasca en pozos abiertos en instalaciones cerradas (AGyP)","Multiplique el número de cabezas por la fracción de excretas manejadas, e ingrese el resultado","cabezas",{"$f":"'Ecuaciones y FE'!AF562","v":{"$error":"#N/A"}},{"$f":"'Ecuaciones y FE'!W562","v":0},{"$f":"'Ecuaciones y FE'!X562","v":{"$error":"#N/A"}},{"$f":"'Ecuaciones y FE'!Y562","v":{"$error":"#N/A"}}]
["Ab143","Agropecuario","Subsector ganadería","Avícola para la producción de guajolotes o pavos","Oxidación biológica aeróbica del estiércol con aireación (AGyP)","Multiplique el número de cabezas por la fracción de excretas manejadas, e ingrese el resultado","cabezas",{"$f":"'Ecuaciones y FE'!AF563","v":{"$error":"#N/A"}},{"$f":"'Ecuaciones y FE'!W563","v":0},{"$f":"'Ecuaciones y FE'!X563","v":{"$error":"#N/A"}},{"$f":"'Ecuaciones y FE'!Y563","v":{"$error":"#N/A"}}]
["Ab144","Agropecuario","Subsector ganadería","Avícola para la producción de guajolotes o pavos","Oxidación biológica aeróbica del estiércol con aireación forzada (AGyP)","Multiplique el número de cabezas por la fracción de excretas manejadas, e ingrese el resultado","cabezas",{"$f":"'Ecuaciones y FE'!AF564","v":{"$error":"#N/A"}},{"$f":"'Ecuaciones y FE'!W564","v":0},{"$f":"'Ecuaciones y FE'!X564","v":{"$error":"#N/A"}},{"$f":"'Ecuaciones y FE'!Y564","v":{"$error":"#N/A"}}]
["Ab145","Agropecuario","Subsector ganadería","Ovinos para cualquier actividad","Sin gestión de estiércol excretado en pasturas, prados o praderas (O)","Multiplique el número de cabezas por la fracción de excretas manejadas, e ingrese el resultado","cabezas",{"$f":"'Ecuaciones y FE'!AF566","v":{"$error":"#N/A"}},{"$f":"'Ecuaciones y FE'!W566","v":0},{"$f":"'Ecuaciones y FE'!X566","v":{"$error":"#N/A"}},{"$f":"'Ecuaciones y FE'!Y566","v":{"$error":"#N/A"}}]
["Ab146","Agropecuario","Subsector ganadería","Ovinos para cualquier actividad","Aplicación de estiércol en tierras de cultivo o pasturas dentro de las 24 horas de su excreción (O)","Multiplique el número de cabezas por la fracción de excretas manejadas, e ingrese el resultado","cabezas",{"$f":"'Ecuaciones y FE'!AF567","v":{"$error":"#N/A"}},{"$f":"'Ecuaciones y FE'!W567","v":0},{"$f":"'Ecuaciones y FE'!X567","v":{"$error":"#N/A"}},{"$f":"'Ecuaciones y FE'!Y567","v":{"$error":"#N/A"}}]
["Ab147","Agropecuario","Subsector ganadería","Ovinos para cualquier actividad","Almacenamiento de estiércol en pilas o montones no confinados (O)","Multiplique el número de cabezas por la fracción de excretas manejadas, e ingrese el resultado","cabezas",{"$f":"'Ecuaciones y FE'!AF568","v":{"$error":"#N/A"}},{"$f":"'Ecuaciones y FE'!W568","v":0},{"$f":"'Ecuaciones y FE'!X568","v":{"$error":"#N/A"}},{"$f":"'Ecuaciones y FE'!Y568","v":{"$error":"#N/A"}}]
["Ab148","Agropecuario","Subsector ganadería","Ovinos para cualquier actividad","Confinamiento de estiércol, con o sin retiro periódico (O)","Multiplique el número de cabezas por la fracción de excretas manejadas, e ingrese el resultado","cabezas",{"$f":"'Ecuaciones y FE'!AF569","v":{"$error":"#N/A"}},{"$f":"'Ecuaciones y FE'!W569","v":0},{"$f":"'Ecuaciones y FE'!X569","v":{"$error":"#N/A"}},{"$f":"'Ecuaciones y FE'!Y569","v":{"$error":"#N/A"}}]
["Ab149","Agropecuario","Subsector ganadería","Ovinos para cualquier actividad","Almacenamiento de estiércol (como se excreta o con un mínimo de agua) en tanques o estanques de tierra (O)","Multiplique el número de cabezas por la fracción de excretas manejadas, e ingrese el resultado","cabezas",{"$f":"'Ecuaciones y FE'!AF570","v":{"$error":"#N/A"}},{"$f":"'Ecuaciones y FE'!W570","v":0},{"$f":"'Ecuaciones y FE'!X570","v":{"$error":"#N/A"}},{"$f":"'Ecuaciones y FE'!Y570","v":{"$error":"#N/A"}}]
["Ab150","Agropecuario","Subsector ganadería","Ovinos para cualquier actividad","Almacenamiento de estiércol líquido (O)","Multiplique el número de cabezas por la fracción de excretas manejadas, e ingrese el resultado","cabezas",{"$f":"'Ecuaciones y FE'!AF571","v":{"$error":"#N/A"}},{"$f":"'Ecuaciones y FE'!W571","v":0},{"$f":"'Ecuaciones y FE'!X571","v":{"$error":"#N/A"}},{"$f":"'Ecuaciones y FE'!Y571","v":{"$error":"#N/A"}}]
["Ab151","Agropecuario","Subsector ganadería","Ovinos para cualquier actividad","Almacenamiento del estiércol (con poco o ningún agregado de agua) debajo de un suelo emparrillado (O)","Multiplique el número de cabezas por la fracción de excretas manejadas, e ingrese el resultado","cabezas",{"$f":"'Ecuaciones y FE'!AF572","v":{"$error":"#N/A"}},{"$f":"'Ecuaciones y FE'!W572","v":0},{"$f":"'Ecuaciones y FE'!X572","v":{"$error":"#N/A"}},{"$f":"'Ecuaciones y FE'!Y572","v":{"$error":"#N/A"}}]
["Ab152","Agropecuario","Subsector ganadería","Ovinos para cualquier actividad","Almacenamiento de estiércol (con o sin paja) en un tanque contenedor o en una laguna cubierta en condiciones anaerobias (O)","Multiplique el número de cabezas por la fracción de excretas manejadas, e ingrese el resultado","cabezas",{"$f":"'Ecuaciones y FE'!AF573","v":{"$error":"#N/A"}},{"$f":"'Ecuaciones y FE'!W573","v":0},{"$f":"'Ecuaciones y FE'!X573","v":{"$error":"#N/A"}},{"$f":"'Ecuaciones y FE'!Y573","v":{"$error":"#N/A"}}]
["Ab153","Agropecuario","Subsector ganadería","Ovinos para cualquier actividad","Quema o uso como combustible de estiércol seco (O)","Multiplique el número de cabezas por la fracción de excretas manejadas, e ingrese el resultado","cabezas",{"$f":"'Ecuaciones y FE'!AF574","v":{"$error":"#N/A"}},{"$f":"'Ecuaciones y FE'!W574","v":0},{"$f":"'Ecuaciones y FE'!X574","v":{"$error":"#N/A"}},{"$f":"'Ecuaciones y FE'!Y574","v":{"$error":"#N/A"}}]
["Ab154","Agropecuario","Subsector ganadería","Ovinos para cualquier actividad","Almacenamiento de estiércol con cama de agregados para el control de humedad (O)","Multiplique el número de cabezas por la fracción de excretas manejadas, e ingrese el resultado","cabezas",{"$f":"'Ecuaciones y FE'!AF575","v":{"$error":"#N/A"}},{"$f":"'Ecuaciones y FE'!W575","v":0},{"$f":"'Ecuaciones y FE'!X575","v":{"$error":"#N/A"}},{"$f":"'Ecuaciones y FE'!Y575","v":{"$error":"#N/A"}}]
["Ab155","Agropecuario","Subsector ganadería","Ovinos para cualquier actividad","Composteo en canal cerrado, con aireación forzada y mezclado permanente (O)","Multiplique el número de cabezas por la fracción de excretas manejadas, e ingrese el resultado","cabezas",{"$f":"'Ecuaciones y FE'!AF576","v":{"$error":"#N/A"}},{"$f":"'Ecuaciones y FE'!W576","v":0},{"$f":"'Ecuaciones y FE'!X576","v":{"$error":"#N/A"}},{"$f":"'Ecuaciones y FE'!Y576","v":{"$error":"#N/A"}}]
["Ab156","Agropecuario","Subsector ganadería","Ovinos para cualquier actividad","Composteo en pilas con aireación forzada pero sin mezclado (O)","Multiplique el número de cabezas por la fracción de excretas manejadas, e ingrese el resultado","cabezas",{"$f":"'Ecuaciones y FE'!AF577","v":{"$error":"#N/A"}},{"$f":"'Ecuaciones y FE'!W577","v":0},{"$f":"'Ecuaciones y FE'!X577","v":{"$error":"#N/A"}},{"$f":"'Ecuaciones y FE'!Y577","v":{"$error":"#N/A"}}]
["Ab157","Agropecuario","Subsector ganadería","Ovinos para cualquier actividad","Composteo en pilas rectangulares con mezclado de medias vueltas regulares (diario) para mezclado y aireación (O)","Multiplique el número de cabezas por la fracción de excretas manejadas, e ingrese el resultado","cabezas",{"$f":"'Ecuaciones y FE'!AF578","v":{"$error":"#N/A"}},{"$f":"'Ecuaciones y FE'!W578","v":0},{"$f":"'Ecuaciones y FE'!X578","v":{"$error":"#N/A"}},{"$f":"'Ecuaciones y FE'!Y578","v":{"$error":"#N/A"}}]
["Ab158","Agropecuario","Subsector ganadería","Ovinos para cualquier actividad","Composteo en pilas rectangulares con mezclado de medias vueltas frecuentes para mezclado y aireación (O)","Multiplique el número de cabezas por la fracción de excretas manejadas, e ingrese el resultado","cabezas",{"$f":"'Ecuaciones y FE'!AF579","v":{"$error":"#N/A"}},{"$f":"'Ecuaciones y FE'!W579","v":0},{"$f":"'Ecuaciones y FE'!X579","v":{"$error":"#N/A"}},{"$f":"'Ecuaciones y FE'!Y579","v":{"$error":"#N/A"}}]
["Ab159","Agropecuario","Subsector ganadería","Ovinos para cualquier actividad","Mezclado de estiércol de aves de corral con hojarasca en camas profundas (no combinadas con engorde en corral o pastura) (O)","Multiplique el número de cabezas por la fracción de excretas manejadas, e ingrese el resultado","cabezas",{"$f":"'Ecuaciones y FE'!AF580","v":{"$error":"#N/A"}},{"$f":"'Ecuaciones y FE'!W580","v":0},{"$f":"'Ecuaciones y FE'!X580","v":{"$error":"#N/A"}},{"$f":"'Ecuaciones y FE'!Y580","v":{"$error":"#N/A"}}]
["Ab160","Agropecuario","Subsector ganadería","Ovinos para cualquier actividad","Manejo de estiércol de aves de corral sin hojarasca en pozos abiertos en instalaciones cerradas (O)","Multiplique el número de cabezas por la fracción de excretas manejadas, e ingrese el resultado","cabezas",{"$f":"'Ecuaciones y FE'!AF581","v":{"$error":"#N/A"}},{"$f":"'Ecuaciones y FE'!W581","v":0},{"$f":"'Ecuaciones y FE'!X581","v":{"$error":"#N/A"}},{"$f":"'Ecuaciones y FE'!Y581","v":{"$error":"#N/A"}}]
["Ab161","Agropecuario","Subsector ganadería","Ovinos para cualquier actividad","Oxidación biológica aeróbica del estiércol con aireación (O)","Multiplique el número de cabezas por la fracción de excretas manejadas, e ingrese el resultado","cabezas",{"$f":"'Ecuaciones y FE'!AF582","v":{"$error":"#N/A"}},{"$f":"'Ecuaciones y FE'!W582","v":0},{"$f":"'Ecuaciones y FE'!X582","v":{"$error":"#N/A"}},{"$f":"'Ecuaciones y FE'!Y582","v":{"$error":"#N/A"}}]
["Ab162","Agropecuario","Subsector ganadería","Ovinos para cualquier actividad","Oxidación biológica aeróbica del estiércol con aireación forzada (O)","Multiplique el número de cabezas por la fracción de excretas manejadas, e ingrese el resultado","cabezas",{"$f":"'Ecuaciones y FE'!AF583","v":{"$error":"#N/A"}},{"$f":"'Ecuaciones y FE'!W583","v":0},{"$f":"'Ecuaciones y FE'!X583","v":{"$error":"#N/A"}},{"$f":"'Ecuaciones y FE'!Y583","v":{"$error":"#N/A"}}]
["Ab163","Agropecuario","Subsector ganadería","Caprinos para cualquier actividad","Sin gestión de estiércol excretado en pasturas, prados o praderas (CP)","Multiplique el número de cabezas por la fracción de excretas manejadas, e ingrese el resultado","cabezas",{"$f":"'Ecuaciones y FE'!AF585","v":{"$error":"#N/A"}},{"$f":"'Ecuaciones y FE'!W585","v":0},{"$f":"'Ecuaciones y FE'!X585","v":{"$error":"#N/A"}},{"$f":"'Ecuaciones y FE'!Y585","v":{"$error":"#N/A"}}]
["Ab164","Agropecuario","Subsector ganadería","Caprinos para cualquier actividad","Aplicación de estiércol en tierras de cultivo o pasturas dentro de las 24 horas de su excreción (CP)","Multiplique el número de cabezas por la fracción de excretas manejadas, e ingrese el resultado","cabezas",{"$f":"'Ecuaciones y FE'!AF586","v":{"$error":"#N/A"}},{"$f":"'Ecuaciones y FE'!W586","v":0},{"$f":"'Ecuaciones y FE'!X586","v":{"$error":"#N/A"}},{"$f":"'Ecuaciones y FE'!Y586","v":{"$error":"#N/A"}}]
["Ab165","Agropecuario","Subsector ganadería","Caprinos para cualquier actividad","Almacenamiento de estiércol en pilas o montones no confinados (CP)","Multiplique el número de cabezas por la fracción de excretas manejadas, e ingrese el resultado","cabezas",{"$f":"'Ecuaciones y FE'!AF587","v":{"$error":"#N/A"}},{"$f":"'Ecuaciones y FE'!W587","v":0},{"$f":"'Ecuaciones y FE'!X587","v":{"$error":"#N/A"}},{"$f":"'Ecuaciones y FE'!Y587","v":{"$error":"#N/A"}}]
["Ab166","Agropecuario","Subsector ganadería","Caprinos para cualquier actividad","Confinamiento de estiércol, con o sin retiro periódico (CP)","Multiplique el número de cabezas por la fracción de excretas manejadas, e ingrese el resultado","cabezas",{"$f":"'Ecuaciones y FE'!AF588","v":{"$error":"#N/A"}},{"$f":"'Ecuaciones y FE'!W588","v":0},{"$f":"'Ecuaciones y FE'!X588","v":{"$error":"#N/A"}},{"$f":"'Ecuaciones y FE'!Y588","v":{"$error":"#N/A"}}]
["Ab167","Agropecuario","Subsector ganadería","Caprinos para cualquier actividad","Almacenamiento de estiércol (como se excreta o con un mínimo de agua) en tanques o estanques de tierra (CP)","Multiplique el número de cabezas por la fracción de excretas manejadas, e ingrese el resultado","cabezas",{"$f":"'Ecuaciones y FE'!AF589","v":{"$error":"#N/A"}},{"$f":"'Ecuaciones y FE'!W589","v":0},{"$f":"'Ecuaciones y FE'!X589","v":{"$error":"#N/A"}},{"$f":"'Ecuaciones y FE'!Y589","v":{"$error":"#N/A"}}]
["Ab168","Agropecuario","Subsector ganadería","Caprinos para cualquier actividad","Almacenamiento de estiércol líquido (CP)","Multiplique el número de cabezas por la fracción de excretas manejadas, e ingrese el resultado","cabezas",{"$f":"'Ecuaciones y FE'!AF590","v":{"$error":"#N/A"}},{"$f":"'Ecuaciones y FE'!W590","v":0},{"$f":"'Ecuaciones y FE'!X590","v":{"$error":"#N/A"}},{"$f":"'Ecuaciones y FE'!Y590","v":{"$error":"#N/A"}}]
["Ab169","Agropecuario","Subsector ganadería","Caprinos para cualquier actividad","Almacenamiento del estiércol (con poco o ningún agregado de agua) debajo de un suelo emparrillado (CP)","Multiplique el número de cabezas por la fracción de excretas manejadas, e ingrese el resultado","cabezas",{"$f":"'Ecuaciones y FE'!AF591","v":{"$error":"#N/A"}},{"$f":"'Ecuaciones y FE'!W591","v":0},{"$f":"'Ecuaciones y FE'!X591","v":{"$error":"#N/A"}},{"$f":"'Ecuaciones y FE'!Y591","v":{"$error":"#N/A"}}]
["Ab170","Agropecuario","Subsector ganadería","Caprinos para cualquier actividad","Almacenamiento de estiércol (con o sin paja) en un tanque contenedor o en una laguna cubierta en condiciones anaerobias (CP)","Multiplique el número de cabezas por la fracción de excretas manejadas, e ingrese el resultado","cabezas",{"$f":"'Ecuaciones y FE'!AF592","v":{"$error":"#N/A"}},{"$f":"'Ecuaciones y FE'!W592","v":0},{"$f":"'Ecuaciones y FE'!X592","v":{"$error":"#N/A"}},{"$f":"'Ecuaciones y FE'!Y592","v":{"$error":"#N/A"}}]
["Ab171","Agropecuario","Subsector ganadería","Caprinos para cualquier actividad","Quema o uso como combustible de estiércol seco (CP)","Multiplique el número de cabezas por la fracción de excretas manejadas, e ingrese el resultado","cabezas",{"$f":"'Ecuaciones y FE'!AF593","v":{"$error":"#N/A"}},{"$f":"'Ecuaciones y FE'!W593","v":0},{"$f":"'Ecuaciones y FE'!X593","v":{"$error":"#N/A"}},{"$f":"'Ecuaciones y FE'!Y593","v":{"$error":"#N/A"}}]
["Ab172","Agropecuario","Subsector ganadería","Caprinos para cualquier actividad","Almacenamiento de estiércol con cama de agregados para el control de humedad (CP)","Multiplique el número de cabezas por la fracción de excretas manejadas, e ingrese el resultado","cabezas",{"$f":"'Ecuaciones y FE'!AF594","v":{"$error":"#N/A"}},{"$f":"'Ecuaciones y FE'!W594","v":0},{"$f":"'Ecuaciones y FE'!X594","v":{"$error":"#N/A"}},{"$f":"'Ecuaciones y FE'!Y594","v":{"$error":"#N/A"}}]
["Ab173","Agropecuario","Subsector ganadería","Caprinos para cualquier actividad","Composteo en canal cerrado, con aireación forzada y mezclado permanente (CP)","Multiplique el número de cabezas por la fracción de excretas manejadas, e ingrese el resultado","cabezas",{"$f":"'Ecuaciones y FE'!AF595","v":{"$error":"#N/A"}},{"$f":"'Ecuaciones y FE'!W595","v":0},{"$f":"'Ecuaciones y FE'!X595","v":{"$error":"#N/A"}},{"$f":"'Ecuaciones y FE'!Y595","v":{"$error":"#N/A"}}]
["Ab174","Agropecuario","Subsector ganadería","Caprinos para cualquier actividad","Composteo en pilas con aireación forzada pero sin mezclado (CP)","Multiplique el número de cabezas por la fracción de excretas manejadas, e ingrese el resultado","cabezas",{"$f":"'Ecuaciones y FE'!AF596","v":{"$error":"#N/A"}},{"$f":"'Ecuaciones y FE'!W596","v":0},{"$f":"'Ecuaciones y FE'!X596","v":{"$error":"#N/A"}},{"$f":"'Ecuaciones y FE'!Y596","v":{"$error":"#N/A"}}]
["Ab175","Agropecuario","Subsector ganadería","Caprinos para cualquier actividad","Composteo en pilas rectangulares con mezclado de medias vueltas regulares (diario) para mezclado y aireación (CP)","Multiplique el número de cabezas por la fracción de excretas manejadas, e ingrese el resultado","cabezas",{"$f":"'Ecuaciones y FE'!AF597","v":{"$error":"#N/A"}},{"$f":"'Ecuaciones y FE'!W597","v":0},{"$f":"'Ecuaciones y FE'!X597","v":{"$error":"#N/A"}},{"$f":"'Ecuaciones y FE'!Y597","v":{"$error":"#N/A"}}]
["Ab176","Agropecuario","Subsector ganadería","Caprinos para cualquier actividad","Composteo en pilas rectangulares con mezclado de medias vueltas frecuentes para mezclado y aireación (CP)","Multiplique el número de cabezas por la fracción de excretas manejadas, e ingrese el resultado","cabezas",{"$f":"'Ecuaciones y FE'!AF598","v":{"$error":"#N/A"}},{"$f":"'Ecuaciones y FE'!W598","v":0},{"$f":"'Ecuaciones y FE'!X598","v":{"$error":"#N/A"}},{"$f":"'Ecuaciones y FE'!Y598","v":{"$error":"#N/A"}}]
["Ab177","Agropecuario","Subsector ganadería","Caprinos para cualquier actividad","Mezclado de estiércol de aves de corral con hojarasca en camas profundas (no combinadas con engorde en corral o pastura) (CP)","Multiplique el número de cabezas por la fracción de excretas manejadas, e ingrese el resultado","cabezas",{"$f":"'Ecuaciones y FE'!AF599","v":{"$error":"#N/A"}},{"$f":"'Ecuaciones y FE'!W599","v":0},{"$f":"'Ecuaciones y FE'!X599","v":{"$error":"#N/A"}},{"$f":"'Ecuaciones y FE'!Y599","v":{"$error":"#N/A"}}]
["Ab178","Agropecuario","Subsector ganadería","Caprinos para cualquier actividad","Manejo de estiércol de aves de corral sin hojarasca en pozos abiertos en instalaciones cerradas (CP)","Multiplique el número de cabezas por la fracción de excretas manejadas, e ingrese el resultado","cabezas",{"$f":"'Ecuaciones y FE'!AF600","v":{"$error":"#N/A"}},{"$f":"'Ecuaciones y FE'!W600","v":0},{"$f":"'Ecuaciones y FE'!X600","v":{"$error":"#N/A"}},{"$f":"'Ecuaciones y FE'!Y600","v":{"$error":"#N/A"}}]
["Ab179","Agropecuario","Subsector ganadería","Caprinos para cualquier actividad","Oxidación biológica aeróbica del estiércol con aireación (CP)","Multiplique el número de cabezas por la fracción de excretas manejadas, e ingrese el resultado","cabezas",{"$f":"'Ecuaciones y FE'!AF601","v":{"$error":"#N/A"}},{"$f":"'Ecuaciones y FE'!W601","v":0},{"$f":"'Ecuaciones y FE'!X601","v":{"$error":"#N/A"}},{"$f":"'Ecuaciones y FE'!Y601","v":{"$error":"#N/A"}}]
["Ab180","Agropecuario","Subsector ganadería","Caprinos para cualquier actividad","Oxidación biológica aeróbica del estiércol con aireación forzada (CP)","Multiplique el número de cabezas por la fracción de excretas manejadas, e ingrese el resultado","cabezas",{"$f":"'Ecuaciones y FE'!AF602","v":{"$error":"#N/A"}},{"$f":"'Ecuaciones y FE'!W602","v":0},{"$f":"'Ecuaciones y FE'!X602","v":{"$error":"#N/A"}},{"$f":"'Ecuaciones y FE'!Y602","v":{"$error":"#N/A"}}]
["Ab181","Agropecuario","Subsector ganadería","Producción de cualquier tipo de ave en incubadora","Sin gestión de estiércol excretado en pasturas, prados o praderas (AI)","Multiplique el número de cabezas por la fracción de excretas manejadas, e ingrese el resultado","cabezas",{"$f":"'Ecuaciones y FE'!AF604","v":{"$error":"#N/A"}},{"$f":"'Ecuaciones y FE'!W604","v":0},{"$f":"'Ecuaciones y FE'!X604","v":{"$error":"#N/A"}},{"$f":"'Ecuaciones y FE'!Y604","v":{"$error":"#N/A"}}]
["Ab182","Agropecuario","Subsector ganadería","Producción de cualquier tipo de ave en incubadora","Aplicación de estiércol en tierras de cultivo o pasturas dentro de las 24 horas de su excreción (AI)","Multiplique el número de cabezas por la fracción de excretas manejadas, e ingrese el resultado","cabezas",{"$f":"'Ecuaciones y FE'!AF605","v":{"$error":"#N/A"}},{"$f":"'Ecuaciones y FE'!W605","v":0},{"$f":"'Ecuaciones y FE'!X605","v":{"$error":"#N/A"}},{"$f":"'Ecuaciones y FE'!Y605","v":{"$error":"#N/A"}}]
["Ab183","Agropecuario","Subsector ganadería","Producción de cualquier tipo de ave en incubadora","Almacenamiento de estiércol en pilas o montones no confinados (AI)","Multiplique el número de cabezas por la fracción de excretas manejadas, e ingrese el resultado","cabezas",{"$f":"'Ecuaciones y FE'!AF606","v":{"$error":"#N/A"}},{"$f":"'Ecuaciones y FE'!W606","v":0},{"$f":"'Ecuaciones y FE'!X606","v":{"$error":"#N/A"}},{"$f":"'Ecuaciones y FE'!Y606","v":{"$error":"#N/A"}}]
["Ab184","Agropecuario","Subsector ganadería","Producción de cualquier tipo de ave en incubadora","Confinamiento de estiércol, con o sin retiro periódico (AI)","Multiplique el número de cabezas por la fracción de excretas manejadas, e ingrese el resultado","cabezas",{"$f":"'Ecuaciones y FE'!AF607","v":{"$error":"#N/A"}},{"$f":"'Ecuaciones y FE'!W607","v":0},{"$f":"'Ecuaciones y FE'!X607","v":{"$error":"#N/A"}},{"$f":"'Ecuaciones y FE'!Y607","v":{"$error":"#N/A"}}]
["Ab185","Agropecuario","Subsector ganadería","Producción de cualquier tipo de ave en incubadora","Almacenamiento de estiércol (como se excreta o con un mínimo de agua) en tanques o estanques de tierra (AI)","Multiplique el número de cabezas por la fracción de excretas manejadas, e ingrese el resultado","cabezas",{"$f":"'Ecuaciones y FE'!AF608","v":{"$error":"#N/A"}},{"$f":"'Ecuaciones y FE'!W608","v":0},{"$f":"'Ecuaciones y FE'!X608","v":{"$error":"#N/A"}},{"$f":"'Ecuaciones y FE'!Y608","v":{"$error":"#N/A"}}]
["Ab186","Agropecuario","Subsector ganadería","Producción de cualquier tipo de ave en incubadora","Almacenamiento de estiércol líquido (AI)","Multiplique el número de cabezas por la fracción de excretas manejadas, e ingrese el resultado","cabezas",{"$f":"'Ecuaciones y FE'!AF609","v":{"$error":"#N/A"}},{"$f":"'Ecuaciones y FE'!W609","v":0},{"$f":"'Ecuaciones y FE'!X609","v":{"$error":"#N/A"}},{"$f":"'Ecuaciones y FE'!Y609","v":{"$error":"#N/A"}}]
["Ab187","Agropecuario","Subsector ganadería","Producción de cualquier tipo de ave en incubadora","Almacenamiento del estiércol (con poco o ningún agregado de agua) debajo de un suelo emparrillado (AI)","Multiplique el número de cabezas por la fracción de excretas manejadas, e ingrese el resultado","cabezas",{"$f":"'Ecuaciones y FE'!AF610","v":{"$error":"#N/A"}},{"$f":"'Ecuaciones y FE'!W610","v":0},{"$f":"'Ecuaciones y FE'!X610","v":{"$error":"#N/A"}},{"$f":"'Ecuaciones y FE'!Y610","v":{"$error":"#N/A"}}]
["Ab188","Agropecuario","Subsector ganadería","Producción de cualquier tipo de ave en incubadora","Almacenamiento de estiércol (con o sin paja) en un tanque contenedor o en una laguna cubierta en condiciones anaerobias (AI)","Multiplique el número de cabezas por la fracción de excretas manejadas, e ingrese el resultado","cabezas",{"$f":"'Ecuaciones y FE'!AF611","v":{"$error":"#N/A"}},{"$f":"'Ecuaciones y FE'!W611","v":0},{"$f":"'Ecuaciones y FE'!X611","v":{"$error":"#N/A"}},{"$f":"'Ecuaciones y FE'!Y611","v":{"$error":"#N/A"}}]
["Ab189","Agropecuario","Subsector ganadería","Producción de cualquier tipo de ave en incubadora","Quema o uso como combustible de estiércol seco (AI)","Multiplique el número de cabezas por la fracción de excretas manejadas, e ingrese el resultado","cabezas",{"$f":"'Ecuaciones y FE'!AF612","v":{"$error":"#N/A"}},{"$f":"'Ecuaciones y FE'!W612","v":0},{"$f":"'Ecuaciones y FE'!X612","v":{"$error":"#N/A"}},{"$f":"'Ecuaciones y FE'!Y612","v":{"$error":"#N/A"}}]
["Ab190","Agropecuario","Subsector ganadería","Producción de cualquier tipo de ave en incubadora","Almacenamiento de estiércol con cama de agregados para el control de humedad (AI)","Multiplique el número de cabezas por la fracción de excretas manejadas, e ingrese el resultado","cabezas",{"$f":"'Ecuaciones y FE'!AF613","v":{"$error":"#N/A"}},{"$f":"'Ecuaciones y FE'!W613","v":0},{"$f":"'Ecuaciones y FE'!X613","v":{"$error":"#N/A"}},{"$f":"'Ecuaciones y FE'!Y613","v":{"$error":"#N/A"}}]
["Ab191","Agropecuario","Subsector ganadería","Producción de cualquier tipo de ave en incubadora","Composteo en canal cerrado, con aireación forzada y mezclado permanente (AI)","Multiplique el número de cabezas por la fracción de excretas manejadas, e ingrese el resultado","cabezas",{"$f":"'Ecuaciones y FE'!AF614","v":{"$error":"#N/A"}},{"$f":"'Ecuaciones y FE'!W614","v":0},{"$f":"'Ecuaciones y FE'!X614","v":{"$error":"#N/A"}},{"$f":"'Ecuaciones y FE'!Y614","v":{"$error":"#N/A"}}]
["Ab192","Agropecuario","Subsector ganadería","Producción de cualquier tipo de ave en incubadora","Composteo en pilas con aireación forzada pero sin mezclado (AI)","Multiplique el número de cabezas por la fracción de excretas manejadas, e ingrese el resultado","cabezas",{"$f":"'Ecuaciones y FE'!AF615","v":{"$error":"#N/A"}},{"$f":"'Ecuaciones y FE'!W615","v":0},{"$f":"'Ecuaciones y FE'!X615","v":{"$error":"#N/A"}},{"$f":"'Ecuaciones y FE'!Y615","v":{"$error":"#N/A"}}]
["Ab193","Agropecuario","Subsector ganadería","Producción de cualquier tipo de ave en incubadora","Composteo en pilas rectangulares con mezclado de medias vueltas regulares (diario) para mezclado y aireación (AI)","Multiplique el número de cabezas por la fracción de excretas manejadas, e ingrese el resultado","cabezas",{"$f":"'Ecuaciones y FE'!AF616","v":{"$error":"#N/A"}},{"$f":"'Ecuaciones y FE'!W616","v":0},{"$f":"'Ecuaciones y FE'!X616","v":{"$error":"#N/A"}},{"$f":"'Ecuaciones y FE'!Y616","v":{"$error":"#N/A"}}]
["Ab194","Agropecuario","Subsector ganadería","Producción de cualquier tipo de ave en incubadora","Composteo en pilas rectangulares con mezclado de medias vueltas frecuentes para mezclado y aireación (AI)","Multiplique el número de cabezas por la fracción de excretas manejadas, e ingrese el resultado","cabezas",{"$f":"'Ecuaciones y FE'!AF617","v":{"$error":"#N/A"}},{"$f":"'Ecuaciones y FE'!W617","v":0},{"$f":"'Ecuaciones y FE'!X617","v":{"$error":"#N/A"}},{"$f":"'Ecuaciones y FE'!Y617","v":{"$error":"#N/A"}}]
["Ab195","Agropecuario","Subsector ganadería","Producción de cualquier tipo de ave en incubadora","Mezclado de estiércol de aves de corral con hojarasca en camas profundas (no combinadas con engorde en corral o pastura) (AI)","Multiplique el número de cabezas por la fracción de excretas manejadas, e ingrese el resultado","cabezas",{"$f":"'Ecuaciones y FE'!AF618","v":{"$error":"#N/A"}},{"$f":"'Ecuaciones y FE'!W618","v":0},{"$f":"'Ecuaciones y FE'!X618","v":{"$error":"#N/A"}},{"$f":"'Ecuaciones y FE'!Y618","v":{"$error":"#N/A"}}]
["Ab196","Agropecuario","Subsector ganadería","Producción de cualquier tipo de ave en incubadora","Manejo de estiércol de aves de corral sin hojarasca en pozos abiertos en instalaciones cerradas (AI)","Multiplique el número de cabezas por la fracción de excretas manejadas, e ingrese el resultado","cabezas",{"$f":"'Ecuaciones y FE'!AF619","v":{"$error":"#N/A"}},{"$f":"'Ecuaciones y FE'!W619","v":0},{"$f":"'Ecuaciones y FE'!X619","v":{"$error":"#N/A"}},{"$f":"'Ecuaciones y FE'!Y619","v":{"$error":"#N/A"}}]
["Ab197","Agropecuario","Subsector ganadería","Producción de cualquier tipo de ave en incubadora","Oxidación biológica aeróbica del estiércol con aireación (AI)","Multiplique el número de cabezas por la fracción de excretas manejadas, e ingrese el resultado","cabezas",{"$f":"'Ecuaciones y FE'!AF620","v":{"$error":"#N/A"}},{"$f":"'Ecuaciones y FE'!W620","v":0},{"$f":"'Ecuaciones y FE'!X620","v":{"$error":"#N/A"}},{"$f":"'Ecuaciones y FE'!Y620","v":{"$error":"#N/A"}}]
["Ab198","Agropecuario","Subsector ganadería","Producción de cualquier tipo de ave en incubadora","Oxidación biológica aeróbica del estiércol con aireación forzada (AI)","Multiplique el número de cabezas por la fracción de excretas manejadas, e ingrese el resultado","cabezas",{"$f":"'Ecuaciones y FE'!AF621","v":{"$error":"#N/A"}},{"$f":"'Ecuaciones y FE'!W621","v":0},{"$f":"'Ecuaciones y FE'!X621","v":{"$error":"#N/A"}},{"$f":"'Ecuaciones y FE'!Y621","v":{"$error":"#N/A"}}]
["Ca01","Comercio_y_Servicios","Construcción","Edificación_residencial","Ca1. Únicamente reporta consumo energético - Energía y Transporte","No ingrese información, remítase a la actividad de \"Maquinaría de Construcción\" y al sector \"Energía\" y \"Transporte\"","NA",{"$f":"'Ecuaciones y FE'!AF632","v":0}]
["Ca02","Comercio_y_Servicios","Construcción","Edificación_no_residencial","Ca2. Únicamente reporta consumo energético - Energía y Transporte","No ingrese información, remítase a la actividad de \"Maquinaría de Construcción\" y al sector \"Energía\" y \"Transporte\"","NA",{"$f":"'Ecuaciones y FE'!AF633","v":0}]
["Ca03","Comercio_y_Servicios","Construcción","Construcción_de_obras_para_el_suministro_de_agua_petróleo_gas_energía_eléctrica_y_telecomunicaciones","Ca3. Únicamente reporta consumo energético - Energía y Transporte","No ingrese información, remítase a la actividad de \"Maquinaría de Construcción\" y al sector \"Energía\" y \"Transporte\"","NA",{"$f":"'Ecuaciones y FE'!AF634","v":0}]
["Ca04","Comercio_y_Servicios","Construcción","División_de_terrenos_y_construcción_de_obras_de_urbanización","Ca4. Únicamente reporta consumo energético - Energía y Transporte","No ingrese información, remítase a la actividad de \"Maquinaría de Construcción\" y al sector \"Energía\" y \"Transporte\"","NA",{"$f":"'Ecuaciones y FE'!AF635","v":0}]
["Ca05","Comercio_y_Servicios","Construcción","Construcción_de_vías_de_comunicación","Ca5. Únicamente reporta consumo energético - Energía y Transporte","No ingrese información, remítase a la actividad de \"Maquinaría de Construcción\" y al sector \"Energía\" y \"Transporte\"","NA",{"$f":"'Ecuaciones y FE'!AF636","v":0}]
["Ca06","Comercio_y_Servicios","Construcción","Otras_construcciones_de_ingeniería_civil","Ca6. Únicamente reporta consumo energético - Energía y Transporte","No ingrese información, remítase a la actividad de \"Maquinaría de Construcción\" y al sector \"Energía\" y \"Transporte\"","NA",{"$f":"'Ecuaciones y FE'!AF637","v":0}]
["Ca07","Comercio_y_Servicios","Construcción","Cimentaciones_montaje_de_estructuras_prefabricadas_y_trabajos_en_exteriores","Ca7. Únicamente reporta consumo energético - Energía y Transporte","No ingrese información, remítase a la actividad de \"Maquinaría de Construcción\" y al sector \"Energía\" y \"Transporte\"","NA",{"$f":"'Ecuaciones y FE'!AF638","v":0}]
["Ca08","Comercio_y_Servicios","Construcción","Instalaciones_y_equipamiento_en_construcciones","Ca8. Únicamente reporta consumo energético - Energía y Transporte","No ingrese información, remítase a la actividad de \"Maquinaría de Construcción\" y al sector \"Energía\" y \"Transporte\"","NA",{"$f":"'Ecuaciones y FE'!AF639","v":0}]
["Ca09","Comercio_y_Servicios","Construcción","Trabajos_de_acabados_en_edificaciones","Ca9. Únicamente reporta consumo energético - Energía y Transporte","No ingrese información, remítase a la actividad de \"Maquinaría de Construcción\" y al sector \"Energía\" y \"Transporte\"","NA",{"$f":"'Ecuaciones y FE'!AF640","v":0}]
["Ca10","Comercio_y_Servicios","Construcción","Otros_trabajos_especializados_para_la_construcción","Ca10. Únicamente reporta consumo energético - Energía y Transporte","No ingrese información, remítase a la actividad de \"Maquinaría de Construcción\" y al sector \"Energía\" y \"Transporte\"","NA",{"$f":"'Ecuaciones y FE'!AF641","v":0}]
["Ca11","Comercio_y_Servicios","Construcción","Maquinaria_construcción","Gasolinas_maquinaria_construcción","Ingrese el consumo mensual de gasolina en litros","l",{"$f":"'Ecuaciones y FE'!AF643","v":{"$error":"#N/A"}},{"$f":"'Ecuaciones y FE'!W643","v":{"$error":"#N/A"}},{"$f":"'Ecuaciones y FE'!X643","v":{"$error":"#N/A"}},{"$f":"'Ecuaciones y FE'!Y643","v":{"$error":"#N/A"}}]
["Ca12","Comercio_y_Servicios","Construcción","Maquinaria_construcción","Diesel_maquinaria_construcción","Ingrese el consumo mensual de diesel en litros","l",{"$f":"'Ecuaciones y FE'!AF644","v":{"$error":"#N/A"}},{"$f":"'Ecuaciones y FE'!W644","v":{"$error":"#N/A"}},{"$f":"'Ecuaciones y FE'!X644","v":{"$error":"#N/A"}},{"$f":"'Ecuaciones y FE'!Y644","v":{"$error":"#N/A"}}]
["Cb1","Comercio_y_Servicios","Comercio","Comercio_al_por_mayor_de_abarrotes_y_alimentos","Cb1. Únicamente reporta consumo energético - Energía y Transporte","No ingrese información, remítase al sector \"Energía\" y \"Transporte\"","NA",{"$f":"'Ecuaciones y FE'!AF646","v":0}]
["Cb10","Comercio_y_Servicios","Comercio","Comercio_al_por_menor_en_tiendas_departamentales","Cb10. Únicamente reporta consumo energético - Energía y Transporte","No ingrese información, remítase al sector \"Energía\" y \"Transporte\"","NA",{"$f":"'Ecuaciones y FE'!AF655","v":0}]
["Cb11","Comercio_y_Servicios","Comercio","Comercio_al_por_menor_de_ropa_bisutería_y_accesorios_de_vestir","Cb11. Únicamente reporta consumo energético - Energía y Transporte","No ingrese información, remítase al sector \"Energía\" y \"Transporte\"","NA",{"$f":"'Ecuaciones y FE'!AF656","v":0}]
["Cb12","Comercio_y_Servicios","Comercio","Comercio_al_por_menor_de_partes_y_refacciones_para_automóviles_camionetas_y_camiones","Cb12. Únicamente reporta consumo energético - Energía y Transporte","No ingrese información, remítase al sector \"Energía\" y \"Transporte\"","NA",{"$f":"'Ecuaciones y FE'!AF657","v":0}]
["Cb2","Comercio_y_Servicios","Comercio","Comercio_al_por_mayor_de_bebidas_hielo_y_tabaco","Cb2. Únicamente reporta consumo energético - Energía y Transporte","No ingrese información, remítase al sector \"Energía\" y \"Transporte\"","NA",{"$f":"'Ecuaciones y FE'!AF647","v":0}]
["Cb3","Comercio_y_Servicios","Comercio","Comercio_al_por_mayor_de_productos_textiles_y_calzado","Cb3. Únicamente reporta consumo energético - Energía y Transporte","No ingrese información, remítase al sector \"Energía\" y \"Transporte\"","NA",{"$f":"'Ecuaciones y FE'!AF648","v":0}]
["Cb4","Comercio_y_Servicios","Comercio","Comercio_al_por_mayor_de_materias_primas_agropecuarias_y_forestales","Cb4. Únicamente reporta consumo energético - Energía y Transporte","No ingrese información, remítase al sector \"Energía\" y \"Transporte\"","NA",{"$f":"'Ecuaciones y FE'!AF649","v":0}]
["Cb5","Comercio_y_Servicios","Comercio","Comercio_al_por_mayor_de_materias_primas_para_la_industria","Cb5. Únicamente reporta consumo energético - Energía y Transporte","No ingrese información, remítase al sector \"Energía\" y \"Transporte\"","NA",{"$f":"'Ecuaciones y FE'!AF650","v":0}]
["Cb6","Comercio_y_Servicios","Comercio","Comercio_al_por_mayor_de_maquinaria_y_equipo_agropecuario_forestal_y_para_la_pesca","Cb6. Únicamente reporta consumo energético - Energía y Transporte","No ingrese información, remítase al sector \"Energía\" y \"Transporte\"","NA",{"$f":"'Ecuaciones y FE'!AF651","v":0}]
["Cb7","Comercio_y_Servicios","Comercio","Mobiliario_y_equipo_de_cómputo_y_oficina_y_otra_maquinaria_y_equipo_de_uso_general","Cb7. Únicamente reporta consumo energético - Energía y Transporte","No ingrese información, remítase al sector \"Energía\" y \"Transporte\"","NA",{"$f":"'Ecuaciones y FE'!AF652","v":0}]
["Cb8","Comercio_y_Servicios","Comercio","Comercio_al_por_menor_de_abarrotes_y_alimentos","Cb8. Únicamente reporta consumo energético - Energía y Transporte","No ingrese información, remítase al sector \"Energía\" y \"Transporte\"","NA",{"$f":"'Ecuaciones y FE'!AF653","v":0}]
["Cb9","Comercio_y_Servicios","Comercio","Comercio_al_por_menor_en_tiendas_de_autoservicio","Cb9. Únicamente reporta consumo energético - Energía y Transporte","No ingrese información, remítase al sector \"Energía\" y \"Transporte\"","NA",{"$f":"'Ecuaciones y FE'!AF654","v":0}]
["Cc1","Comercio_y_Servicios","Servicios_Educativos","Escuelas de educación superior","Cc1. Únicamente reporta consumo energético - Energía y Transporte","No ingrese información, remítase al sector \"Energía\" y \"Transporte\"","NA",{"$f":"'Ecuaciones y FE'!AF659","v":0}]
["Cd1","Comercio_y_Servicios","Actividades_Recreativas","Parques con instalaciones recreativas y casas de juegos electrónicos","Cd1. Únicamente reporta consumo energético - Energía y Transporte","No ingrese información, remítase al sector \"Energía\" y \"Transporte\"","NA",{"$f":"'Ecuaciones y FE'!AF661","v":0}]
["Ce1","Comercio_y_Servicios","Turismo","Hoteles, moteles y similares","Ce1. Únicamente reporta consumo energético - Energía y Transporte","No ingrese información, remítase al sector \"Energía\" y \"Transporte\"","NA",{"$f":"'Ecuaciones y FE'!AF663","v":0}]
["Cf1","Comercio_y_Servicios","Servicios_Médicos","Hospitales y laboratorios","Cf1. Únicamente reporta consumo energético - Energía y Transporte","No ingrese información, remítase al sector \"Energía\" y \"Transporte\"","NA",{"$f":"'Ecuaciones y FE'!AF665","v":0}]
["Cg1","Comercio_y_Servicios","Gobierno","Instalaciones en las que las dependencias y entidades de la administración pública federal, estatal o municipal realizan sus funciones","Cg1. Únicamente reporta consumo energético - Energía y Transporte","No ingrese información, remítase al sector \"Energía\" y \"Transporte\"","NA",{"$f":"'Ecuaciones y FE'!AF667","v":0}]
["Ch1","Comercio_y_Servicios","Servicios_Financieros","Banca múltiple","Ch1. Únicamente reporta consumo energético - Energía y Transporte","No ingrese información, remítase al sector \"Energía\" y \"Transporte\"","NA",{"$f":"'Ecuaciones y FE'!AF669","v":0}]
["Ch2","Comercio_y_Servicios","Servicios_Financieros","Alquiler sin intermediación de bienes raíces","Ch2. Únicamente reporta consumo energético - Energía y Transporte","No ingrese información, remítase al sector \"Energía\" y \"Transporte\"","NA",{"$f":"'Ecuaciones y FE'!AF670","v":0}]
["Ch3","Comercio_y_Servicios","Servicios_Financieros","Inmobiliarias y corredores de bienes raíces","Ch3. Únicamente reporta consumo energético - Energía y Transporte","No ingrese información, remítase al sector \"Energía\" y \"Transporte\"","NA",{"$f":"'Ecuaciones y FE'!AF671","v":0}]
["Ea01","Energía","Energía_eléctrica","Generación_energía_eléctrica","Algodón","Ingrese la cantidad de combustible alternativo consumido al mes en toneladas","t",{"$f":"'Ecuaciones y FE'!AF14","v":{"$error":"#N/A"}},{"$f":"'Ecuaciones y FE'!W14","v":{"$error":"#N/A"}},{"$f":"'Ecuaciones y FE'!X14","v":{"$error":"#N/A"}},{"$f":"'Ecuaciones y FE'!Y14","v":{"$error":"#N/A"}}]
["Ea02","Energía","Energía_eléctrica","Generación_energía_eléctrica","Alquitrán","Ingrese la cantidad de combustible alternativo consumido al mes en toneladas","t",{"$f":"'Ecuaciones y FE'!AF15","v":{"$error":"#N/A"}},{"$f":"'Ecuaciones y FE'!W15","v":{"$error":"#N/A"}},{"$f":"'Ecuaciones y FE'!X15","v":{"$error":"#N/A"}},{"$f":"'Ecuaciones y FE'!Y15","v":{"$error":"#N/A"}}]
["Ea03","Energía","Energía_eléctrica","Generación_energía_eléctrica","Bagazo de caña","Ingrese la cantidad de combustible alternativo consumido al mes en toneladas","t",{"$f":"'Ecuaciones y FE'!AF16","v":{"$error":"#N/A"}},{"$f":"'Ecuaciones y FE'!W16","v":{"$error":"#N/A"}},{"$f":"'Ecuaciones y FE'!X16","v":{"$error":"#N/A"}},{"$f":"'Ecuaciones y FE'!Y16","v":{"$error":"#N/A"}}]
["Ea04","Energía","Energía_eléctrica","Generación_energía_eléctrica","Bagazo de Malta","Ingrese la cantidad de combustible alternativo consumido al mes en toneladas","t",{"$f":"'Ecuaciones y FE'!AF17","v":{"$error":"#N/A"}},{"$f":"'Ecuaciones y FE'!W17","v":{"$error":"#N/A"}},{"$f":"'Ecuaciones y FE'!X17","v":{"$error":"#N/A"}},{"$f":"'Ecuaciones y FE'!Y17","v":{"$error":"#N/A"}}]
["Ea05","Energía","Energía_eléctrica","Generación_energía_eléctrica","Basura (residuos sólidos urbanos)","Ingrese la cantidad de combustible alternativo consumido al mes en toneladas","t",{"$f":"'Ecuaciones y FE'!AF18","v":{"$error":"#N/A"}},{"$f":"'Ecuaciones y FE'!W18","v":{"$error":"#N/A"}},{"$f":"'Ecuaciones y FE'!X18","v":{"$error":"#N/A"}},{"$f":"'Ecuaciones y FE'!Y18","v":{"$error":"#N/A"}}]
["Ea06","Energía","Energía_eléctrica","Generación_energía_eléctrica","Biocombustible líquido","Ingrese la cantidad de combustible alternativo consumido al mes en toneladas","t",{"$f":"'Ecuaciones y FE'!AF19","v":{"$error":"#N/A"}},{"$f":"'Ecuaciones y FE'!W19","v":{"$error":"#N/A"}},{"$f":"'Ecuaciones y FE'!X19","v":{"$error":"#N/A"}},{"$f":"'Ecuaciones y FE'!Y19","v":{"$error":"#N/A"}}]
["Ea07","Energía","Energía_eléctrica","Generación_energía_eléctrica","Biodiesel","Ingrese la cantidad de combustible alternativo consumido al mes en litros","l",{"$f":"'Ecuaciones y FE'!AF20","v":{"$error":"#N/A"}},{"$f":"'Ecuaciones y FE'!W20","v":{"$error":"#N/A"}},{"$f":"'Ecuaciones y FE'!X20","v":{"$error":"#N/A"}},{"$f":"'Ecuaciones y FE'!Y20","v":{"$error":"#N/A"}}]
["Ea08","Energía","Energía_eléctrica","Generación_energía_eléctrica","Biogás (metano)","Ingrese la cantidad de combustible alternativo consumido al mes en m3","m3",{"$f":"'Ecuaciones y FE'!AF21","v":{"$error":"#N/A"}},{"$f":"'Ecuaciones y FE'!W21","v":{"$error":"#N/A"}},{"$f":"'Ecuaciones y FE'!X21","v":{"$error":"#N/A"}},{"$f":"'Ecuaciones y FE'!Y21","v":{"$error":"#N/A"}}]
["Ea09","Energía","Energía_eléctrica","Generación_energía_eléctrica","Biogasolina","Ingrese el consumo mensual de combustible alternativo en litros","l",{"$f":"'Ecuaciones y FE'!AF22","v":{"$error":"#N/A"}},{"$f":"'Ecuaciones y FE'!W22","v":{"$error":"#N/A"}},{"$f":"'Ecuaciones y FE'!X22","v":{"$error":"#N/A"}},{"$f":"'Ecuaciones y FE'!Y22","v":{"$error":"#N/A"}}]
["Ea10","Energía","Energía_eléctrica","Generación_energía_eléctrica","Caña de maíz","Ingrese la cantidad de combustible alternativo consumido al mes en toneladas","t",{"$f":"'Ecuaciones y FE'!AF23","v":{"$error":"#N/A"}},{"$f":"'Ecuaciones y FE'!W23","v":{"$error":"#N/A"}},{"$f":"'Ecuaciones y FE'!X23","v":{"$error":"#N/A"}},{"$f":"'Ecuaciones y FE'!Y23","v":{"$error":"#N/A"}}]
["Ea11","Energía","Energía_eléctrica","Generación_energía_eléctrica","Carbón antracita","Ingrese la cantidad de carbón consumido al mes en toneladas","t",{"$f":"'Ecuaciones y FE'!AF24","v":{"$error":"#N/A"}},{"$f":"'Ecuaciones y FE'!W24","v":{"$error":"#N/A"}},{"$f":"'Ecuaciones y FE'!X24","v":{"$error":"#N/A"}},{"$f":"'Ecuaciones y FE'!Y24","v":{"$error":"#N/A"}}]
["Ea12","Energía","Energía_eléctrica","Generación_energía_eléctrica","Carbón bituminoso","Ingrese la cantidad de carbón consumido al mes en toneladas","t",{"$f":"'Ecuaciones y FE'!AF25","v":{"$error":"#N/A"}},{"$f":"'Ecuaciones y FE'!W25","v":{"$error":"#N/A"}},{"$f":"'Ecuaciones y FE'!X25","v":{"$error":"#N/A"}},{"$f":"'Ecuaciones y FE'!Y25","v":{"$error":"#N/A"}}]
["Ea13","Energía","Energía_eléctrica","Generación_energía_eléctrica","Carbón mineral","Ingrese la cantidad de carbón consumido al mes en toneladas","t",{"$f":"'Ecuaciones y FE'!AF26","v":{"$error":"#N/A"}},{"$f":"'Ecuaciones y FE'!W26","v":{"$error":"#N/A"}},{"$f":"'Ecuaciones y FE'!X26","v":{"$error":"#N/A"}},{"$f":"'Ecuaciones y FE'!Y26","v":{"$error":"#N/A"}}]
["Ea14","Energía","Energía_eléctrica","Generación_energía_eléctrica","Carbón siderúrgico de importación","Ingrese la cantidad de carbón consumido al mes en toneladas","t",{"$f":"'Ecuaciones y FE'!AF27","v":{"$error":"#N/A"}},{"$f":"'Ecuaciones y FE'!W27","v":{"$error":"#N/A"}},{"$f":"'Ecuaciones y FE'!X27","v":{"$error":"#N/A"}},{"$f":"'Ecuaciones y FE'!Y27","v":{"$error":"#N/A"}}]
["Ea15","Energía","Energía_eléctrica","Generación_energía_eléctrica","Carbón siderúrgico nacional","Ingrese la cantidad de carbón consumido al mes en toneladas","t",{"$f":"'Ecuaciones y FE'!AF28","v":{"$error":"#N/A"}},{"$f":"'Ecuaciones y FE'!W28","v":{"$error":"#N/A"}},{"$f":"'Ecuaciones y FE'!X28","v":{"$error":"#N/A"}},{"$f":"'Ecuaciones y FE'!Y28","v":{"$error":"#N/A"}}]
["Ea16","Energía","Energía_eléctrica","Generación_energía_eléctrica","Carbón térmico de importación","Ingrese la cantidad de carbón consumido al mes en toneladas","t",{"$f":"'Ecuaciones y FE'!AF29","v":{"$error":"#N/A"}},{"$f":"'Ecuaciones y FE'!W29","v":{"$error":"#N/A"}},{"$f":"'Ecuaciones y FE'!X29","v":{"$error":"#N/A"}},{"$f":"'Ecuaciones y FE'!Y29","v":{"$error":"#N/A"}}]
["Ea17","Energía","Energía_eléctrica","Generación_energía_eléctrica","Carbón térmico nacional","Ingrese la cantidad de carbón consumido al mes en toneladas","t",{"$f":"'Ecuaciones y FE'!AF30","v":{"$error":"#N/A"}},{"$f":"'Ecuaciones y FE'!W30","v":{"$error":"#N/A"}},{"$f":"'Ecuaciones y FE'!X30","v":{"$error":"#N/A"}},{"$f":"'Ecuaciones y FE'!Y30","v":{"$error":"#N/A"}}]
["Ea18","Energía","Energía_eléctrica","Generación_energía_eléctrica","Carbón vegetal","Ingrese la cantidad de carbón consumido al mes en toneladas","t",{"$f":"'Ecuaciones y FE'!AF31","v":{"$error":"#N/A"}},{"$f":"'Ecuaciones y FE'!W31","v":{"$error":"#N/A"}},{"$f":"'Ecuaciones y FE'!X31","v":{"$error":"#N/A"}},{"$f":"'Ecuaciones y FE'!Y31","v":{"$error":"#N/A"}}]
["Ea19","Energía","Energía_eléctrica","Generación_energía_eléctrica","Cartón ordinario-empaques-envases","Ingrese la cantidad de combustible consumido al mes en toneladas","t",{"$f":"'Ecuaciones y FE'!AF32","v":{"$error":"#N/A"}},{"$f":"'Ecuaciones y FE'!W32","v":{"$error":"#N/A"}},{"$f":"'Ecuaciones y FE'!X32","v":{"$error":"#N/A"}},{"$f":"'Ecuaciones y FE'!Y32","v":{"$error":"#N/A"}}]
["Ea20","Energía","Energía_eléctrica","Generación_energía_eléctrica","Combustóleo ligero","Ingrese el consumo mensual de combustóleo en litros","l",{"$f":"'Ecuaciones y FE'!AF33","v":{"$error":"#N/A"}},{"$f":"'Ecuaciones y FE'!W33","v":{"$error":"#N/A"}},{"$f":"'Ecuaciones y FE'!X33","v":{"$error":"#N/A"}},{"$f":"'Ecuaciones y FE'!Y33","v":{"$error":"#N/A"}}]
["Ea21","Energía","Energía_eléctrica","Generación_energía_eléctrica","Combustóleo pesado","Ingrese el consumo mensual de combustóleo en litros","l",{"$f":"'Ecuaciones y FE'!AF34","v":{"$error":"#N/A"}},{"$f":"'Ecuaciones y FE'!W34","v":{"$error":"#N/A"}},{"$f":"'Ecuaciones y FE'!X34","v":{"$error":"#N/A"}},{"$f":"'Ecuaciones y FE'!Y34","v":{"$error":"#N/A"}}]
["Ea22","Energía","Energía_eléctrica","Generación_energía_eléctrica","Coque de carbón","Ingrese la cantidad de coque de carbón consumido al mes en toneladas","t",{"$f":"'Ecuaciones y FE'!AF35","v":{"$error":"#N/A"}},{"$f":"'Ecuaciones y FE'!W35","v":{"$error":"#N/A"}},{"$f":"'Ecuaciones y FE'!X35","v":{"$error":"#N/A"}},{"$f":"'Ecuaciones y FE'!Y35","v":{"$error":"#N/A"}}]
["Ea23","Energía","Energía_eléctrica","Generación_energía_eléctrica","Coque de petróleo","Ingrese la cantidad de coque de carbón consumido al mes en toneladas","t",{"$f":"'Ecuaciones y FE'!AF36","v":{"$error":"#N/A"}},{"$f":"'Ecuaciones y FE'!W36","v":{"$error":"#N/A"}},{"$f":"'Ecuaciones y FE'!X36","v":{"$error":"#N/A"}},{"$f":"'Ecuaciones y FE'!Y36","v":{"$error":"#N/A"}}]
["Ea24","Energía","Energía_eléctrica","Generación_energía_eléctrica","Diáfano","Ingrese el consumo mensual de diáfano en litros","l",{"$f":"'Ecuaciones y FE'!AF37","v":{"$error":"#N/A"}},{"$f":"'Ecuaciones y FE'!W37","v":{"$error":"#N/A"}},{"$f":"'Ecuaciones y FE'!X37","v":{"$error":"#N/A"}},{"$f":"'Ecuaciones y FE'!Y37","v":{"$error":"#N/A"}}]
["Ea25","Energía","Energía_eléctrica","Generación_energía_eléctrica","Diésel","Ingrese el consumo mensual de diesel en litros","l",{"$f":"'Ecuaciones y FE'!AF38","v":{"$error":"#N/A"}},{"$f":"'Ecuaciones y FE'!W38","v":{"$error":"#N/A"}},{"$f":"'Ecuaciones y FE'!X38","v":{"$error":"#N/A"}},{"$f":"'Ecuaciones y FE'!Y38","v":{"$error":"#N/A"}}]
["Ea26","Energía","Energía_eléctrica","Generación_energía_eléctrica","Esquisto bituminoso y alquitrán","Ingrese la cantidad de esquisto bituminoso consumido al mes en toneladas","t",{"$f":"'Ecuaciones y FE'!AF39","v":{"$error":"#N/A"}},{"$f":"'Ecuaciones y FE'!W39","v":{"$error":"#N/A"}},{"$f":"'Ecuaciones y FE'!X39","v":{"$error":"#N/A"}},{"$f":"'Ecuaciones y FE'!Y39","v":{"$error":"#N/A"}}]
["Ea27","Energía","Energía_eléctrica","Generación_energía_eléctrica","Etano","Ingrese el consumo mensual de etano en litros","l",{"$f":"'Ecuaciones y FE'!AF40","v":{"$error":"#N/A"}},{"$f":"'Ecuaciones y FE'!W40","v":{"$error":"#N/A"}},{"$f":"'Ecuaciones y FE'!X40","v":{"$error":"#N/A"}},{"$f":"'Ecuaciones y FE'!Y40","v":{"$error":"#N/A"}}]
["Ea28","Energía","Energía_eléctrica","Generación_energía_eléctrica","Gas de alto horno ","Ingrese el consumo mensual de gas en m3","m3",{"$f":"'Ecuaciones y FE'!AF41","v":{"$error":"#N/A"}},{"$f":"'Ecuaciones y FE'!W41","v":{"$error":"#N/A"}},{"$f":"'Ecuaciones y FE'!X41","v":{"$error":"#N/A"}},{"$f":"'Ecuaciones y FE'!Y41","v":{"$error":"#N/A"}}]
["Ea29","Energía","Energía_eléctrica","Generación_energía_eléctrica","Gas de coque ","Ingrese el consumo mensual de gas en m3","m3",{"$f":"'Ecuaciones y FE'!AF42","v":{"$error":"#N/A"}},{"$f":"'Ecuaciones y FE'!W42","v":{"$error":"#N/A"}},{"$f":"'Ecuaciones y FE'!X42","v":{"$error":"#N/A"}},{"$f":"'Ecuaciones y FE'!Y42","v":{"$error":"#N/A"}}]
["Ea30","Energía","Energía_eléctrica","Generación_energía_eléctrica","Gas licuado","Ingrese el consumo mensual de gas en litros","l",{"$f":"'Ecuaciones y FE'!AF43","v":{"$error":"#N/A"}},{"$f":"'Ecuaciones y FE'!W43","v":{"$error":"#N/A"}},{"$f":"'Ecuaciones y FE'!X43","v":{"$error":"#N/A"}},{"$f":"'Ecuaciones y FE'!Y43","v":{"$error":"#N/A"}}]
["Ea31","Energía","Energía_eléctrica","Generación_energía_eléctrica","Gas natural (promedio asociado y no asociado)","Ingrese el consumo mensual de gas natural en m3","m3",{"$f":"'Ecuaciones y FE'!AF44","v":{"$error":"#N/A"}},{"$f":"'Ecuaciones y FE'!W44","v":{"$error":"#N/A"}},{"$f":"'Ecuaciones y FE'!X44","v":{"$error":"#N/A"}},{"$f":"'Ecuaciones y FE'!Y44","v":{"$error":"#N/A"}}]
["Ea32","Energía","Energía_eléctrica","Generación_energía_eléctrica","Gas natural asociado","Ingrese el consumo mensual de gas natural en m3","m3",{"$f":"'Ecuaciones y FE'!AF45","v":{"$error":"#N/A"}},{"$f":"'Ecuaciones y FE'!W45","v":{"$error":"#N/A"}},{"$f":"'Ecuaciones y FE'!X45","v":{"$error":"#N/A"}},{"$f":"'Ecuaciones y FE'!Y45","v":{"$error":"#N/A"}}]
["Ea33","Energía","Energía_eléctrica","Generación_energía_eléctrica","Gas natural no asociado ","Ingrese el consumo mensual de gas natural en m3","m3",{"$f":"'Ecuaciones y FE'!AF46","v":{"$error":"#N/A"}},{"$f":"'Ecuaciones y FE'!W46","v":{"$error":"#N/A"}},{"$f":"'Ecuaciones y FE'!X46","v":{"$error":"#N/A"}},{"$f":"'Ecuaciones y FE'!Y46","v":{"$error":"#N/A"}}]
["Ea34","Energía","Energía_eléctrica","Generación_energía_eléctrica","Gas seco ","Ingrese el consumo mensual de gas en m3","m3",{"$f":"'Ecuaciones y FE'!AF47","v":{"$error":"#N/A"}},{"$f":"'Ecuaciones y FE'!W47","v":{"$error":"#N/A"}},{"$f":"'Ecuaciones y FE'!X47","v":{"$error":"#N/A"}},{"$f":"'Ecuaciones y FE'!Y47","v":{"$error":"#N/A"}}]
["Ea35","Energía","Energía_eléctrica","Generación_energía_eléctrica","Gas seco de exportación","Ingrese el consumo mensual de gas en m3","m3",{"$f":"'Ecuaciones y FE'!AF48","v":{"$error":"#N/A"}},{"$f":"'Ecuaciones y FE'!W48","v":{"$error":"#N/A"}},{"$f":"'Ecuaciones y FE'!X48","v":{"$error":"#N/A"}},{"$f":"'Ecuaciones y FE'!Y48","v":{"$error":"#N/A"}}]
["Ea36","Energía","Energía_eléctrica","Generación_energía_eléctrica","Gas seco de importación","Ingrese el consumo mensual de gas en m3","m3",{"$f":"'Ecuaciones y FE'!AF49","v":{"$error":"#N/A"}},{"$f":"'Ecuaciones y FE'!W49","v":{"$error":"#N/A"}},{"$f":"'Ecuaciones y FE'!X49","v":{"$error":"#N/A"}},{"$f":"'Ecuaciones y FE'!Y49","v":{"$error":"#N/A"}}]
["Ea37","Energía","Energía_eléctrica","Generación_energía_eléctrica","Gasóleo","Ingrese el consumo mensual de gasóleo en m3","m3",{"$f":"'Ecuaciones y FE'!AF50","v":{"$error":"#N/A"}},{"$f":"'Ecuaciones y FE'!W50","v":{"$error":"#N/A"}},{"$f":"'Ecuaciones y FE'!X50","v":{"$error":"#N/A"}},{"$f":"'Ecuaciones y FE'!Y50","v":{"$error":"#N/A"}}]
["Ea38","Energía","Energía_eléctrica","Generación_energía_eléctrica","Gasolinas naturales","Ingrese el consumo mensual de gasolina en litros","l",{"$f":"'Ecuaciones y FE'!AF51","v":{"$error":"#N/A"}},{"$f":"'Ecuaciones y FE'!W51","v":{"$error":"#N/A"}},{"$f":"'Ecuaciones y FE'!X51","v":{"$error":"#N/A"}},{"$f":"'Ecuaciones y FE'!Y51","v":{"$error":"#N/A"}}]
["Ea39","Energía","Energía_eléctrica","Generación_energía_eléctrica","Gasolinas y naftas","Ingrese el consumo mensual de gasolina en litros","l",{"$f":"'Ecuaciones y FE'!AF52","v":{"$error":"#N/A"}},{"$f":"'Ecuaciones y FE'!W52","v":{"$error":"#N/A"}},{"$f":"'Ecuaciones y FE'!X52","v":{"$error":"#N/A"}},{"$f":"'Ecuaciones y FE'!Y52","v":{"$error":"#N/A"}}]
["Ea40","Energía","Energía_eléctrica","Generación_energía_eléctrica","Hidrógeno","Ingrese la cantidad de combustible alternativo consumido al mes en toneladas","t",{"$f":"'Ecuaciones y FE'!AF53","v":{"$error":"#N/A"}},{"$f":"'Ecuaciones y FE'!W53","v":{"$error":"#N/A"}},{"$f":"'Ecuaciones y FE'!X53","v":{"$error":"#N/A"}},{"$f":"'Ecuaciones y FE'!Y53","v":{"$error":"#N/A"}}]
["Ea41","Energía","Energía_eléctrica","Generación_energía_eléctrica","Lana y seda","Ingrese el consumo mensual de lana y seda en toneladas","t",{"$f":"'Ecuaciones y FE'!AF54","v":{"$error":"#N/A"}},{"$f":"'Ecuaciones y FE'!W54","v":{"$error":"#N/A"}},{"$f":"'Ecuaciones y FE'!X54","v":{"$error":"#N/A"}},{"$f":"'Ecuaciones y FE'!Y54","v":{"$error":"#N/A"}}]
["Ea42","Energía","Energía_eléctrica","Generación_energía_eléctrica","Leña","Ingrese el consumo mensual de leña en toneladas","t",{"$f":"'Ecuaciones y FE'!AF55","v":{"$error":"#N/A"}},{"$f":"'Ecuaciones y FE'!W55","v":{"$error":"#N/A"}},{"$f":"'Ecuaciones y FE'!X55","v":{"$error":"#N/A"}},{"$f":"'Ecuaciones y FE'!Y55","v":{"$error":"#N/A"}}]
["Ea43","Energía","Energía_eléctrica","Generación_energía_eléctrica","Licor negro  ","Ingrese el consumo mensual de licor negro en toneladas","t",{"$f":"'Ecuaciones y FE'!AF56","v":{"$error":"#N/A"}},{"$f":"'Ecuaciones y FE'!W56","v":{"$error":"#N/A"}},{"$f":"'Ecuaciones y FE'!X56","v":{"$error":"#N/A"}},{"$f":"'Ecuaciones y FE'!Y56","v":{"$error":"#N/A"}}]
["Ea44","Energía","Energía_eléctrica","Generación_energía_eléctrica","Lubricantes","Ingrese el consumo mensual de lubricantes en litros","l",{"$f":"'Ecuaciones y FE'!AF57","v":{"$error":"#N/A"}},{"$f":"'Ecuaciones y FE'!W57","v":{"$error":"#N/A"}},{"$f":"'Ecuaciones y FE'!X57","v":{"$error":"#N/A"}},{"$f":"'Ecuaciones y FE'!Y57","v":{"$error":"#N/A"}}]
["Ea45","Energía","Energía_eléctrica","Generación_energía_eléctrica","Madera  (20% de humedad)","Ingrese la cantidad de combustible alternativo consumido al mes en toneladas","t",{"$f":"'Ecuaciones y FE'!AF58","v":{"$error":"#N/A"}},{"$f":"'Ecuaciones y FE'!W58","v":{"$error":"#N/A"}},{"$f":"'Ecuaciones y FE'!X58","v":{"$error":"#N/A"}},{"$f":"'Ecuaciones y FE'!Y58","v":{"$error":"#N/A"}}]
["Ea46","Energía","Energía_eléctrica","Generación_energía_eléctrica","Madera en astillas/pellets","Ingrese la cantidad de combustible alternativo consumido al mes en toneladas","t",{"$f":"'Ecuaciones y FE'!AF59","v":{"$error":"#N/A"}},{"$f":"'Ecuaciones y FE'!W59","v":{"$error":"#N/A"}},{"$f":"'Ecuaciones y FE'!X59","v":{"$error":"#N/A"}},{"$f":"'Ecuaciones y FE'!Y59","v":{"$error":"#N/A"}}]
["Ea47","Energía","Energía_eléctrica","Generación_energía_eléctrica","Mezcla de parafinas","Ingrese la cantidad de combustible alternativo consumido al mes en toneladas","t",{"$f":"'Ecuaciones y FE'!AF60","v":{"$error":"#N/A"}},{"$f":"'Ecuaciones y FE'!W60","v":{"$error":"#N/A"}},{"$f":"'Ecuaciones y FE'!X60","v":{"$error":"#N/A"}},{"$f":"'Ecuaciones y FE'!Y60","v":{"$error":"#N/A"}}]
["Ea48","Energía","Energía_eléctrica","Generación_energía_eléctrica","Paja de arroz","Ingrese la cantidad de combustible alternativo consumido al mes en toneladas","t",{"$f":"'Ecuaciones y FE'!AF61","v":{"$error":"#N/A"}},{"$f":"'Ecuaciones y FE'!W61","v":{"$error":"#N/A"}},{"$f":"'Ecuaciones y FE'!X61","v":{"$error":"#N/A"}},{"$f":"'Ecuaciones y FE'!Y61","v":{"$error":"#N/A"}}]
["Ea49","Energía","Energía_eléctrica","Generación_energía_eléctrica","Paneles-fibras-partículas y pedacería de madera","Ingrese la cantidad de combustible alternativo consumido al mes en toneladas","t",{"$f":"'Ecuaciones y FE'!AF62","v":{"$error":"#N/A"}},{"$f":"'Ecuaciones y FE'!W62","v":{"$error":"#N/A"}},{"$f":"'Ecuaciones y FE'!X62","v":{"$error":"#N/A"}},{"$f":"'Ecuaciones y FE'!Y62","v":{"$error":"#N/A"}}]
["Ea50","Energía","Energía_eléctrica","Generación_energía_eléctrica","Papel ordinario o kraft","Ingrese la cantidad de combustible alternativo consumido al mes en toneladas","t",{"$f":"'Ecuaciones y FE'!AF63","v":{"$error":"#N/A"}},{"$f":"'Ecuaciones y FE'!W63","v":{"$error":"#N/A"}},{"$f":"'Ecuaciones y FE'!X63","v":{"$error":"#N/A"}},{"$f":"'Ecuaciones y FE'!Y63","v":{"$error":"#N/A"}}]
["Ea51","Energía","Energía_eléctrica","Generación_energía_eléctrica","Petróleo crudo (promedio de la producción)","Ingrese el consumo mensual de crudo en litros","l",{"$f":"'Ecuaciones y FE'!AF64","v":{"$error":"#N/A"}},{"$f":"'Ecuaciones y FE'!W64","v":{"$error":"#N/A"}},{"$f":"'Ecuaciones y FE'!X64","v":{"$error":"#N/A"}},{"$f":"'Ecuaciones y FE'!Y64","v":{"$error":"#N/A"}}]
["Ea52","Energía","Energía_eléctrica","Generación_energía_eléctrica","Petróleo crudo ligero","Ingrese el consumo mensual de crudo en litros","l",{"$f":"'Ecuaciones y FE'!AF65","v":{"$error":"#N/A"}},{"$f":"'Ecuaciones y FE'!W65","v":{"$error":"#N/A"}},{"$f":"'Ecuaciones y FE'!X65","v":{"$error":"#N/A"}},{"$f":"'Ecuaciones y FE'!Y65","v":{"$error":"#N/A"}}]
["Ea53","Energía","Energía_eléctrica","Generación_energía_eléctrica","Petróleo crudo pesado","Ingrese el consumo mensual de crudo en litros","l",{"$f":"'Ecuaciones y FE'!AF66","v":{"$error":"#N/A"}},{"$f":"'Ecuaciones y FE'!W66","v":{"$error":"#N/A"}},{"$f":"'Ecuaciones y FE'!X66","v":{"$error":"#N/A"}},{"$f":"'Ecuaciones y FE'!Y66","v":{"$error":"#N/A"}}]
["Ea54","Energía","Energía_eléctrica","Generación_energía_eléctrica","Petróleo crudo superligero","Ingrese el consumo mensual de crudo en litros","l",{"$f":"'Ecuaciones y FE'!AF67","v":{"$error":"#N/A"}},{"$f":"'Ecuaciones y FE'!W67","v":{"$error":"#N/A"}},{"$f":"'Ecuaciones y FE'!X67","v":{"$error":"#N/A"}},{"$f":"'Ecuaciones y FE'!Y67","v":{"$error":"#N/A"}}]
["Ea55","Energía","Energía_eléctrica","Generación_energía_eléctrica","Querosenos","Ingrese el consumo mensual de querosenos en litros","l",{"$f":"'Ecuaciones y FE'!AF68","v":{"$error":"#N/A"}},{"$f":"'Ecuaciones y FE'!W68","v":{"$error":"#N/A"}},{"$f":"'Ecuaciones y FE'!X68","v":{"$error":"#N/A"}},{"$f":"'Ecuaciones y FE'!Y68","v":{"$error":"#N/A"}}]
["Ea56","Energía","Energía_eléctrica","Generación_energía_eléctrica","Turba (35 % de humedad)","Ingrese la cantidad de combustible alternativo consumido al mes en toneladas","t",{"$f":"'Ecuaciones y FE'!AF69","v":{"$error":"#N/A"}},{"$f":"'Ecuaciones y FE'!W69","v":{"$error":"#N/A"}},{"$f":"'Ecuaciones y FE'!X69","v":{"$error":"#N/A"}},{"$f":"'Ecuaciones y FE'!Y69","v":{"$error":"#N/A"}}]
["Ea57","Energía","Energía_eléctrica","Generación_energía_eléctrica","Turbosina","Ingrese el consumo mensual de turbosina en litros","l",{"$f":"'Ecuaciones y FE'!AF70","v":{"$error":"#N/A"}},{"$f":"'Ecuaciones y FE'!W70","v":{"$error":"#N/A"}},{"$f":"'Ecuaciones y FE'!X70","v":{"$error":"#N/A"}},{"$f":"'Ecuaciones y FE'!Y70","v":{"$error":"#N/A"}}]
["Eb01","Energía","Hidrocarburos","Extracción_Petróleo_Convencional_y_No_Convencional","Emisiones Fugitivas Petróleo (costeras)","Ingrese el volúmen de producción de petróleo","miles de m3 de producción de petróleo",{"$f":"'Ecuaciones y FE'!$AF132","v":{"$error":"#N/A"}},{"$f":"'Ecuaciones y FE'!$W132","v":{"$error":"#N/A"}},{"$f":"'Ecuaciones y FE'!$X132","v":{"$error":"#N/A"}},{"$f":"'Ecuaciones y FE'!$Y132","v":{"$error":"#N/A"}}]
["Eb02","Energía","Hidrocarburos","Extracción_Petróleo_Convencional_y_No_Convencional","Emisiones Fugitivas Petróleo (alta mar)","Ingrese el volúmen de producción de petróleo","miles de m3 de producción de petróleo",{"$f":"'Ecuaciones y FE'!$AF133","v":{"$error":"#N/A"}},{"$f":"'Ecuaciones y FE'!$W133","v":{"$error":"#N/A"}},{"$f":"'Ecuaciones y FE'!$X133","v":{"$error":"#N/A"}},{"$f":"'Ecuaciones y FE'!$Y133","v":{"$error":"#N/A"}}]
["Eb03","Energía","Hidrocarburos","Extracción_Petróleo_Convencional_y_No_Convencional","Emisiones Fugitivas Petróleo por Venteo","Ingrese el volúmen de producción de petróleo","miles de m3 de producción de petróleo",{"$f":"'Ecuaciones y FE'!$AF134","v":{"$error":"#N/A"}},{"$f":"'Ecuaciones y FE'!$W134","v":{"$error":"#N/A"}},{"$f":"'Ecuaciones y FE'!$X134","v":{"$error":"#N/A"}},{"$f":"'Ecuaciones y FE'!$Y134","v":{"$error":"#N/A"}}]
["Eb04","Energía","Hidrocarburos","Extracción_Petróleo_Convencional_y_No_Convencional","Emisiones Fugitivas Petróleo por Quema en Antorcha","Ingrese el volúmen de producción de petróleo","miles de m3 de producción de petróleo",{"$f":"'Ecuaciones y FE'!$AF135","v":{"$error":"#N/A"}},{"$f":"'Ecuaciones y FE'!$W135","v":{"$error":"#N/A"}},{"$f":"'Ecuaciones y FE'!$X135","v":{"$error":"#N/A"}},{"$f":"'Ecuaciones y FE'!$Y135","v":{"$error":"#N/A"}}]
["Eb05","Energía","Hidrocarburos","Extracción_Gas_Asociado_y_No_Asociado","Emisiones Fugitivas Gas por Venteo","Ingrese el volúmen de producción de gas","millones de m3 de producción de gas",{"$f":"'Ecuaciones y FE'!$AF136","v":{"$error":"#N/A"}},{"$f":"'Ecuaciones y FE'!$W136","v":{"$error":"#N/A"}},{"$f":"'Ecuaciones y FE'!$X136","v":{"$error":"#N/A"}},{"$f":"'Ecuaciones y FE'!$Y136","v":{"$error":"#N/A"}}]
["Eb06","Energía","Hidrocarburos","Extracción_Gas_Asociado_y_No_Asociado","Emisiones Fugitivas Gas por Quema en Antorcha","Ingrese el volúmen de producción de gas","millones de m3 de producción de gas",{"$f":"'Ecuaciones y FE'!$AF137","v":{"$error":"#N/A"}},{"$f":"'Ecuaciones y FE'!$W137","v":{"$error":"#N/A"}},{"$f":"'Ecuaciones y FE'!$X137","v":{"$error":"#N/A"}},{"$f":"'Ecuaciones y FE'!$Y137","v":{"$error":"#N/A"}}]
["Eb07","Energía","Hidrocarburos","Perforación_pozos_petróleo_y_gas","Emisiones por Quema en Antorcha y Venteo_Perforación","Ingrese el número de pozos perforados","número de pozos perforados",{"$f":"'Ecuaciones y FE'!$AF138","v":{"$error":"#N/A"}},{"$f":"'Ecuaciones y FE'!$W138","v":{"$error":"#N/A"}},{"$f":"'Ecuaciones y FE'!$X138","v":{"$error":"#N/A"}},{"$f":"'Ecuaciones y FE'!$Y138","v":{"$error":"#N/A"}}]
["Eb08","Energía","Hidrocarburos","Pozos_en_producción_petróleo_y_gas","Emisiones por Quema en Antorcha y Venteo_Producción","Ingrese el número de pozos en producción","número de pozos en producción",{"$f":"'Ecuaciones y FE'!$AF139","v":{"$error":"#N/A"}},{"$f":"'Ecuaciones y FE'!$W139","v":{"$error":"#N/A"}},{"$f":"'Ecuaciones y FE'!$X139","v":{"$error":"#N/A"}},{"$f":"'Ecuaciones y FE'!$Y139","v":{"$error":"#N/A"}}]
["Eb09","Energía","Hidrocarburos","Procesamiento_Gas","Emisiones fugitivas_Procesamiento de Gas","Ingrese el volúmen de carga de gas de crudo","millones de m3 de carga de gas de crudo",{"$f":"'Ecuaciones y FE'!$AF140","v":{"$error":"#N/A"}},{"$f":"'Ecuaciones y FE'!$W140","v":{"$error":"#N/A"}},{"$f":"'Ecuaciones y FE'!$X140","v":{"$error":"#N/A"}},{"$f":"'Ecuaciones y FE'!$Y140","v":{"$error":"#N/A"}}]
["Eb10","Energía","Hidrocarburos","Procesamiento_Gas","Emisiones por Quema en Antorcha_Procesamiento de Gas","Ingrese el volúmen de carga de gas de crudo","millones de m3 de carga de gas de crudo",{"$f":"'Ecuaciones y FE'!$AF141","v":{"$error":"#N/A"}},{"$f":"'Ecuaciones y FE'!$W141","v":{"$error":"#N/A"}},{"$f":"'Ecuaciones y FE'!$X141","v":{"$error":"#N/A"}},{"$f":"'Ecuaciones y FE'!$Y141","v":{"$error":"#N/A"}}]
["Eb11","Energía","Hidrocarburos","Procesamiento_Gas","Emisiones por Venteo_Procesamiento de Gas","Ingrese el volúmen de carga de gas de crudo","millones de m3 de carga de gas de crudo",{"$f":"'Ecuaciones y FE'!$AF142","v":{"$error":"#N/A"}},{"$f":"'Ecuaciones y FE'!$W142","v":{"$error":"#N/A"}},{"$f":"'Ecuaciones y FE'!$X142","v":{"$error":"#N/A"}},{"$f":"'Ecuaciones y FE'!$Y142","v":{"$error":"#N/A"}}]
["Eb12","Energía","Hidrocarburos","Transporte_Petróleo","Transporte en tuberías","Ingrese el volúmen de petróleo transportado","miles de m3 de petróleo transportado",{"$f":"'Ecuaciones y FE'!$AF143","v":{"$error":"#N/A"}},{"$f":"'Ecuaciones y FE'!$W143","v":{"$error":"#N/A"}},{"$f":"'Ecuaciones y FE'!$X143","v":{"$error":"#N/A"}},{"$f":"'Ecuaciones y FE'!$Y143","v":{"$error":"#N/A"}}]
["Eb13","Energía","Hidrocarburos","Transporte_Petróleo","Transporte en camiones y vagones cisterna","Ingrese el volúmen de petróleo transportado","miles de m3 de petróleo transportado",{"$f":"'Ecuaciones y FE'!$AF144","v":{"$error":"#N/A"}},{"$f":"'Ecuaciones y FE'!$W144","v":{"$error":"#N/A"}},{"$f":"'Ecuaciones y FE'!$X144","v":{"$error":"#N/A"}},{"$f":"'Ecuaciones y FE'!$Y144","v":{"$error":"#N/A"}}]
["Eb14","Energía","Hidrocarburos","Transporte_Gas_almacenamiento","Almacenamiento de Gas Natural","Ingrese el volúmen de gas comercializable","millones de m3 de gas comercializable",{"$f":"'Ecuaciones y FE'!$AF145","v":{"$error":"#N/A"}},{"$f":"'Ecuaciones y FE'!$W145","v":{"$error":"#N/A"}},{"$f":"'Ecuaciones y FE'!$X145","v":{"$error":"#N/A"}},{"$f":"'Ecuaciones y FE'!$Y145","v":{"$error":"#N/A"}}]
["Eb15","Energía","Hidrocarburos","Distribución_gas_natural_ductos","Emisiones Fugitivas Distribución Gas Natural","Ingrese el volúmen de gas comercializable","millones de m3 de gas comercializable",{"$f":"'Ecuaciones y FE'!$AF146","v":{"$error":"#N/A"}},{"$f":"'Ecuaciones y FE'!$W146","v":{"$error":"#N/A"}},{"$f":"'Ecuaciones y FE'!$X146","v":{"$error":"#N/A"}},{"$f":"'Ecuaciones y FE'!$Y146","v":{"$error":"#N/A"}}]
["Eb16","Energía","Hidrocarburos","Distribución_gas_natural_ductos","Emisiones por Venteo Distribución Gas Natural","Ingrese el volúmen de gas comercializable","millones de m3 de gas comercializable",{"$f":"'Ecuaciones y FE'!$AF147","v":{"$error":"#N/A"}},{"$f":"'Ecuaciones y FE'!$W147","v":{"$error":"#N/A"}},{"$f":"'Ecuaciones y FE'!$X147","v":{"$error":"#N/A"}},{"$f":"'Ecuaciones y FE'!$Y147","v":{"$error":"#N/A"}}]
["Eb17","Energía","Hidrocarburos","Suministro_gas_natural_al_consumidor_final","Emisiones fugitivas por suministro al consumidor final","Ingrese el volúmen de gas por ventas de servicios","millones de m3 de ventas de servicios",{"$f":"'Ecuaciones y FE'!$AF148","v":{"$error":"#N/A"}},{"$f":"'Ecuaciones y FE'!$W148","v":{"$error":"#N/A"}},{"$f":"'Ecuaciones y FE'!$X148","v":{"$error":"#N/A"}},{"$f":"'Ecuaciones y FE'!$Y148","v":{"$error":"#N/A"}}]
["Ec01","Energía","Energía térmica","Procesos térmicos","Algodón_PT","Ingrese la cantidad de combustible alternativo consumido al mes en toneladas","t",{"$f":"'Ecuaciones y FE'!AF73","v":{"$error":"#N/A"}},{"$f":"'Ecuaciones y FE'!W73","v":{"$error":"#N/A"}},{"$f":"'Ecuaciones y FE'!X73","v":{"$error":"#N/A"}},{"$f":"'Ecuaciones y FE'!Y73","v":{"$error":"#N/A"}}]
["Ec02","Energía","Energía térmica","Procesos térmicos","Alquitrán_PT","Ingrese la cantidad de combustible alternativo consumido al mes en toneladas","t",{"$f":"'Ecuaciones y FE'!AF74","v":{"$error":"#N/A"}},{"$f":"'Ecuaciones y FE'!W74","v":{"$error":"#N/A"}},{"$f":"'Ecuaciones y FE'!X74","v":{"$error":"#N/A"}},{"$f":"'Ecuaciones y FE'!Y74","v":{"$error":"#N/A"}}]
["Ec03","Energía","Energía térmica","Procesos térmicos","Bagazo de caña_PT","Ingrese la cantidad de combustible alternativo consumido al mes en toneladas","t",{"$f":"'Ecuaciones y FE'!AF75","v":{"$error":"#N/A"}},{"$f":"'Ecuaciones y FE'!W75","v":{"$error":"#N/A"}},{"$f":"'Ecuaciones y FE'!X75","v":{"$error":"#N/A"}},{"$f":"'Ecuaciones y FE'!Y75","v":{"$error":"#N/A"}}]
["Ec04","Energía","Energía térmica","Procesos térmicos","Bagazo de Malta_PT","Ingrese la cantidad de combustible alternativo consumido al mes en toneladas","t",{"$f":"'Ecuaciones y FE'!AF76","v":{"$error":"#N/A"}},{"$f":"'Ecuaciones y FE'!W76","v":{"$error":"#N/A"}},{"$f":"'Ecuaciones y FE'!X76","v":{"$error":"#N/A"}},{"$f":"'Ecuaciones y FE'!Y76","v":{"$error":"#N/A"}}]
["Ec05","Energía","Energía térmica","Procesos térmicos","Basura (residuos sólidos urbanos)_PT","Ingrese la cantidad de combustible alternativo consumido al mes en toneladas","t",{"$f":"'Ecuaciones y FE'!AF77","v":{"$error":"#N/A"}},{"$f":"'Ecuaciones y FE'!W77","v":{"$error":"#N/A"}},{"$f":"'Ecuaciones y FE'!X77","v":{"$error":"#N/A"}},{"$f":"'Ecuaciones y FE'!Y77","v":{"$error":"#N/A"}}]
["Ec06","Energía","Energía térmica","Procesos térmicos","Biocombustible líquido_PT","Ingrese la cantidad de combustible alternativo consumido al mes en toneladas","t",{"$f":"'Ecuaciones y FE'!AF78","v":{"$error":"#N/A"}},{"$f":"'Ecuaciones y FE'!W78","v":{"$error":"#N/A"}},{"$f":"'Ecuaciones y FE'!X78","v":{"$error":"#N/A"}},{"$f":"'Ecuaciones y FE'!Y78","v":{"$error":"#N/A"}}]
["Ec07","Energía","Energía térmica","Procesos térmicos","Biodiesel_PT","Ingrese la cantidad de combustible alternativo consumido al mes en litros","l",{"$f":"'Ecuaciones y FE'!AF79","v":0},{"$f":"'Ecuaciones y FE'!W79","v":0},{"$f":"'Ecuaciones y FE'!X79","v":0},{"$f":"'Ecuaciones y FE'!Y79","v":0}]
["Ec08","Energía","Energía térmica","Procesos térmicos","Biogás (metano)_PT","Ingrese la cantidad de combustible alternativo consumido al mes en m3","m3",{"$f":"'Ecuaciones y FE'!AF80","v":{"$error":"#N/A"}},{"$f":"'Ecuaciones y FE'!W80","v":{"$error":"#N/A"}},{"$f":"'Ecuaciones y FE'!X80","v":{"$error":"#N/A"}},{"$f":"'Ecuaciones y FE'!Y80","v":{"$error":"#N/A"}}]
["Ec09","Energía","Energía térmica","Procesos térmicos","Biogasolina_PT","Ingrese el consumo mensual de combustible alternativo en litros","l",{"$f":"'Ecuaciones y FE'!AF81","v":{"$error":"#N/A"}},{"$f":"'Ecuaciones y FE'!W81","v":{"$error":"#N/A"}},{"$f":"'Ecuaciones y FE'!X81","v":{"$error":"#N/A"}},{"$f":"'Ecuaciones y FE'!Y81","v":{"$error":"#N/A"}}]
["Ec10","Energía","Energía térmica","Procesos térmicos","Caña de maíz_PT","Ingrese la cantidad de combustible alternativo consumido al mes en toneladas","t",{"$f":"'Ecuaciones y FE'!AF82","v":{"$error":"#N/A"}},{"$f":"'Ecuaciones y FE'!W82","v":{"$error":"#N/A"}},{"$f":"'Ecuaciones y FE'!X82","v":{"$error":"#N/A"}},{"$f":"'Ecuaciones y FE'!Y82","v":{"$error":"#N/A"}}]
["Ec11","Energía","Energía térmica","Procesos térmicos","Carbón antracita_PT","Ingrese la cantidad de carbón consumido al mes en toneladas","t",{"$f":"'Ecuaciones y FE'!AF83","v":{"$error":"#N/A"}},{"$f":"'Ecuaciones y FE'!W83","v":{"$error":"#N/A"}},{"$f":"'Ecuaciones y FE'!X83","v":{"$error":"#N/A"}},{"$f":"'Ecuaciones y FE'!Y83","v":{"$error":"#N/A"}}]
["Ec12","Energía","Energía térmica","Procesos térmicos","Carbón bituminoso_PT","Ingrese la cantidad de carbón consumido al mes en toneladas","t",{"$f":"'Ecuaciones y FE'!AF84","v":{"$error":"#N/A"}},{"$f":"'Ecuaciones y FE'!W84","v":{"$error":"#N/A"}},{"$f":"'Ecuaciones y FE'!X84","v":{"$error":"#N/A"}},{"$f":"'Ecuaciones y FE'!Y84","v":{"$error":"#N/A"}}]
["Ec13","Energía","Energía térmica","Procesos térmicos","Carbón mineral_PT","Ingrese la cantidad de carbón consumido al mes en toneladas","t",{"$f":"'Ecuaciones y FE'!AF85","v":{"$error":"#N/A"}},{"$f":"'Ecuaciones y FE'!W85","v":{"$error":"#N/A"}},{"$f":"'Ecuaciones y FE'!X85","v":{"$error":"#N/A"}},{"$f":"'Ecuaciones y FE'!Y85","v":{"$error":"#N/A"}}]
["Ec14","Energía","Energía térmica","Procesos térmicos","Carbón siderúrgico de importación_PT","Ingrese la cantidad de carbón consumido al mes en toneladas","t",{"$f":"'Ecuaciones y FE'!AF86","v":{"$error":"#N/A"}},{"$f":"'Ecuaciones y FE'!W86","v":{"$error":"#N/A"}},{"$f":"'Ecuaciones y FE'!X86","v":{"$error":"#N/A"}},{"$f":"'Ecuaciones y FE'!Y86","v":{"$error":"#N/A"}}]
["Ec15","Energía","Energía térmica","Procesos térmicos","Carbón siderúrgico nacional_PT","Ingrese la cantidad de carbón consumido al mes en toneladas","t",{"$f":"'Ecuaciones y FE'!AF87","v":{"$error":"#N/A"}},{"$f":"'Ecuaciones y FE'!W87","v":{"$error":"#N/A"}},{"$f":"'Ecuaciones y FE'!X87","v":{"$error":"#N/A"}},{"$f":"'Ecuaciones y FE'!Y87","v":{"$error":"#N/A"}}]
["Ec16","Energía","Energía térmica","Procesos térmicos","Carbón térmico de importación_PT","Ingrese la cantidad de carbón consumido al mes en toneladas","t",{"$f":"'Ecuaciones y FE'!AF88","v":{"$error":"#N/A"}},{"$f":"'Ecuaciones y FE'!W88","v":{"$error":"#N/A"}},{"$f":"'Ecuaciones y FE'!X88","v":{"$error":"#N/A"}},{"$f":"'Ecuaciones y FE'!Y88","v":{"$error":"#N/A"}}]
["Ec17","Energía","Energía térmica","Procesos térmicos","Carbón térmico nacional_PT","Ingrese la cantidad de carbón consumido al mes en toneladas","t",{"$f":"'Ecuaciones y FE'!AF89","v":{"$error":"#N/A"}},{"$f":"'Ecuaciones y FE'!W89","v":{"$error":"#N/A"}},{"$f":"'Ecuaciones y FE'!X89","v":{"$error":"#N/A"}},{"$f":"'Ecuaciones y FE'!Y89","v":{"$error":"#N/A"}}]
["Ec18","Energía","Energía térmica","Procesos térmicos","Carbón vegetal_PT","Ingrese la cantidad de carbón consumido al mes en toneladas","t",{"$f":"'Ecuaciones y FE'!AF90","v":{"$error":"#N/A"}},{"$f":"'Ecuaciones y FE'!W90","v":{"$error":"#N/A"}},{"$f":"'Ecuaciones y FE'!X90","v":{"$error":"#N/A"}},{"$f":"'Ecuaciones y FE'!Y90","v":{"$error":"#N/A"}}]
["Ec19","Energía","Energía térmica","Procesos térmicos","Cartón ordinario-empaques-envases_PT","Ingrese la cantidad de combustible consumido al mes en toneladas","t",{"$f":"'Ecuaciones y FE'!AF91","v":{"$error":"#N/A"}},{"$f":"'Ecuaciones y FE'!W91","v":{"$error":"#N/A"}},{"$f":"'Ecuaciones y FE'!X91","v":{"$error":"#N/A"}},{"$f":"'Ecuaciones y FE'!Y91","v":{"$error":"#N/A"}}]
["Ec20","Energía","Energía térmica","Procesos térmicos","Combustóleo ligero_PT","Ingrese el consumo mensual de combustóleo en litros","l",{"$f":"'Ecuaciones y FE'!AF92","v":{"$error":"#N/A"}},{"$f":"'Ecuaciones y FE'!W92","v":{"$error":"#N/A"}},{"$f":"'Ecuaciones y FE'!X92","v":{"$error":"#N/A"}},{"$f":"'Ecuaciones y FE'!Y92","v":{"$error":"#N/A"}}]
["Ec21","Energía","Energía térmica","Procesos térmicos","Combustóleo pesado_PT","Ingrese el consumo mensual de combustóleo en litros","l",{"$f":"'Ecuaciones y FE'!AF93","v":{"$error":"#N/A"}},{"$f":"'Ecuaciones y FE'!W93","v":{"$error":"#N/A"}},{"$f":"'Ecuaciones y FE'!X93","v":{"$error":"#N/A"}},{"$f":"'Ecuaciones y FE'!Y93","v":{"$error":"#N/A"}}]
["Ec22","Energía","Energía térmica","Procesos térmicos","Coque de carbón_PT","Ingrese la cantidad de coque de carbón consumido al mes en toneladas","t",{"$f":"'Ecuaciones y FE'!AF94","v":{"$error":"#N/A"}},{"$f":"'Ecuaciones y FE'!W94","v":{"$error":"#N/A"}},{"$f":"'Ecuaciones y FE'!X94","v":{"$error":"#N/A"}},{"$f":"'Ecuaciones y FE'!Y94","v":{"$error":"#N/A"}}]
["Ec23","Energía","Energía térmica","Procesos térmicos","Coque de petróleo_PT","Ingrese la cantidad de coque de carbón consumido al mes en toneladas","t",{"$f":"'Ecuaciones y FE'!AF95","v":{"$error":"#N/A"}},{"$f":"'Ecuaciones y FE'!W95","v":{"$error":"#N/A"}},{"$f":"'Ecuaciones y FE'!X95","v":{"$error":"#N/A"}},{"$f":"'Ecuaciones y FE'!Y95","v":{"$error":"#N/A"}}]
["Ec24","Energía","Energía térmica","Procesos térmicos","Diáfano_PT","Ingrese el consumo mensual de diáfano en litros","l",{"$f":"'Ecuaciones y FE'!AF96","v":{"$error":"#N/A"}},{"$f":"'Ecuaciones y FE'!W96","v":{"$error":"#N/A"}},{"$f":"'Ecuaciones y FE'!X96","v":{"$error":"#N/A"}},{"$f":"'Ecuaciones y FE'!Y96","v":{"$error":"#N/A"}}]
["Ec25","Energía","Energía térmica","Procesos térmicos","Diésel_PT","Ingrese el consumo mensual de diesel en litros","l",{"$f":"'Ecuaciones y FE'!AF97","v":{"$error":"#N/A"}},{"$f":"'Ecuaciones y FE'!W97","v":{"$error":"#N/A"}},{"$f":"'Ecuaciones y FE'!X97","v":{"$error":"#N/A"}},{"$f":"'Ecuaciones y FE'!Y97","v":{"$error":"#N/A"}}]
["Ec26","Energía","Energía térmica","Procesos térmicos","Esquisto bituminoso y alquitrán_PT","Ingrese la cantidad de esquisto bituminoso consumido al mes en toneladas","t",{"$f":"'Ecuaciones y FE'!AF98","v":{"$error":"#N/A"}},{"$f":"'Ecuaciones y FE'!W98","v":{"$error":"#N/A"}},{"$f":"'Ecuaciones y FE'!X98","v":{"$error":"#N/A"}},{"$f":"'Ecuaciones y FE'!Y98","v":{"$error":"#N/A"}}]
["Ec27","Energía","Energía térmica","Procesos térmicos","Etano_PT","Ingrese el consumo mensual de etano en litros","l",{"$f":"'Ecuaciones y FE'!AF99","v":{"$error":"#N/A"}},{"$f":"'Ecuaciones y FE'!W99","v":{"$error":"#N/A"}},{"$f":"'Ecuaciones y FE'!X99","v":{"$error":"#N/A"}},{"$f":"'Ecuaciones y FE'!Y99","v":{"$error":"#N/A"}}]
["Ec28","Energía","Energía térmica","Procesos térmicos","Gas de alto horno _PT","Ingrese el consumo mensual de gas en m3","m3",{"$f":"'Ecuaciones y FE'!AF100","v":{"$error":"#N/A"}},{"$f":"'Ecuaciones y FE'!W100","v":{"$error":"#N/A"}},{"$f":"'Ecuaciones y FE'!X100","v":{"$error":"#N/A"}},{"$f":"'Ecuaciones y FE'!Y100","v":{"$error":"#N/A"}}]
["Ec29","Energía","Energía térmica","Procesos térmicos","Gas de coque _PT","Ingrese el consumo mensual de gas en m3","m3",{"$f":"'Ecuaciones y FE'!AF101","v":{"$error":"#N/A"}},{"$f":"'Ecuaciones y FE'!W101","v":{"$error":"#N/A"}},{"$f":"'Ecuaciones y FE'!X101","v":{"$error":"#N/A"}},{"$f":"'Ecuaciones y FE'!Y101","v":{"$error":"#N/A"}}]
["Ec30","Energía","Energía térmica","Procesos térmicos","Gas licuado_PT","Ingrese el consumo mensual de gas en litros","l",{"$f":"'Ecuaciones y FE'!AF102","v":{"$error":"#N/A"}},{"$f":"'Ecuaciones y FE'!W102","v":{"$error":"#N/A"}},{"$f":"'Ecuaciones y FE'!X102","v":{"$error":"#N/A"}},{"$f":"'Ecuaciones y FE'!Y102","v":{"$error":"#N/A"}}]
["Ec31","Energía","Energía térmica","Procesos térmicos","Gas natural (promedio asociado y no asociado)_PT","Ingrese el consumo mensual de gas natural en m3","m3",{"$f":"'Ecuaciones y FE'!AF103","v":{"$error":"#N/A"}},{"$f":"'Ecuaciones y FE'!W103","v":{"$error":"#N/A"}},{"$f":"'Ecuaciones y FE'!X103","v":{"$error":"#N/A"}},{"$f":"'Ecuaciones y FE'!Y103","v":{"$error":"#N/A"}}]
["Ec32","Energía","Energía térmica","Procesos térmicos","Gas natural asociado_PT","Ingrese el consumo mensual de gas natural en m3","m3",{"$f":"'Ecuaciones y FE'!AF104","v":{"$error":"#N/A"}},{"$f":"'Ecuaciones y FE'!W104","v":{"$error":"#N/A"}},{"$f":"'Ecuaciones y FE'!X104","v":{"$error":"#N/A"}},{"$f":"'Ecuaciones y FE'!Y104","v":{"$error":"#N/A"}}]
["Ec33","Energía","Energía térmica","Procesos térmicos","Gas natural no asociado _PT","Ingrese el consumo mensual de gas natural en m3","m3",{"$f":"'Ecuaciones y FE'!AF105","v":{"$error":"#N/A"}},{"$f":"'Ecuaciones y FE'!W105","v":{"$error":"#N/A"}},{"$f":"'Ecuaciones y FE'!X105","v":{"$error":"#N/A"}},{"$f":"'Ecuaciones y FE'!Y105","v":{"$error":"#N/A"}}]
["Ec34","Energía","Energía térmica","Procesos térmicos","Gas seco_PT","Ingrese el consumo mensual de gas en m3","m3",{"$f":"'Ecuaciones y FE'!AF106","v":{"$error":"#N/A"}},{"$f":"'Ecuaciones y FE'!W106","v":{"$error":"#N/A"}},{"$f":"'Ecuaciones y FE'!X106","v":{"$error":"#N/A"}},{"$f":"'Ecuaciones y FE'!Y106","v":{"$error":"#N/A"}}]
["Ec35","Energía","Energía térmica","Procesos térmicos","Gas seco de exportación_PT","Ingrese el consumo mensual de gas en m3","m3",{"$f":"'Ecuaciones y FE'!AF107","v":{"$error":"#N/A"}},{"$f":"'Ecuaciones y FE'!W107","v":{"$error":"#N/A"}},{"$f":"'Ecuaciones y FE'!X107","v":{"$error":"#N/A"}},{"$f":"'Ecuaciones y FE'!Y107","v":{"$error":"#N/A"}}]
["Ec36","Energía","Energía térmica","Procesos térmicos","Gas seco de importación_PT","Ingrese el consumo mensual de gas en m3","m3",{"$f":"'Ecuaciones y FE'!AF108","v":{"$error":"#N/A"}},{"$f":"'Ecuaciones y FE'!W108","v":{"$error":"#N/A"}},{"$f":"'Ecuaciones y FE'!X108","v":{"$error":"#N/A"}},{"$f":"'Ecuaciones y FE'!Y108","v":{"$error":"#N/A"}}]
["Ec37","Energía","Energía térmica","Procesos térmicos","Gasóleo_PT","Ingrese el consumo mensual de gasóleo en m3","m3",{"$f":"'Ecuaciones y FE'!AF109","v":{"$error":"#N/A"}},{"$f":"'Ecuaciones y FE'!W109","v":{"$error":"#N/A"}},{"$f":"'Ecuaciones y FE'!X109","v":{"$error":"#N/A"}},{"$f":"'Ecuaciones y FE'!Y109","v":{"$error":"#N/A"}}]
["Ec38","Energía","Energía térmica","Procesos térmicos","Gasolinas naturales_PT","Ingrese el consumo mensual de gasolina en litros","l",{"$f":"'Ecuaciones y FE'!AF110","v":{"$error":"#N/A"}},{"$f":"'Ecuaciones y FE'!W110","v":{"$error":"#N/A"}},{"$f":"'Ecuaciones y FE'!X110","v":{"$error":"#N/A"}},{"$f":"'Ecuaciones y FE'!Y110","v":{"$error":"#N/A"}}]
["Ec39","Energía","Energía térmica","Procesos térmicos","Gasolinas y naftas_PT","Ingrese el consumo mensual de gasolina en litros","l",{"$f":"'Ecuaciones y FE'!AF111","v":{"$error":"#N/A"}},{"$f":"'Ecuaciones y FE'!W111","v":{"$error":"#N/A"}},{"$f":"'Ecuaciones y FE'!X111","v":{"$error":"#N/A"}},{"$f":"'Ecuaciones y FE'!Y111","v":{"$error":"#N/A"}}]
["Ec40","Energía","Energía térmica","Procesos térmicos","Hidrógeno_PT","Ingrese la cantidad de combustible alternativo consumido al mes en toneladas","t",{"$f":"'Ecuaciones y FE'!AF112","v":{"$error":"#N/A"}},{"$f":"'Ecuaciones y FE'!W112","v":{"$error":"#N/A"}},{"$f":"'Ecuaciones y FE'!X112","v":{"$error":"#N/A"}},{"$f":"'Ecuaciones y FE'!Y112","v":{"$error":"#N/A"}}]
["Ec41","Energía","Energía térmica","Procesos térmicos","Lana y seda_PT","Ingrese el consumo mensual de lana y seda en toneladas","t",{"$f":"'Ecuaciones y FE'!AF113","v":{"$error":"#N/A"}},{"$f":"'Ecuaciones y FE'!W113","v":{"$error":"#N/A"}},{"$f":"'Ecuaciones y FE'!X113","v":{"$error":"#N/A"}},{"$f":"'Ecuaciones y FE'!Y113","v":{"$error":"#N/A"}}]
["Ec42","Energía","Energía térmica","Procesos térmicos","Leña_PT","Ingrese el consumo mensual de leña en toneladas","t",{"$f":"'Ecuaciones y FE'!AF114","v":{"$error":"#N/A"}},{"$f":"'Ecuaciones y FE'!W114","v":{"$error":"#N/A"}},{"$f":"'Ecuaciones y FE'!X114","v":{"$error":"#N/A"}},{"$f":"'Ecuaciones y FE'!Y114","v":{"$error":"#N/A"}}]
["Ec43","Energía","Energía térmica","Procesos térmicos","Licor negro_PT","Ingrese el consumo mensual de licor negro en toneladas","t",{"$f":"'Ecuaciones y FE'!AF115","v":{"$error":"#N/A"}},{"$f":"'Ecuaciones y FE'!W115","v":{"$error":"#N/A"}},{"$f":"'Ecuaciones y FE'!X115","v":{"$error":"#N/A"}},{"$f":"'Ecuaciones y FE'!Y115","v":{"$error":"#N/A"}}]
["Ec44","Energía","Energía térmica","Procesos térmicos","Lubricantes_PT","Ingrese el consumo mensual de lubricantes en litros","l",{"$f":"'Ecuaciones y FE'!AF116","v":{"$error":"#N/A"}},{"$f":"'Ecuaciones y FE'!W116","v":{"$error":"#N/A"}},{"$f":"'Ecuaciones y FE'!X116","v":{"$error":"#N/A"}},{"$f":"'Ecuaciones y FE'!Y116","v":{"$error":"#N/A"}}]
["Ec45","Energía","Energía térmica","Procesos térmicos","Madera  (20% de humedad)_PT","Ingrese la cantidad de combustible alternativo consumido al mes en toneladas","t",{"$f":"'Ecuaciones y FE'!AF117","v":{"$error":"#N/A"}},{"$f":"'Ecuaciones y FE'!W117","v":{"$error":"#N/A"}},{"$f":"'Ecuaciones y FE'!X117","v":{"$error":"#N/A"}},{"$f":"'Ecuaciones y FE'!Y117","v":{"$error":"#N/A"}}]
["Ec46","Energía","Energía térmica","Procesos térmicos","Madera en astillas/pellets_PT","Ingrese la cantidad de combustible alternativo consumido al mes en toneladas","t",{"$f":"'Ecuaciones y FE'!AF118","v":{"$error":"#N/A"}},{"$f":"'Ecuaciones y FE'!W118","v":{"$error":"#N/A"}},{"$f":"'Ecuaciones y FE'!X118","v":{"$error":"#N/A"}},{"$f":"'Ecuaciones y FE'!Y118","v":{"$error":"#N/A"}}]
["Ec47","Energía","Energía térmica","Procesos térmicos","Mezcla de parafinas_PT","Ingrese la cantidad de combustible alternativo consumido al mes en toneladas","t",{"$f":"'Ecuaciones y FE'!AF119","v":{"$error":"#N/A"}},{"$f":"'Ecuaciones y FE'!W119","v":{"$error":"#N/A"}},{"$f":"'Ecuaciones y FE'!X119","v":{"$error":"#N/A"}},{"$f":"'Ecuaciones y FE'!Y119","v":{"$error":"#N/A"}}]
["Ec48","Energía","Energía térmica","Procesos térmicos","Paja de arroz_PT","Ingrese la cantidad de combustible alternativo consumido al mes en toneladas","t",{"$f":"'Ecuaciones y FE'!AF120","v":{"$error":"#N/A"}},{"$f":"'Ecuaciones y FE'!W120","v":{"$error":"#N/A"}},{"$f":"'Ecuaciones y FE'!X120","v":{"$error":"#N/A"}},{"$f":"'Ecuaciones y FE'!Y120","v":{"$error":"#N/A"}}]
["Ec49","Energía","Energía térmica","Procesos térmicos","Paneles-fibras-partículas y pedacería de madera_PT","Ingrese la cantidad de combustible alternativo consumido al mes en toneladas","t",{"$f":"'Ecuaciones y FE'!AF121","v":{"$error":"#N/A"}},{"$f":"'Ecuaciones y FE'!W121","v":{"$error":"#N/A"}},{"$f":"'Ecuaciones y FE'!X121","v":{"$error":"#N/A"}},{"$f":"'Ecuaciones y FE'!Y121","v":{"$error":"#N/A"}}]
["Ec50","Energía","Energía térmica","Procesos térmicos","Papel ordinario o kraft_PT","Ingrese la cantidad de combustible alternativo consumido al mes en toneladas","t",{"$f":"'Ecuaciones y FE'!AF122","v":{"$error":"#N/A"}},{"$f":"'Ecuaciones y FE'!W122","v":{"$error":"#N/A"}},{"$f":"'Ecuaciones y FE'!X122","v":{"$error":"#N/A"}},{"$f":"'Ecuaciones y FE'!Y122","v":{"$error":"#N/A"}}]
["Ec51","Energía","Energía térmica","Procesos térmicos","Petróleo crudo (promedio de la producción)_PT","Ingrese el consumo mensual de crudo en litros","l",{"$f":"'Ecuaciones y FE'!AF123","v":{"$error":"#N/A"}},{"$f":"'Ecuaciones y FE'!W123","v":{"$error":"#N/A"}},{"$f":"'Ecuaciones y FE'!X123","v":{"$error":"#N/A"}},{"$f":"'Ecuaciones y FE'!Y123","v":{"$error":"#N/A"}}]
["Ec52","Energía","Energía térmica","Procesos térmicos","Petróleo crudo ligero_PT","Ingrese el consumo mensual de crudo en litros","l",{"$f":"'Ecuaciones y FE'!AF124","v":{"$error":"#N/A"}},{"$f":"'Ecuaciones y FE'!W124","v":{"$error":"#N/A"}},{"$f":"'Ecuaciones y FE'!X124","v":{"$error":"#N/A"}},{"$f":"'Ecuaciones y FE'!Y124","v":{"$error":"#N/A"}}]
["Ec53","Energía","Energía térmica","Procesos térmicos","Petróleo crudo pesado_PT","Ingrese el consumo mensual de crudo en litros","l",{"$f":"'Ecuaciones y FE'!AF125","v":{"$error":"#N/A"}},{"$f":"'Ecuaciones y FE'!W125","v":{"$error":"#N/A"}},{"$f":"'Ecuaciones y FE'!X125","v":{"$error":"#N/A"}},{"$f":"'Ecuaciones y FE'!Y125","v":{"$error":"#N/A"}}]
["Ec54","Energía","Energía térmica","Procesos térmicos","Petróleo crudo superligero_PT","Ingrese el consumo mensual de crudo en litros","l",{"$f":"'Ecuaciones y FE'!AF126","v":{"$error":"#N/A"}},{"$f":"'Ecuaciones y FE'!W126","v":{"$error":"#N/A"}},{"$f":"'Ecuaciones y FE'!X126","v":{"$error":"#N/A"}},{"$f":"'Ecuaciones y FE'!Y126","v":{"$error":"#N/A"}}]
["Ec55","Energía","Energía térmica","Procesos térmicos","Querosenos_PT","Ingrese el consumo mensual de querosenos en litros","l",{"$f":"'Ecuaciones y FE'!AF127","v":{"$error":"#N/A"}},{"$f":"'Ecuaciones y FE'!W127","v":{"$error":"#N/A"}},{"$f":"'Ecuaciones y FE'!X127","v":{"$error":"#N/A"}},{"$f":"'Ecuaciones y FE'!Y127","v":{"$error":"#N/A"}}]
["Ec56","Energía","Energía térmica","Procesos térmicos","Turba (35 % de humedad)_PT","Ingrese la cantidad de combustible alternativo consumido al mes en toneladas","t",{"$f":"'Ecuaciones y FE'!AF128","v":{"$error":"#N/A"}},{"$f":"'Ecuaciones y FE'!W128","v":{"$error":"#N/A"}},{"$f":"'Ecuaciones y FE'!X128","v":{"$error":"#N/A"}},{"$f":"'Ecuaciones y FE'!Y128","v":{"$error":"#N/A"}}]
["Ec57","Energía","Energía térmica","Procesos térmicos","Turbosina_PT","Ingrese el consumo mensual de turbosina en litros","l",{"$f":"'Ecuaciones y FE'!AF129","v":{"$error":"#N/A"}},{"$f":"'Ecuaciones y FE'!W129","v":{"$error":"#N/A"}},{"$f":"'Ecuaciones y FE'!X129","v":{"$error":"#N/A"}},{"$f":"'Ecuaciones y FE'!Y129","v":{"$error":"#N/A"}}]
["Ed1","Energía","Energía_eléctrica","Consumo_energía_eléctrica","Consumo_energía_eléctrica","Ingrese la electricidad consumida al mes en MWh - NOTA: el Factor de Emisión empleado es 0.435 t CO2 / MWh (mes 2022)","MWh",{"$f":"'Ecuaciones y FE'!$AF$6","v":{"$error":"#N/A"}}]
["Ia01","Industrial","Industria_Química","Productos_químicos_básicos","Amoníaco","Ingrese la cantidad de amoníaco producido al mes en toneladas","t",{"$f":"'Ecuaciones y FE'!$AF179","v":{"$error":"#N/A"}},{"$f":"'Ecuaciones y FE'!$W179","v":{"$error":"#N/A"}},{"$f":"'Ecuaciones y FE'!$X179","v":0},{"$f":"'Ecuaciones y FE'!$Y179","v":0}]
["Ia02","Industrial","Industria_Química","Productos_químicos_básicos","Ácido Nítrico","Ingrese la cantidad de ácido nítrico producido al mes en toneladas","t",{"$f":"'Ecuaciones y FE'!$AF180","v":{"$error":"#N/A"}},{"$f":"'Ecuaciones y FE'!$W180","v":0},{"$f":"'Ecuaciones y FE'!$X180","v":0},{"$f":"'Ecuaciones y FE'!$Y180","v":{"$error":"#N/A"}}]
["Ia03","Industrial","Industria_Química","Productos_químicos_básicos","Ácido Adípico","Ingrese la cantidad de ácido adípico producido al mes en toneladas","t",{"$f":"'Ecuaciones y FE'!$AF181","v":{"$error":"#N/A"}},{"$f":"'Ecuaciones y FE'!$W181","v":0},{"$f":"'Ecuaciones y FE'!$X181","v":0},{"$f":"'Ecuaciones y FE'!$Y181","v":{"$error":"#N/A"}}]
["Ia04","Industrial","Industria_Química","Productos_químicos_básicos","Carburo de Silicio","Ingrese la cantidad de carburo de silicio producido al mes en toneladas","t",{"$f":"'Ecuaciones y FE'!$AF183","v":{"$error":"#N/A"}},{"$f":"'Ecuaciones y FE'!$W183","v":{"$error":"#N/A"}},{"$f":"'Ecuaciones y FE'!$X183","v":{"$error":"#N/A"}},{"$f":"'Ecuaciones y FE'!$Y183","v":0}]
["Ia05","Industrial","Industria_Química","Productos_químicos_básicos","Carburo de Calcio","Ingrese la cantidad de carburo de calcio producido al mes en toneladas","t",{"$f":"'Ecuaciones y FE'!$AF184","v":{"$error":"#N/A"}},{"$f":"'Ecuaciones y FE'!$W184","v":{"$error":"#N/A"}},{"$f":"'Ecuaciones y FE'!$X184","v":"NA"},{"$f":"'Ecuaciones y FE'!$Y184","v":0}]
["Ia06","Industrial","Industria_Química","Resinas_y_hules_sintéticos","Ia6. Únicamente reporta consumo energético - Energía y Transporte","No ingrese información, remítase al sector \"Energía\" y \"Transporte\"","NA",{"$f":"'Ecuaciones y FE'!$AF185","v":0}]
["Ia07","Industrial","Industria_Química","Fertilizantes_pesticidas_y_agroquímicos","Ia7. Únicamente reporta consumo energético - Energía y Transporte","No ingrese información, remítase al sector \"Energía\" y \"Transporte\"","NA",{"$f":"'Ecuaciones y FE'!$AF186","v":0}]
["Ia08","Industrial","Industria_Química","Productos_farmacéuticos","Ia8. Únicamente reporta consumo energético - Energía y Transporte","No ingrese información, remítase al sector \"Energía\" y \"Transporte\"","NA",{"$f":"'Ecuaciones y FE'!$AF187","v":0}]
["Ia09","Industrial","Industria_Química","Pinturas_recubrimientos_y_adhesivos","Ia9. Únicamente reporta consumo energético - Energía y Transporte","No ingrese información, remítase al sector \"Energía\" y \"Transporte\"","NA",{"$f":"'Ecuaciones y FE'!$AF188","v":0}]
["Ia10","Industrial","Industria_Química","Jabones_limpiadores_y_preparaciones_de_tocador","Ia10. Únicamente reporta consumo energético - Energía y Transporte","No ingrese información, remítase al sector \"Energía\" y \"Transporte\"","NA",{"$f":"'Ecuaciones y FE'!$AF189","v":0}]
["Ia11","Industrial","Industria_Química","Productos_de_plástico","Ia11. Únicamente reporta consumo energético - Energía y Transporte","No ingrese información, remítase al sector \"Energía\" y \"Transporte\"","NA",{"$f":"'Ecuaciones y FE'!$AF190","v":0}]
["Ia12","Industrial","Industria_Química","Productos_de_hule","Ia12. Únicamente reporta consumo energético - Energía y Transporte","No ingrese información, remítase al sector \"Energía\" y \"Transporte\"","NA",{"$f":"'Ecuaciones y FE'!$AF191","v":0}]
["Ic1","Industrial","Industria_Metalúrgica","Aluminio","Ánodos precocidos - CWPB","Ingrese la cantidad de aluminio producido al mes en toneladas","t",{"$f":"'Ecuaciones y FE'!$AF228","v":{"$error":"#N/A"}},{"$f":"'Ecuaciones y FE'!$W228","v":{"$error":"#N/A"}},{"$f":"'Ecuaciones y FE'!$X228","v":0},{"$f":"'Ecuaciones y FE'!$Y228","v":0}]
["Ic10","Industrial","Industria_Metalúrgica","Zinc","Waelz Kiln","Ingrese la cantidad de zinc producido al mes en toneladas","t",{"$f":"'Ecuaciones y FE'!$AF235","v":{"$error":"#N/A"}},{"$f":"'Ecuaciones y FE'!W235","v":{"$error":"#N/A"}},{"$f":"'Ecuaciones y FE'!X235","v":0},{"$f":"'Ecuaciones y FE'!Y235","v":0}]
["Ic11","Industrial","Industria_Metalúrgica","Zinc","Pirometalúrgico (Imperial Smelting Furnace) ","Ingrese la cantidad de zinc producido al mes en toneladas","t",{"$f":"'Ecuaciones y FE'!$AF236","v":{"$error":"#N/A"}},{"$f":"'Ecuaciones y FE'!W236","v":{"$error":"#N/A"}},{"$f":"'Ecuaciones y FE'!X236","v":0},{"$f":"'Ecuaciones y FE'!Y236","v":0}]
["Ic12","Industrial","Industria_Metalúrgica","Magnesio","Dolomita","Ingrese la cantidad de magnesio producido al mes en toneladas","t",{"$f":"'Ecuaciones y FE'!$AF237","v":{"$error":"#N/A"}},{"$f":"'Ecuaciones y FE'!W237","v":{"$error":"#N/A"}},{"$f":"'Ecuaciones y FE'!X237","v":0},{"$f":"'Ecuaciones y FE'!Y237","v":0}]
["Ic13","Industrial","Industria_Metalúrgica","Magnesio","Magnesita I.Metalúrgica","Ingrese la cantidad de magnesio producido al mes en toneladas","t",{"$f":"'Ecuaciones y FE'!$AF238","v":{"$error":"#N/A"}},{"$f":"'Ecuaciones y FE'!W238","v":{"$error":"#N/A"}},{"$f":"'Ecuaciones y FE'!X238","v":0},{"$f":"'Ecuaciones y FE'!Y238","v":0}]
["Ic14","Industrial","Industria_Metalúrgica","Magnesio","Todos los procesos de moldeo","Ingrese la cantidad de magnesio producido al mes en toneladas","t",{"$f":"'Ecuaciones y FE'!$AF239","v":{"$error":"#N/A"}},{"$f":"'Ecuaciones y FE'!W239","v":0},{"$f":"'Ecuaciones y FE'!X239","v":0},{"$f":"'Ecuaciones y FE'!Y239","v":0}]
["Ic15","Industrial","Industria_Metalúrgica","Fundición_piezas_metálicas","Ic15. Únicamente reporta consumo energético - Energía y Transporte","No ingrese información, remítase al sector \"Energía\" y \"Transporte\"","NA",{"$f":"'Ecuaciones y FE'!$AF240","v":0}]
["Ic2","Industrial","Industria_Metalúrgica","Aluminio","Ánodos precocidos - SWPB","Ingrese la cantidad de aluminio producido al mes en toneladas","t",{"$f":"'Ecuaciones y FE'!$AF229","v":{"$error":"#N/A"}},{"$f":"'Ecuaciones y FE'!W229","v":{"$error":"#N/A"}},{"$f":"'Ecuaciones y FE'!X229","v":0},{"$f":"'Ecuaciones y FE'!Y229","v":0}]
["Ic3","Industrial","Industria_Metalúrgica","Aluminio","Søderberg - VSS","Ingrese la cantidad de aluminio producido al mes en toneladas","t",{"$f":"'Ecuaciones y FE'!$AF230","v":{"$error":"#N/A"}},{"$f":"'Ecuaciones y FE'!W230","v":{"$error":"#N/A"}},{"$f":"'Ecuaciones y FE'!X230","v":0},{"$f":"'Ecuaciones y FE'!Y230","v":0}]
["Ic4","Industrial","Industria_Metalúrgica","Aluminio","Søderberg - HSS","Ingrese la cantidad de aluminio producido al mes en toneladas","t",{"$f":"'Ecuaciones y FE'!$AF231","v":{"$error":"#N/A"}},{"$f":"'Ecuaciones y FE'!W231","v":{"$error":"#N/A"}},{"$f":"'Ecuaciones y FE'!X231","v":0},{"$f":"'Ecuaciones y FE'!Y231","v":0}]
["Ic7","Industrial","Industria_Metalúrgica","Plomo","Producción en hornos\nImperial Smelt Furnace (ISF)","Ingrese la cantidad de plomo producido al mes en toneladas","t",{"$f":"'Ecuaciones y FE'!$AF232","v":{"$error":"#N/A"}},{"$f":"'Ecuaciones y FE'!W232","v":{"$error":"#N/A"}},{"$f":"'Ecuaciones y FE'!X232","v":0},{"$f":"'Ecuaciones y FE'!Y232","v":0}]
["Ic8","Industrial","Industria_Metalúrgica","Plomo","Producción por fundición directa (DS)","Ingrese la cantidad de plomo producido al mes en toneladas","t",{"$f":"'Ecuaciones y FE'!$AF233","v":{"$error":"#N/A"}},{"$f":"'Ecuaciones y FE'!W233","v":{"$error":"#N/A"}},{"$f":"'Ecuaciones y FE'!X233","v":0},{"$f":"'Ecuaciones y FE'!Y233","v":0}]
["Ic9","Industrial","Industria_Metalúrgica","Plomo","Por tratamiento de materias primas secundarias","Ingrese la cantidad de plomo producido al mes en toneladas","t",{"$f":"'Ecuaciones y FE'!$AF234","v":{"$error":"#N/A"}},{"$f":"'Ecuaciones y FE'!W234","v":{"$error":"#N/A"}},{"$f":"'Ecuaciones y FE'!X234","v":0},{"$f":"'Ecuaciones y FE'!Y234","v":0}]
["Id1","Industrial","Industria_MetalMecánica","Productos_forjados_y_troquelados","Id1. Únicamente reporta consumo energético - Energía y Transporte","No ingrese información, remítase al sector \"Energía\" y \"Transporte\"","NA",{"$f":"'Ecuaciones y FE'!$AF242","v":0}]
["Id2","Industrial","Industria_MetalMecánica","Calderas_tanques_y_envases_metálicos","Id2. Únicamente reporta consumo energético - Energía y Transporte","No ingrese información, remítase al sector \"Energía\" y \"Transporte\"","NA",{"$f":"'Ecuaciones y FE'!$AF243","v":0}]
["Id3","Industrial","Industria_MetalMecánica","Herrajes_y_cerraduras","Id3. Únicamente reporta consumo energético - Energía y Transporte","No ingrese información, remítase al sector \"Energía\" y \"Transporte\"","NA",{"$f":"'Ecuaciones y FE'!$AF244","v":0}]
["Id4","Industrial","Industria_MetalMecánica","Maquinado_piezas_metálicas_y_fabricación_tornillos","Id4. Únicamente reporta consumo energético - Energía y Transporte","No ingrese información, remítase al sector \"Energía\" y \"Transporte\"","NA",{"$f":"'Ecuaciones y FE'!$AF245","v":0}]
["Id5","Industrial","Industria_MetalMecánica","Otros_productos_metálicos","Id5. Únicamente reporta consumo energético - Energía y Transporte","No ingrese información, remítase al sector \"Energía\" y \"Transporte\"","NA",{"$f":"'Ecuaciones y FE'!$AF246","v":0}]
["Id6","Industrial","Industria_MetalMecánica","Maquinaria_y_equipo_para_comercio_y_servicios","Id6. Únicamente reporta consumo energético - Energía y Transporte","No ingrese información, remítase al sector \"Energía\" y \"Transporte\"","NA",{"$f":"'Ecuaciones y FE'!$AF247","v":0}]
["Ie1","Industrial","Industria_Minera","Minerales_metálicos","Ie1. Únicamente reporta consumo energético - Energía y Transporte","No ingrese información, remítase al sector \"Energía\" y \"Transporte\"","NA",{"$f":"'Ecuaciones y FE'!$AF249","v":0}]
["Ie10","Industrial","Industria_Minera","Minerales_No_metálicos","Carbonato de sodio o ceniza de sosa","Ingrese la cantidad de carbonato de sodio producido al mes en toneladas","t",{"$f":"'Ecuaciones y FE'!$AF259","v":{"$error":"#N/A"}},{"$f":"'Ecuaciones y FE'!W259","v":{"$error":"#N/A"}},{"$f":"'Ecuaciones y FE'!X259","v":0},{"$f":"'Ecuaciones y FE'!Y259","v":0}]
["Ie11","Industrial","Industria_Minera","Carbón_mineral","Ie11. Únicamente reporta consumo energético - Energía y Transporte","No ingrese información, remítase al sector \"Energía\" y \"Transporte\"","NA",{"$f":"'Ecuaciones y FE'!$AF260","v":0}]
["Ie12","Industrial","Industria_Minera","Servicios_relacionados_con_minería","Ie12. Únicamente reporta consumo energético - Energía y Transporte","No ingrese información, remítase al sector \"Energía\" y \"Transporte\"","NA",{"$f":"'Ecuaciones y FE'!$AF261","v":0}]
["Ie2","Industrial","Industria_Minera","Minerales_No_metálicos","Trona","Ingrese la cantidad de trona producida al mes en toneladas","t",{"$f":"'Ecuaciones y FE'!$AF251","v":{"$error":"#N/A"}},{"$f":"'Ecuaciones y FE'!W251","v":{"$error":"#N/A"}},{"$f":"'Ecuaciones y FE'!X251","v":0},{"$f":"'Ecuaciones y FE'!Y251","v":0}]
["Ie3","Industrial","Industria_Minera","Minerales_No_metálicos","Ceniza de sosa","Ingrese la cantidad de carbonato de sodio producido al mes en toneladas","t",{"$f":"'Ecuaciones y FE'!$AF252","v":{"$error":"#N/A"}},{"$f":"'Ecuaciones y FE'!W252","v":{"$error":"#N/A"}},{"$f":"'Ecuaciones y FE'!X252","v":0},{"$f":"'Ecuaciones y FE'!Y252","v":0}]
["Ie4","Industrial","Industria_Minera","Minerales_No_metálicos","Carbonato de calcio","Ingrese la cantidad de carbonato de calcio producido al mes en toneladas","t",{"$f":"'Ecuaciones y FE'!$AF253","v":{"$error":"#N/A"}},{"$f":"'Ecuaciones y FE'!W253","v":{"$error":"#N/A"}},{"$f":"'Ecuaciones y FE'!X253","v":0},{"$f":"'Ecuaciones y FE'!Y253","v":0}]
["Ie5","Industrial","Industria_Minera","Minerales_No_metálicos","Magnesita I.Minera","Ingrese la cantidad de magnesita empleada al mes en toneladas","t",{"$f":"'Ecuaciones y FE'!$AF254","v":{"$error":"#N/A"}},{"$f":"'Ecuaciones y FE'!W254","v":{"$error":"#N/A"}},{"$f":"'Ecuaciones y FE'!X254","v":0},{"$f":"'Ecuaciones y FE'!Y254","v":0}]
["Ie6","Industrial","Industria_Minera","Minerales_No_metálicos","Dolomita","Ingrese la cantidad de dolomita empleada al mes en toneladas","t",{"$f":"'Ecuaciones y FE'!$AF255","v":{"$error":"#N/A"}},{"$f":"'Ecuaciones y FE'!W255","v":{"$error":"#N/A"}},{"$f":"'Ecuaciones y FE'!X255","v":0},{"$f":"'Ecuaciones y FE'!Y255","v":0}]
["Ie7","Industrial","Industria_Minera","Minerales_No_metálicos","Siderita","Ingrese la cantidad de siderita empleada al mes en toneladas","t",{"$f":"'Ecuaciones y FE'!$AF256","v":{"$error":"#N/A"}},{"$f":"'Ecuaciones y FE'!W256","v":{"$error":"#N/A"}},{"$f":"'Ecuaciones y FE'!X256","v":0},{"$f":"'Ecuaciones y FE'!Y256","v":0}]
["Ie8","Industrial","Industria_Minera","Minerales_No_metálicos","Ankerita (o espato)","Ingrese la cantidad de ankerita empleada al mes en toneladas","t",{"$f":"'Ecuaciones y FE'!$AF257","v":{"$error":"#N/A"}},{"$f":"'Ecuaciones y FE'!W257","v":{"$error":"#N/A"}},{"$f":"'Ecuaciones y FE'!X257","v":0},{"$f":"'Ecuaciones y FE'!Y257","v":0}]
["Ie9","Industrial","Industria_Minera","Minerales_No_metálicos","Rhodochrosita","Ingrese la cantidad de rhodochrosita empleada al mes en toneladas","t",{"$f":"'Ecuaciones y FE'!$AF258","v":{"$error":"#N/A"}},{"$f":"'Ecuaciones y FE'!W258","v":{"$error":"#N/A"}},{"$f":"'Ecuaciones y FE'!X258","v":0},{"$f":"'Ecuaciones y FE'!Y258","v":0}]
["If1","Industrial","Industria_Automotriz","Fabricación_automóviles_y_camiones","If1. Únicamente reporta consumo energético - Energía y Transporte","No ingrese información, remítase al sector \"Energía\" y \"Transporte\"","NA",{"$f":"'Ecuaciones y FE'!$AF263","v":0}]
["If2","Industrial","Industria_Automotriz","Fabricación_carrocerías_y_remolques","If2. Únicamente reporta consumo energético - Energía y Transporte","No ingrese información, remítase al sector \"Energía\" y \"Transporte\"","NA",{"$f":"'Ecuaciones y FE'!$AF264","v":0}]
["If3","Industrial","Industria_Automotriz","Fabricación_partes_automotores","If3. Únicamente reporta consumo energético - Energía y Transporte","No ingrese información, remítase al sector \"Energía\" y \"Transporte\"","NA",{"$f":"'Ecuaciones y FE'!$AF265","v":0}]
["If4","Industrial","Industria_Automotriz","Fabricación_equipo_aeroespacial","If4. Únicamente reporta consumo energético - Energía y Transporte","No ingrese información, remítase al sector \"Energía\" y \"Transporte\"","NA",{"$f":"'Ecuaciones y FE'!$AF266","v":0}]
["If5","Industrial","Industria_Automotriz","Fabricación_motores_turbinas_y_transmisiones","If5. Únicamente reporta consumo energético - Energía y Transporte","No ingrese información, remítase al sector \"Energía\" y \"Transporte\"","NA",{"$f":"'Ecuaciones y FE'!$AF267","v":0}]
["Ig1","Industrial","Industria_Celulosa_y_Papel","Fabricación_pulpa_papel_y_cartón","Únicamente reporta consumo energético - Energía y Transporte","No ingrese información, remítase al sector \"Energía\" y \"Transporte\"","NA",{"$f":"'Ecuaciones y FE'!$AF$269","v":0}]
["Ig2","Industrial","Industria_Celulosa_y_Papel","Productos_de_cartón_y_papel","Únicamente reporta consumo energético - Energía y Transporte","No ingrese información, remítase al sector \"Energía\" y \"Transporte\"","NA",{"$f":"'Ecuaciones y FE'!$AF$270","v":0}]
["Ih1","Industrial","Industria_Artes_Gráficas","Impresión_en_papel","Ih1. Únicamente reporta consumo energético - Energía y Transporte","No ingrese información, remítase al sector \"Energía\" y \"Transporte\"","NA",{"$f":"'Ecuaciones y FE'!AF272","v":0}]
["Ih2","Industrial","Industria_Artes_Gráficas","Encuadernación","Ih2. Únicamente reporta consumo energético - Energía y Transporte","No ingrese información, remítase al sector \"Energía\" y \"Transporte\"","NA",{"$f":"'Ecuaciones y FE'!AF273","v":0}]
["Ih3","Industrial","Industria_Artes_Gráficas","Impresión_de_textiles","Ih3. Únicamente reporta consumo energético - Energía y Transporte","No ingrese información, remítase al sector \"Energía\" y \"Transporte\"","NA",{"$f":"'Ecuaciones y FE'!AF274","v":0}]
["Ih4","Industrial","Industria_Artes_Gráficas","Elaboración_de_placas_clichés_y_grabados","Ih4. Únicamente reporta consumo energético - Energía y Transporte","No ingrese información, remítase al sector \"Energía\" y \"Transporte\"","NA",{"$f":"'Ecuaciones y FE'!AF275","v":0}]
["Ii1","Industrial","Industria_Petroquímica","Refinación_petróleo","Únicamente reporta consumo energético - Energía y Transporte","No ingrese información, remítase al sector \"Energía\" y \"Transporte\"","NA",{"$f":"'Ecuaciones y FE'!AF277","v":0}]
["Ii10","Industrial","Industria_Petroquímica","Metanol","Vapor convencional, proceso de baja presión de Lurgi","Ingrese la cantidad de metanol producido al mes en toneladas","t",{"$f":"'Ecuaciones y FE'!AF282","v":{"$error":"#N/A"}},{"$f":"'Ecuaciones y FE'!W282","v":{"$error":"#N/A"}},{"$f":"'Ecuaciones y FE'!X282","v":{"$error":"#N/A"}},{"$f":"'Ecuaciones y FE'!Y282","v":0}]
["Ii11","Industrial","Industria_Petroquímica","Metanol","Vapor combinado, proceso combinado de Lurgi ","Ingrese la cantidad de metanol producido al mes en toneladas","t",{"$f":"'Ecuaciones y FE'!AF283","v":{"$error":"#N/A"}},{"$f":"'Ecuaciones y FE'!W283","v":{"$error":"#N/A"}},{"$f":"'Ecuaciones y FE'!X283","v":{"$error":"#N/A"}},{"$f":"'Ecuaciones y FE'!Y283","v":0}]
["Ii12","Industrial","Industria_Petroquímica","Metanol","Vapor convencional, proceso Mega Metanol de Lurgi","Ingrese la cantidad de metanol producido al mes en toneladas","t",{"$f":"'Ecuaciones y FE'!AF284","v":{"$error":"#N/A"}},{"$f":"'Ecuaciones y FE'!W284","v":{"$error":"#N/A"}},{"$f":"'Ecuaciones y FE'!X284","v":{"$error":"#N/A"}},{"$f":"'Ecuaciones y FE'!Y284","v":0}]
["Ii13","Industrial","Industria_Petroquímica","Metanol","Proceso de oxidación parcial","Ingrese la cantidad de metanol producido al mes en toneladas","t",{"$f":"'Ecuaciones y FE'!AF285","v":{"$error":"#N/A"}},{"$f":"'Ecuaciones y FE'!W285","v":{"$error":"#N/A"}},{"$f":"'Ecuaciones y FE'!X285","v":{"$error":"#N/A"}},{"$f":"'Ecuaciones y FE'!Y285","v":0}]
["Ii14","Industrial","Industria_Petroquímica","Etileno","Etileno (Uso total del proceso y de la alimentación energética)","Ingrese la cantidad de etileno producido al mes en toneladas","t",{"$f":"'Ecuaciones y FE'!AF286","v":{"$error":"#N/A"}},{"$f":"'Ecuaciones y FE'!W286","v":{"$error":"#N/A"}},{"$f":"'Ecuaciones y FE'!X286","v":{"$error":"#N/A"}},{"$f":"'Ecuaciones y FE'!Y286","v":0}]
["Ii15","Industrial","Industria_Petroquímica","Etileno","Uso de la alimentación al proceso","Ingrese la cantidad de etileno producido al mes en toneladas","t",{"$f":"'Ecuaciones y FE'!AF287","v":{"$error":"#N/A"}},{"$f":"'Ecuaciones y FE'!W287","v":{"$error":"#N/A"}},{"$f":"'Ecuaciones y FE'!X287","v":{"$error":"#N/A"}},{"$f":"'Ecuaciones y FE'!Y287","v":0}]
["Ii16","Industrial","Industria_Petroquímica","Etileno","Uso de combustible complementario (alimentación energética)","Ingrese la cantidad de etileno producido al mes en toneladas","t",{"$f":"'Ecuaciones y FE'!AF288","v":{"$error":"#N/A"}},{"$f":"'Ecuaciones y FE'!W288","v":{"$error":"#N/A"}},{"$f":"'Ecuaciones y FE'!X288","v":{"$error":"#N/A"}},{"$f":"'Ecuaciones y FE'!Y288","v":0}]
["Ii17","Industrial","Industria_Petroquímica","Dicloruro_de_etileno","Proceso de cloración directa DE","Ingrese la cantidad de dicloruro de etileno producido al mes en toneladas","t",{"$f":"'Ecuaciones y FE'!AF289","v":{"$error":"#N/A"}},{"$f":"'Ecuaciones y FE'!W289","v":{"$error":"#N/A"}},{"$f":"'Ecuaciones y FE'!X289","v":{"$error":"#N/A"}},{"$f":"'Ecuaciones y FE'!Y289","v":0}]
["Ii18","Industrial","Industria_Petroquímica","Dicloruro_de_etileno","Proceso de oxicloración DE","Ingrese la cantidad de dicloruro de etileno producido al mes en toneladas","t",{"$f":"'Ecuaciones y FE'!AF290","v":{"$error":"#N/A"}},{"$f":"'Ecuaciones y FE'!W290","v":{"$error":"#N/A"}},{"$f":"'Ecuaciones y FE'!X290","v":{"$error":"#N/A"}},{"$f":"'Ecuaciones y FE'!Y290","v":0}]
["Ii19","Industrial","Industria_Petroquímica","Dicloruro_de_etileno","Proceso equilibrado [por defecto] DE","Ingrese la cantidad de dicloruro de etileno producido al mes en toneladas","t",{"$f":"'Ecuaciones y FE'!AF291","v":{"$error":"#N/A"}},{"$f":"'Ecuaciones y FE'!W291","v":{"$error":"#N/A"}},{"$f":"'Ecuaciones y FE'!X291","v":{"$error":"#N/A"}},{"$f":"'Ecuaciones y FE'!Y291","v":0}]
["Ii20","Industrial","Industria_Petroquímica","Cloruro_de_vinilo","Proceso de cloración directa CV","Ingrese la cantidad de cloruro de vinilo producido al mes en toneladas","t",{"$f":"'Ecuaciones y FE'!AF292","v":{"$error":"#N/A"}},{"$f":"'Ecuaciones y FE'!W292","v":{"$error":"#N/A"}},{"$f":"'Ecuaciones y FE'!X292","v":{"$error":"#N/A"}},{"$f":"'Ecuaciones y FE'!Y292","v":0}]
["Ii21","Industrial","Industria_Petroquímica","Cloruro_de_vinilo","Proceso de oxicloración CV","Ingrese la cantidad de cloruro de vinilo producido al mes en toneladas","t",{"$f":"'Ecuaciones y FE'!AF293","v":{"$error":"#N/A"}},{"$f":"'Ecuaciones y FE'!W293","v":{"$error":"#N/A"}},{"$f":"'Ecuaciones y FE'!X293","v":{"$error":"#N/A"}},{"$f":"'Ecuaciones y FE'!Y293","v":0}]
["Ii22","Industrial","Industria_Petroquímica","Cloruro_de_vinilo","Proceso equilibrado [por defecto] CV","Ingrese la cantidad de cloruro de vinilo producido al mes en toneladas","t",{"$f":"'Ecuaciones y FE'!AF294","v":{"$error":"#N/A"}},{"$f":"'Ecuaciones y FE'!W294","v":{"$error":"#N/A"}},{"$f":"'Ecuaciones y FE'!X294","v":{"$error":"#N/A"}},{"$f":"'Ecuaciones y FE'!Y294","v":0}]
["Ii23","Industrial","Industria_Petroquímica","Acrilonitrilo","Productos secundarios quemados para recuperación de energía y/o quemados en la antorcha (por defecto)","Ingrese la cantidad de acrilonitrilo producido al mes en toneladas","t",{"$f":"'Ecuaciones y FE'!AF295","v":{"$error":"#N/A"}},{"$f":"'Ecuaciones y FE'!W295","v":{"$error":"#N/A"}},{"$f":"'Ecuaciones y FE'!X295","v":{"$error":"#N/A"}},{"$f":"'Ecuaciones y FE'!Y295","v":0}]
["Ii24","Industrial","Industria_Petroquímica","Acrilonitrilo","Acetonitrilo quemado para recuperación de energía y/o quemado en antorcha","Ingrese la cantidad de acrilonitrilo producido al mes en toneladas","t",{"$f":"'Ecuaciones y FE'!AF296","v":{"$error":"#N/A"}},{"$f":"'Ecuaciones y FE'!W296","v":{"$error":"#N/A"}},{"$f":"'Ecuaciones y FE'!X296","v":{"$error":"#N/A"}},{"$f":"'Ecuaciones y FE'!Y296","v":0}]
["Ii25","Industrial","Industria_Petroquímica","Acrilonitrilo","Acetonitrilo y cianuro de hidrógeno recuperado como producto","Ingrese la cantidad de acrilonitrilo producido al mes en toneladas","t",{"$f":"'Ecuaciones y FE'!AF297","v":{"$error":"#N/A"}},{"$f":"'Ecuaciones y FE'!W297","v":{"$error":"#N/A"}},{"$f":"'Ecuaciones y FE'!X297","v":{"$error":"#N/A"}},{"$f":"'Ecuaciones y FE'!Y297","v":0}]
["Ii26","Industrial","Industria_Petroquímica","Óxido_de_etileno","Proceso por aire (proceso por defecto)","Ingrese la cantidad de óxido de etileno producido al mes en toneladas","t",{"$f":"'Ecuaciones y FE'!AF298","v":{"$error":"#N/A"}},{"$f":"'Ecuaciones y FE'!W298","v":{"$error":"#N/A"}},{"$f":"'Ecuaciones y FE'!X298","v":{"$error":"#N/A"}},{"$f":"'Ecuaciones y FE'!Y298","v":0}]
["Ii27","Industrial","Industria_Petroquímica","Óxido_de_etileno","Proceso por oxígeno","Ingrese la cantidad de óxido de etileno producido al mes en toneladas","t",{"$f":"'Ecuaciones y FE'!AF299","v":{"$error":"#N/A"}},{"$f":"'Ecuaciones y FE'!W299","v":{"$error":"#N/A"}},{"$f":"'Ecuaciones y FE'!X299","v":{"$error":"#N/A"}},{"$f":"'Ecuaciones y FE'!Y299","v":0}]
["Ii28","Industrial","Industria_Petroquímica","Negro_de_humo","Proceso del negro de horno (proceso por defecto)","Ingrese la cantidad de negro de humo producido al mes en toneladas","t",{"$f":"'Ecuaciones y FE'!AF300","v":{"$error":"#N/A"}},{"$f":"'Ecuaciones y FE'!W300","v":{"$error":"#N/A"}},{"$f":"'Ecuaciones y FE'!X300","v":{"$error":"#N/A"}},{"$f":"'Ecuaciones y FE'!Y300","v":0}]
["Ii29","Industrial","Industria_Petroquímica","Negro_de_humo","Proceso del negro térmico","Ingrese la cantidad de negro de humo producido al mes en toneladas","t",{"$f":"'Ecuaciones y FE'!AF301","v":{"$error":"#N/A"}},{"$f":"'Ecuaciones y FE'!W301","v":{"$error":"#N/A"}},{"$f":"'Ecuaciones y FE'!X301","v":{"$error":"#N/A"}},{"$f":"'Ecuaciones y FE'!Y301","v":0}]
["Ii3","Industrial","Industria_Petroquímica","Transporte_por_ductos_de_productos","Diesel","Ingrese el consumo mensual de diesel en litros","l",{"$f":"'Ecuaciones y FE'!AF309","v":0},{"$f":"'Ecuaciones y FE'!W309","v":0},{"$f":"'Ecuaciones y FE'!X309","v":0},{"$f":"'Ecuaciones y FE'!Y309","v":0}]
["Ii30","Industrial","Industria_Petroquímica","Negro_de_humo","Proceso del negro de acetileno","Ingrese la cantidad de negro de humo producido al mes en toneladas","t",{"$f":"'Ecuaciones y FE'!AF302","v":{"$error":"#N/A"}},{"$f":"'Ecuaciones y FE'!W302","v":{"$error":"#N/A"}},{"$f":"'Ecuaciones y FE'!X302","v":{"$error":"#N/A"}},{"$f":"'Ecuaciones y FE'!Y302","v":0}]
["Ii31","Industrial","Industria_Petroquímica","Dióxido_de_titanio","Rutilo sintético","Ingrese la cantidad de dióxido de titanio producido al mes en toneladas","t",{"$f":"'Ecuaciones y FE'!AF303","v":{"$error":"#N/A"}},{"$f":"'Ecuaciones y FE'!W303","v":{"$error":"#N/A"}},{"$f":"'Ecuaciones y FE'!X303","v":0},{"$f":"'Ecuaciones y FE'!Y303","v":0}]
["Ii32","Industrial","Industria_Petroquímica","Dióxido_de_titanio","Rutilo dióxido de titanio (vía del cloruro)","Ingrese la cantidad de dióxido de titanio producido al mes en toneladas","t",{"$f":"'Ecuaciones y FE'!AF304","v":{"$error":"#N/A"}},{"$f":"'Ecuaciones y FE'!W304","v":{"$error":"#N/A"}},{"$f":"'Ecuaciones y FE'!X304","v":0},0]
["Ii33","Industrial","Industria_Petroquímica","Caprolactama","Caprolactama","Ingrese la cantidad de captrolactama producida al mes en toneladas","t",{"$f":"'Ecuaciones y FE'!AF305","v":{"$error":"#N/A"}},{"$f":"'Ecuaciones y FE'!W305","v":0},{"$f":"'Ecuaciones y FE'!X305","v":0},{"$f":"'Ecuaciones y FE'!Y305","v":{"$error":"#N/A"}}]
["Ii34","Industrial","Industria_Petroquímica","Caprolactama","Glioxal ","Ingrese la cantidad de glioxal producido al mes en toneladas","t",{"$f":"'Ecuaciones y FE'!AF306","v":{"$error":"#N/A"}},{"$f":"'Ecuaciones y FE'!W306","v":0},{"$f":"'Ecuaciones y FE'!X306","v":0},{"$f":"'Ecuaciones y FE'!Y306","v":{"$error":"#N/A"}}]
["Ii35","Industrial","Industria_Petroquímica","Caprolactama","Ácido glioxílico","Ingrese la cantidad de ácido glioxílico producido al mes en toneladas","t",{"$f":"'Ecuaciones y FE'!AF307","v":{"$error":"#N/A"}},{"$f":"'Ecuaciones y FE'!W307","v":0},{"$f":"'Ecuaciones y FE'!X307","v":0},{"$f":"'Ecuaciones y FE'!Y307","v":{"$error":"#N/A"}}]
["Ii4","Industrial","Industria_Petroquímica","Transporte_por_ductos_de_productos","Combustible para la aviación","Ingrese la cantidad de combustible transportado al mes en miles de m3","miles de m3",{"$f":"'Ecuaciones y FE'!AF310","v":0},{"$f":"'Ecuaciones y FE'!W310","v":0},{"$f":"'Ecuaciones y FE'!X310","v":0},{"$f":"'Ecuaciones y FE'!Y310","v":0}]
["Ii5","Industrial","Industria_Petroquímica","Transporte_por_ductos_de_productos","Queroseno para motor a reacción","Ingrese la cantidad de combustible transportado al mes en miles de m3","miles de m3",{"$f":"'Ecuaciones y FE'!AF311","v":0},{"$f":"'Ecuaciones y FE'!W311","v":0},{"$f":"'Ecuaciones y FE'!X311","v":0},{"$f":"'Ecuaciones y FE'!Y311","v":0}]
["Ii6","Industrial","Industria_Petroquímica","Metanol","Vapor convencional, producción integrada de amoníaco","Ingrese la cantidad de metanol producido al mes en toneladas","t",{"$f":"'Ecuaciones y FE'!AF278","v":{"$error":"#N/A"}},{"$f":"'Ecuaciones y FE'!W278","v":{"$error":"#N/A"}},{"$f":"'Ecuaciones y FE'!X278","v":{"$error":"#N/A"}},{"$f":"'Ecuaciones y FE'!Y278","v":0}]
["Ii7","Industrial","Industria_Petroquímica","Metanol","Vapor convencional, sin unidad de reformado primaria","Ingrese la cantidad de metanol producido al mes en toneladas","t",{"$f":"'Ecuaciones y FE'!AF279","v":{"$error":"#N/A"}},{"$f":"'Ecuaciones y FE'!W279","v":{"$error":"#N/A"}},{"$f":"'Ecuaciones y FE'!X279","v":{"$error":"#N/A"}},{"$f":"'Ecuaciones y FE'!Y279","v":0}]
["Ii8","Industrial","Industria_Petroquímica","Metanol","Vapor convencional, con unidad de reformado primaria","Ingrese la cantidad de metanol producido al mes en toneladas","t",{"$f":"'Ecuaciones y FE'!AF280","v":{"$error":"#N/A"}},{"$f":"'Ecuaciones y FE'!W280","v":{"$error":"#N/A"}},{"$f":"'Ecuaciones y FE'!X280","v":{"$error":"#N/A"}},{"$f":"'Ecuaciones y FE'!Y280","v":0}]
["Ii9","Industrial","Industria_Petroquímica","Metanol","Vapor convencional, proceso convencional de Lurgi","Ingrese la cantidad de metanol producido al mes en toneladas","t",{"$f":"'Ecuaciones y FE'!AF281","v":{"$error":"#N/A"}},{"$f":"'Ecuaciones y FE'!W281","v":{"$error":"#N/A"}},{"$f":"'Ecuaciones y FE'!X281","v":{"$error":"#N/A"}},{"$f":"'Ecuaciones y FE'!Y281","v":0}]
["Ij1","Industrial","Industria_Cemento_y_Cal","Cemento","Clínker","Ingrese la cantidad de clínker producido al mes en toneladas","t",{"$f":"'Ecuaciones y FE'!AF313","v":{"$error":"#N/A"}},{"$f":"'Ecuaciones y FE'!W313","v":{"$error":"#N/A"}},{"$f":"'Ecuaciones y FE'!X313","v":0},{"$f":"'Ecuaciones y FE'!Y313","v":0}]
["Ij2","Industrial","Industria_Cemento_y_Cal","Cal","Cal con fuerte proporción de calcio","Ingrese la cantidad de cal producido al mes en toneladas","t",{"$f":"'Ecuaciones y FE'!AF314","v":{"$error":"#N/A"}},{"$f":"'Ecuaciones y FE'!W314","v":{"$error":"#N/A"}},{"$f":"'Ecuaciones y FE'!X314","v":0},{"$f":"'Ecuaciones y FE'!Y314","v":0}]
["Ij3","Industrial","Industria_Cemento_y_Cal","Cal","Cal de dolomita","Ingrese la cantidad de cal producido al mes en toneladas","t",{"$f":"'Ecuaciones y FE'!AF315","v":{"$error":"#N/A"}},{"$f":"'Ecuaciones y FE'!W315","v":{"$error":"#N/A"}},{"$f":"'Ecuaciones y FE'!X315","v":0},{"$f":"'Ecuaciones y FE'!Y315","v":0}]
["Ij4","Industrial","Industria_Cemento_y_Cal","Cal","Cal hidráulica","Ingrese la cantidad de cal producido al mes en toneladas","t",{"$f":"'Ecuaciones y FE'!AF316","v":{"$error":"#N/A"}},{"$f":"'Ecuaciones y FE'!W316","v":{"$error":"#N/A"}},{"$f":"'Ecuaciones y FE'!X316","v":0},{"$f":"'Ecuaciones y FE'!Y316","v":0}]
["Ik1","Industrial","Industria_Vidrio","Fabricación de vidrio y productos de vidrio","Vidrio","Ingrese la cantidad de vidrio producido al mes en toneladas","t",{"$f":"'Ecuaciones y FE'!AF318","v":{"$error":"#N/A"}},{"$f":"'Ecuaciones y FE'!W318","v":{"$error":"#N/A"}},{"$f":"'Ecuaciones y FE'!X318","v":0},{"$f":"'Ecuaciones y FE'!Y318","v":0}]
["Ik2","Industrial","Industria_Vidrio","Productos_a_base_arcillas_y_minerales_refractarios","Ik2. Únicamente reporta consumo energético - Energía y Transporte","No ingrese información, remítase al sector \"Energía\" y \"Transporte\"","NA",{"$f":"'Ecuaciones y FE'!AF319","v":0}]
["Il1","Industrial","Industria_Electrónica","Equipo_de_comunicación","Il1. Únicamente reporta consumo energético - Energía y Transporte","No ingrese información, remítase al sector \"Energía\" y \"Transporte\"","NA",{"$f":"'Ecuaciones y FE'!AF321","v":0}]
["Il2","Industrial","Industria_Electrónica","Equipo_de_audio_y_video","Pantallas planas a transistores de película delgada (TFT-FPD, del inglés, thin-film-transistor flat panel display)","Multiplique la capacidad mensual de diseño (m2) por la capacidad mensual de producción (%), e ingrese el resultado","m2 x 109",{"$f":"'Ecuaciones y FE'!AF323","v":{"$error":"#N/A"}}]
["Il3","Industrial","Industria_Electrónica","Componentes_electrónicos","Semiconductores","Multiplique la capacidad mensual de diseño (m2) por la capacidad mensual de producción (%), e ingrese el resultado","m2 x 109",{"$f":"'Ecuaciones y FE'!AF322","v":{"$error":"#N/A"}}]
["Il4","Industrial","Industria_Electrónica","Componentes_electrónicos","Células fotovoltaicas","Multiplique la capacidad mensual de diseño (m2) por la capacidad mensual de producción (%), e ingrese el resultado","m2 x 109",{"$f":"'Ecuaciones y FE'!AF324","v":{"$error":"#N/A"}}]
["Il5","Industrial","Industria_Electrónica","Componentes_electrónicos","Fluidos de transferencia térmica","Multiplique la capacidad mensual de diseño (m2) por la capacidad mensual de producción (%), e ingrese el resultado","m2 x 106",{"$f":"'Ecuaciones y FE'!AF325","v":{"$error":"#N/A"}}]
["Im1","Industrial","Industria eléctrica","Fabricación de accesorios de iluminación","Im1. Únicamente reporta consumo energético - Energía y Transporte","No ingrese información, remítase al sector \"Energía\" y \"Transporte\"","NA",{"$f":"'Ecuaciones y FE'!AF327","v":0}]
["Im10","Industrial","Subsector industria eléctrica","Fabricación de equipo de aire acondicionado, calefacción, y de refrigeración; industrial y comercial","Aire acondicionado automotriz ELIMINACIÓN","Multiplique el núm. de unidades producidas al mes (un) por la carga inicial de gas refrigerante (kg) por el potencial de calentamiento del gas. Ingrese el resultado","kg",{"$f":"'Ecuaciones y FE'!AF336","v":{"$error":"#N/A"}}]
["Im11","Industrial","Subsector industria eléctrica","Fabricación de equipo de aire acondicionado, calefacción, y de refrigeración; industrial y comercial","Aire acondicionado automotriz en vehículos grandes CARGA","Multiplique el núm. de unidades producidas al mes (un) por la carga inicial de gas refrigerante (kg) por el potencial de calentamiento del gas. Ingrese el resultado","kg",{"$f":"'Ecuaciones y FE'!AF337","v":{"$error":"#N/A"}}]
["Im12","Industrial","Subsector industria eléctrica","Fabricación de equipo de aire acondicionado, calefacción, y de refrigeración; industrial y comercial","Aire acondicionado automotriz en vehículos grandes RECARGA","Multiplique el núm. de unidades producidas al mes (un) por la carga inicial de gas refrigerante (kg) por el potencial de calentamiento del gas. Ingrese el resultado","kg",{"$f":"'Ecuaciones y FE'!AF338","v":{"$error":"#N/A"}}]
["Im13","Industrial","Subsector industria eléctrica","Fabricación de equipo de aire acondicionado, calefacción, y de refrigeración; industrial y comercial","Aire acondicionado automotriz en vehículos grandes ELIMINACIÓN","Multiplique el núm. de unidades producidas al mes (un) por la carga inicial de gas refrigerante (kg) por el potencial de calentamiento del gas. Ingrese el resultado","kg",{"$f":"'Ecuaciones y FE'!AF339","v":{"$error":"#N/A"}}]
["Im14","Industrial","Subsector industria eléctrica","Fabricación de equipo de aire acondicionado, calefacción, y de refrigeración; industrial y comercial","Cajas frías para transporte CARGA","Multiplique el núm. de unidades producidas al mes (un) por la carga inicial de gas refrigerante (kg) por el potencial de calentamiento del gas. Ingrese el resultado","kg",{"$f":"'Ecuaciones y FE'!AF340","v":{"$error":"#N/A"}}]
["Im15","Industrial","Subsector industria eléctrica","Fabricación de equipo de aire acondicionado, calefacción, y de refrigeración; industrial y comercial","Cajas frías para transporte RECARGA","Multiplique el núm. de unidades producidas al mes (un) por la carga inicial de gas refrigerante (kg) por el potencial de calentamiento del gas. Ingrese el resultado","kg",{"$f":"'Ecuaciones y FE'!AF341","v":{"$error":"#N/A"}}]
["Im16","Industrial","Subsector industria eléctrica","Fabricación de equipo de aire acondicionado, calefacción, y de refrigeración; industrial y comercial","Cajas frías para transporte ELIMINACIÓN","Multiplique el núm. de unidades producidas al mes (un) por la carga inicial de gas refrigerante (kg) por el potencial de calentamiento del gas. Ingrese el resultado","kg",{"$f":"'Ecuaciones y FE'!AF342","v":{"$error":"#N/A"}}]
["Im17","Industrial","Subsector industria eléctrica","Fabricación de equipo de aire acondicionado, calefacción, y de refrigeración; industrial y comercial","Enfriadores con R-134a CARGA","Multiplique el núm. de unidades producidas al mes (un) por la carga inicial de gas refrigerante (kg) por el potencial de calentamiento del gas. Ingrese el resultado","kg",{"$f":"'Ecuaciones y FE'!AF343","v":{"$error":"#N/A"}}]
["Im18","Industrial","Subsector industria eléctrica","Fabricación de equipo de aire acondicionado, calefacción, y de refrigeración; industrial y comercial","Enfriadores con R-134a RECARGA","Multiplique el núm. de unidades producidas al mes (un) por la carga inicial de gas refrigerante (kg) por el potencial de calentamiento del gas. Ingrese el resultado","kg",{"$f":"'Ecuaciones y FE'!AF344","v":{"$error":"#N/A"}}]
["Im19","Industrial","Subsector industria eléctrica","Fabricación de equipo de aire acondicionado, calefacción, y de refrigeración; industrial y comercial","Enfriadores con R-134a ELIMINACIÓN","Multiplique el núm. de unidades producidas al mes (un) por la carga inicial de gas refrigerante (kg) por el potencial de calentamiento del gas. Ingrese el resultado","kg",{"$f":"'Ecuaciones y FE'!AF345","v":{"$error":"#N/A"}}]
["Im2","Industrial","Subsector industria eléctrica","Fabricación de equipo de aire acondicionado, calefacción, y de refrigeración; industrial y comercial","Acondicionadores de aire autocontenidos CARGA","Multiplique el núm. de unidades producidas al mes (un) por la carga inicial de gas refrigerante (kg) por el potencial de calentamiento del gas. Ingrese el resultado","kg",{"$f":"'Ecuaciones y FE'!AF328","v":{"$error":"#N/A"}}]
["Im20","Industrial","Subsector industria eléctrica","Fabricación de equipo de aire acondicionado, calefacción, y de refrigeración; industrial y comercial","Enfriadores con R-404a CARGA","Multiplique el núm. de unidades producidas al mes (un) por la carga inicial de gas refrigerante (kg) por el potencial de calentamiento del gas. Ingrese el resultado","kg",{"$f":"'Ecuaciones y FE'!AF346","v":{"$error":"#N/A"}}]
["Im21","Industrial","Subsector industria eléctrica","Fabricación de equipo de aire acondicionado, calefacción, y de refrigeración; industrial y comercial","Enfriadores con R-404a RECARGA","Multiplique el núm. de unidades producidas al mes (un) por la carga inicial de gas refrigerante (kg) por el potencial de calentamiento del gas. Ingrese el resultado","kg",{"$f":"'Ecuaciones y FE'!AF347","v":{"$error":"#N/A"}}]
["Im22","Industrial","Subsector industria eléctrica","Fabricación de equipo de aire acondicionado, calefacción, y de refrigeración; industrial y comercial","Enfriadores con R-404a ELIMINACIÓN","Multiplique el núm. de unidades producidas al mes (un) por la carga inicial de gas refrigerante (kg) por el potencial de calentamiento del gas. Ingrese el resultado","kg",{"$f":"'Ecuaciones y FE'!AF348","v":{"$error":"#N/A"}}]
["Im23","Industrial","Subsector industria eléctrica","Fabricación de equipo de aire acondicionado, calefacción, y de refrigeración; industrial y comercial","Equipo autónomo CARGA","Multiplique el núm. de unidades producidas al mes (un) por la carga inicial de gas refrigerante (kg) por el potencial de calentamiento del gas. Ingrese el resultado","kg",{"$f":"'Ecuaciones y FE'!AF349","v":{"$error":"#N/A"}}]
["Im24","Industrial","Subsector industria eléctrica","Fabricación de equipo de aire acondicionado, calefacción, y de refrigeración; industrial y comercial","Equipo autónomo RECARGA","Multiplique el núm. de unidades producidas al mes (un) por la carga inicial de gas refrigerante (kg) por el potencial de calentamiento del gas. Ingrese el resultado","kg",{"$f":"'Ecuaciones y FE'!AF350","v":{"$error":"#N/A"}}]
["Im25","Industrial","Subsector industria eléctrica","Fabricación de equipo de aire acondicionado, calefacción, y de refrigeración; industrial y comercial","Equipo autónomo ELIMINACIÓN","Multiplique el núm. de unidades producidas al mes (un) por la carga inicial de gas refrigerante (kg) por el potencial de calentamiento del gas. Ingrese el resultado","kg",{"$f":"'Ecuaciones y FE'!AF351","v":{"$error":"#N/A"}}]
["Im26","Industrial","Subsector industria eléctrica","Fabricación de equipo de aire acondicionado, calefacción, y de refrigeración; industrial y comercial","Integral CARGA","Multiplique el núm. de unidades producidas al mes (un) por la carga inicial de gas refrigerante (kg) por el potencial de calentamiento del gas. Ingrese el resultado","kg",{"$f":"'Ecuaciones y FE'!AF352","v":{"$error":"#N/A"}}]
["Im27","Industrial","Subsector industria eléctrica","Fabricación de equipo de aire acondicionado, calefacción, y de refrigeración; industrial y comercial","Integral RECARGA","Multiplique el núm. de unidades producidas al mes (un) por la carga inicial de gas refrigerante (kg) por el potencial de calentamiento del gas. Ingrese el resultado","kg",{"$f":"'Ecuaciones y FE'!AF353","v":{"$error":"#N/A"}}]
["Im28","Industrial","Subsector industria eléctrica","Fabricación de equipo de aire acondicionado, calefacción, y de refrigeración; industrial y comercial","Integral ELIMINACIÓN","Multiplique el núm. de unidades producidas al mes (un) por la carga inicial de gas refrigerante (kg) por el potencial de calentamiento del gas. Ingrese el resultado","kg",{"$f":"'Ecuaciones y FE'!AF354","v":{"$error":"#N/A"}}]
["Im29","Industrial","Subsector industria eléctrica","Fabricación de equipo de aire acondicionado, calefacción, y de refrigeración; industrial y comercial","Multi-splits CARGA","Multiplique el núm. de unidades producidas al mes (un) por la carga inicial de gas refrigerante (kg) por el potencial de calentamiento del gas. Ingrese el resultado","kg",{"$f":"'Ecuaciones y FE'!AF355","v":{"$error":"#N/A"}}]
["Im3","Industrial","Subsector industria eléctrica","Fabricación de equipo de aire acondicionado, calefacción, y de refrigeración; industrial y comercial","Acondicionadores de aire autocontenidos RECARGA","Multiplique el núm. de unidades producidas al mes (un) por la carga inicial de gas refrigerante (kg) por el potencial de calentamiento del gas. Ingrese el resultado","kg",{"$f":"'Ecuaciones y FE'!AF329","v":{"$error":"#N/A"}}]
["Im30","Industrial","Subsector industria eléctrica","Fabricación de equipo de aire acondicionado, calefacción, y de refrigeración; industrial y comercial","Multi-splits RECARGA","Multiplique el núm. de unidades producidas al mes (un) por la carga inicial de gas refrigerante (kg) por el potencial de calentamiento del gas. Ingrese el resultado","kg",{"$f":"'Ecuaciones y FE'!AF356","v":{"$error":"#N/A"}}]
["Im31","Industrial","Subsector industria eléctrica","Fabricación de equipo de aire acondicionado, calefacción, y de refrigeración; industrial y comercial","Multi-splits ELIMINACIÓN","Multiplique el núm. de unidades producidas al mes (un) por la carga inicial de gas refrigerante (kg) por el potencial de calentamiento del gas. Ingrese el resultado","kg",{"$f":"'Ecuaciones y FE'!AF357","v":{"$error":"#N/A"}}]
["Im32","Industrial","Subsector industria eléctrica","Fabricación de equipo de aire acondicionado, calefacción, y de refrigeración; industrial y comercial","Sistemas centralizados para industria CARGA","Multiplique el núm. de unidades producidas al mes (un) por la carga inicial de gas refrigerante (kg) por el potencial de calentamiento del gas. Ingrese el resultado","kg",{"$f":"'Ecuaciones y FE'!AF358","v":{"$error":"#N/A"}}]
["Im33","Industrial","Subsector industria eléctrica","Fabricación de equipo de aire acondicionado, calefacción, y de refrigeración; industrial y comercial","Sistemas centralizados para industria RECARGA","Multiplique el núm. de unidades producidas al mes (un) por la carga inicial de gas refrigerante (kg) por el potencial de calentamiento del gas. Ingrese el resultado","kg",{"$f":"'Ecuaciones y FE'!AF359","v":{"$error":"#N/A"}}]
["Im34","Industrial","Subsector industria eléctrica","Fabricación de equipo de aire acondicionado, calefacción, y de refrigeración; industrial y comercial","Sistemas centralizados para industria ELIMINACIÓN","Multiplique el núm. de unidades producidas al mes (un) por la carga inicial de gas refrigerante (kg) por el potencial de calentamiento del gas. Ingrese el resultado","kg",{"$f":"'Ecuaciones y FE'!AF360","v":{"$error":"#N/A"}}]
["Im35","Industrial","Subsector industria eléctrica","Fabricación de equipo de aire acondicionado, calefacción, y de refrigeración; industrial y comercial","Sistemas centralizados para supermercados CARGA","Multiplique el núm. de unidades producidas al mes (un) por la carga inicial de gas refrigerante (kg) por el potencial de calentamiento del gas. Ingrese el resultado","kg",{"$f":"'Ecuaciones y FE'!AF361","v":{"$error":"#N/A"}}]
["Im36","Industrial","Subsector industria eléctrica","Fabricación de equipo de aire acondicionado, calefacción, y de refrigeración; industrial y comercial","Sistemas centralizados para supermercados RECARGA","Multiplique el núm. de unidades producidas al mes (un) por la carga inicial de gas refrigerante (kg) por el potencial de calentamiento del gas. Ingrese el resultado","kg",{"$f":"'Ecuaciones y FE'!AF362","v":{"$error":"#N/A"}}]
["Im37","Industrial","Subsector industria eléctrica","Fabricación de equipo de aire acondicionado, calefacción, y de refrigeración; industrial y comercial","Sistemas centralizados para supermercados ELIMINACIÓN","Multiplique el núm. de unidades producidas al mes (un) por la carga inicial de gas refrigerante (kg) por el potencial de calentamiento del gas. Ingrese el resultado","kg",{"$f":"'Ecuaciones y FE'!AF363","v":{"$error":"#N/A"}}]
["Im38","Industrial","Subsector industria eléctrica","Fabricación de equipo de aire acondicionado, calefacción, y de refrigeración; industrial y comercial","Sistemas comerciales divididos con ductos CARGA","Multiplique el núm. de unidades producidas al mes (un) por la carga inicial de gas refrigerante (kg) por el potencial de calentamiento del gas. Ingrese el resultado","kg",{"$f":"'Ecuaciones y FE'!AF364","v":{"$error":"#N/A"}}]
["Im39","Industrial","Subsector industria eléctrica","Fabricación de equipo de aire acondicionado, calefacción, y de refrigeración; industrial y comercial","Sistemas comerciales divididos con ductos RECARGA","Multiplique el núm. de unidades producidas al mes (un) por la carga inicial de gas refrigerante (kg) por el potencial de calentamiento del gas. Ingrese el resultado","kg",{"$f":"'Ecuaciones y FE'!AF365","v":{"$error":"#N/A"}}]
["Im4","Industrial","Subsector industria eléctrica","Fabricación de equipo de aire acondicionado, calefacción, y de refrigeración; industrial y comercial","Acondicionadores de aire autocontenidos ELIMINACIÓN","Multiplique el núm. de unidades producidas al mes (un) por la carga inicial de gas refrigerante (kg) por el potencial de calentamiento del gas. Ingrese el resultado","kg",{"$f":"'Ecuaciones y FE'!AF330","v":{"$error":"#N/A"}}]
["Im40","Industrial","Subsector industria eléctrica","Fabricación de equipo de aire acondicionado, calefacción, y de refrigeración; industrial y comercial","Sistemas comerciales divididos con ductos ELIMINACIÓN","Multiplique el núm. de unidades producidas al mes (un) por la carga inicial de gas refrigerante (kg) por el potencial de calentamiento del gas. Ingrese el resultado","kg",{"$f":"'Ecuaciones y FE'!AF366","v":{"$error":"#N/A"}}]
["Im41","Industrial","Subsector industria eléctrica","Fabricación de equipo de aire acondicionado, calefacción, y de refrigeración; industrial y comercial","Unidad de techo con ductos CARGA","Multiplique el núm. de unidades producidas al mes (un) por la carga inicial de gas refrigerante (kg) por el potencial de calentamiento del gas. Ingrese el resultado","kg",{"$f":"'Ecuaciones y FE'!AF367","v":{"$error":"#N/A"}}]
["Im42","Industrial","Subsector industria eléctrica","Fabricación de equipo de aire acondicionado, calefacción, y de refrigeración; industrial y comercial","Unidad de techo con ductos RECARGA","Multiplique el núm. de unidades producidas al mes (un) por la carga inicial de gas refrigerante (kg) por el potencial de calentamiento del gas. Ingrese el resultado","kg",{"$f":"'Ecuaciones y FE'!AF368","v":{"$error":"#N/A"}}]
["Im43","Industrial","Subsector industria eléctrica","Fabricación de equipo de aire acondicionado, calefacción, y de refrigeración; industrial y comercial","Unidad de techo con ductos ELIMINACIÓN","Multiplique el núm. de unidades producidas al mes (un) por la carga inicial de gas refrigerante (kg) por el potencial de calentamiento del gas. Ingrese el resultado","kg",{"$f":"'Ecuaciones y FE'!AF369","v":{"$error":"#N/A"}}]
["Im44","Industrial","Subsector industria eléctrica","Fabricación de equipo de aire acondicionado, calefacción, y de refrigeración; industrial y comercial","Unidades condensadas comerciales CARGA","Multiplique el núm. de unidades producidas al mes (un) por la carga inicial de gas refrigerante (kg) por el potencial de calentamiento del gas. Ingrese el resultado","kg",{"$f":"'Ecuaciones y FE'!AF370","v":{"$error":"#N/A"}}]
["Im45","Industrial","Subsector industria eléctrica","Fabricación de equipo de aire acondicionado, calefacción, y de refrigeración; industrial y comercial","Unidades condensadas comerciales RECARGA","Multiplique el núm. de unidades producidas al mes (un) por la carga inicial de gas refrigerante (kg) por el potencial de calentamiento del gas. Ingrese el resultado","kg",{"$f":"'Ecuaciones y FE'!AF371","v":{"$error":"#N/A"}}]
["Im46","Industrial","Subsector industria eléctrica","Fabricación de equipo de aire acondicionado, calefacción, y de refrigeración; industrial y comercial","Unidades condensadas comerciales ELIMINACIÓN","Multiplique el núm. de unidades producidas al mes (un) por la carga inicial de gas refrigerante (kg) por el potencial de calentamiento del gas. Ingrese el resultado","kg",{"$f":"'Ecuaciones y FE'!AF372","v":{"$error":"#N/A"}}]
["Im47","Industrial","Subsector industria eléctrica","Fabricación de equipo de aire acondicionado, calefacción, y de refrigeración; industrial y comercial","Unidades condensadas industriales CARGA","Multiplique el núm. de unidades producidas al mes (un) por la carga inicial de gas refrigerante (kg) por el potencial de calentamiento del gas. Ingrese el resultado","kg",{"$f":"'Ecuaciones y FE'!AF373","v":{"$error":"#N/A"}}]
["Im48","Industrial","Subsector industria eléctrica","Fabricación de equipo de aire acondicionado, calefacción, y de refrigeración; industrial y comercial","Unidades condensadas industriales RECARGA","Multiplique el núm. de unidades producidas al mes (un) por la carga inicial de gas refrigerante (kg) por el potencial de calentamiento del gas. Ingrese el resultado","kg",{"$f":"'Ecuaciones y FE'!AF374","v":{"$error":"#N/A"}}]
["Im49","Industrial","Subsector industria eléctrica","Fabricación de equipo de aire acondicionado, calefacción, y de refrigeración; industrial y comercial","Unidades condensadas industriales ELIMINACIÓN","Multiplique el núm. de unidades producidas al mes (un) por la carga inicial de gas refrigerante (kg) por el potencial de calentamiento del gas. Ingrese el resultado","kg",{"$f":"'Ecuaciones y FE'!AF375","v":{"$error":"#N/A"}}]
["Im5","Industrial","Subsector industria eléctrica","Fabricación de equipo de aire acondicionado, calefacción, y de refrigeración; industrial y comercial","Acondicionadores de aire comerciales divididos CARGA","Multiplique el núm. de unidades producidas al mes (un) por la carga inicial de gas refrigerante (kg) por el potencial de calentamiento del gas. Ingrese el resultado","kg",{"$f":"'Ecuaciones y FE'!AF331","v":{"$error":"#N/A"}}]
["Im50","Industrial","Subsector industria eléctrica","Fabricación de equipo de aire acondicionado, calefacción, y de refrigeración; industrial y comercial","Acondicionadores de aire residenciales de ducto o tipo dividido CARGA","Multiplique el núm. de unidades producidas al mes (un) por la carga inicial de gas refrigerante (kg) por el potencial de calentamiento del gas. Ingrese el resultado","kg",{"$f":"'Ecuaciones y FE'!AF376","v":{"$error":"#N/A"}}]
["Im51","Industrial","Subsector industria eléctrica","Fabricación de equipo de aire acondicionado, calefacción, y de refrigeración; industrial y comercial","Acondicionadores de aire residenciales de ducto o tipo dividido RECARGA","Multiplique el núm. de unidades producidas al mes (un) por la carga inicial de gas refrigerante (kg) por el potencial de calentamiento del gas. Ingrese el resultado","kg",{"$f":"'Ecuaciones y FE'!AF377","v":{"$error":"#N/A"}}]
["Im52","Industrial","Subsector industria eléctrica","Fabricación de equipo de aire acondicionado, calefacción, y de refrigeración; industrial y comercial","Acondicionadores de aire residenciales de ducto o tipo dividido ELIMINACIÓN","Multiplique el núm. de unidades producidas al mes (un) por la carga inicial de gas refrigerante (kg) por el potencial de calentamiento del gas. Ingrese el resultado","kg",{"$f":"'Ecuaciones y FE'!AF378","v":{"$error":"#N/A"}}]
["Im53","Industrial","Subsector industria eléctrica","Fabricación de equipo de aire acondicionado, calefacción, y de refrigeración; industrial y comercial","Acondicionadores de aire residenciales de tipo dividido CARGA","Multiplique el núm. de unidades producidas al mes (un) por la carga inicial de gas refrigerante (kg) por el potencial de calentamiento del gas. Ingrese el resultado","kg",{"$f":"'Ecuaciones y FE'!AF379","v":{"$error":"#N/A"}}]
["Im54","Industrial","Subsector industria eléctrica","Fabricación de equipo de aire acondicionado, calefacción, y de refrigeración; industrial y comercial","Acondicionadores de aire residenciales de tipo dividido RECARGA","Multiplique el núm. de unidades producidas al mes (un) por la carga inicial de gas refrigerante (kg) por el potencial de calentamiento del gas. Ingrese el resultado","kg",{"$f":"'Ecuaciones y FE'!AF380","v":{"$error":"#N/A"}}]
["Im55","Industrial","Subsector industria eléctrica","Fabricación de equipo de aire acondicionado, calefacción, y de refrigeración; industrial y comercial","Acondicionadores de aire residenciales de tipo dividido ELIMINACIÓN","Multiplique el núm. de unidades producidas al mes (un) por la carga inicial de gas refrigerante (kg) por el potencial de calentamiento del gas. Ingrese el resultado","kg",{"$f":"'Ecuaciones y FE'!AF381","v":{"$error":"#N/A"}}]
["Im56","Industrial","Subsector industria eléctrica","Fabricación de equipo de aire acondicionado, calefacción, y de refrigeración; industrial y comercial","Refrigeración doméstica CARGA","Multiplique el núm. de unidades producidas al mes (un) por la carga inicial de gas refrigerante (kg) por el potencial de calentamiento del gas. Ingrese el resultado","kg",{"$f":"'Ecuaciones y FE'!AF382","v":{"$error":"#N/A"}}]
["Im57","Industrial","Subsector industria eléctrica","Fabricación de equipo de aire acondicionado, calefacción, y de refrigeración; industrial y comercial","Refrigeración doméstica RECARGA","Multiplique el núm. de unidades producidas al mes (un) por la carga inicial de gas refrigerante (kg) por el potencial de calentamiento del gas. Ingrese el resultado","kg",{"$f":"'Ecuaciones y FE'!AF383","v":{"$error":"#N/A"}}]
["Im58","Industrial","Subsector industria eléctrica","Fabricación de equipo de aire acondicionado, calefacción, y de refrigeración; industrial y comercial","Refrigeración doméstica ELIMINACIÓN","Multiplique el núm. de unidades producidas al mes (un) por la carga inicial de gas refrigerante (kg) por el potencial de calentamiento del gas. Ingrese el resultado","kg",{"$f":"'Ecuaciones y FE'!AF384","v":{"$error":"#N/A"}}]
["Im59","Industrial","Industria eléctrica","Fabricación de aparatos eléctricos de uso doméstico","Im21. Únicamente reporta consumo energético - Energía y Transporte","Multiplique el núm. de unidades producidas al mes (un) por la carga inicial de gas refrigerante (kg) por el potencial de calentamiento del gas. Ingrese el resultado","NA",{"$f":"'Ecuaciones y FE'!AF385","v":0}]
["Im6","Industrial","Subsector industria eléctrica","Fabricación de equipo de aire acondicionado, calefacción, y de refrigeración; industrial y comercial","Acondicionadores de aire comerciales divididos RECARGA","Multiplique el núm. de unidades producidas al mes (un) por la carga inicial de gas refrigerante (kg) por el potencial de calentamiento del gas. Ingrese el resultado","kg",{"$f":"'Ecuaciones y FE'!AF332","v":{"$error":"#N/A"}}]
["Im60","Industrial","Industria eléctrica","Fabricación de aparatos eléctricos de uso doméstico","Im22. Únicamente reporta consumo energético - Energía y Transporte","Multiplique el núm. de unidades producidas al mes (un) por la carga inicial de gas refrigerante (kg) por el potencial de calentamiento del gas. Ingrese el resultado","NA",{"$f":"'Ecuaciones y FE'!AF386","v":0}]
["Im7","Industrial","Subsector industria eléctrica","Fabricación de equipo de aire acondicionado, calefacción, y de refrigeración; industrial y comercial","Acondicionadores de aire comerciales divididos ELIMINACIÓN","Multiplique el núm. de unidades producidas al mes (un) por la carga inicial de gas refrigerante (kg) por el potencial de calentamiento del gas. Ingrese el resultado","kg",{"$f":"'Ecuaciones y FE'!AF333","v":{"$error":"#N/A"}}]
["Im8","Industrial","Subsector industria eléctrica","Fabricación de equipo de aire acondicionado, calefacción, y de refrigeración; industrial y comercial","Aire acondicionado automotriz CARGA","Multiplique el núm. de unidades producidas al mes (un) por la carga inicial de gas refrigerante (kg) por el potencial de calentamiento del gas. Ingrese el resultado","kg",{"$f":"'Ecuaciones y FE'!AF334","v":{"$error":"#N/A"}}]
["Im9","Industrial","Subsector industria eléctrica","Fabricación de equipo de aire acondicionado, calefacción, y de refrigeración; industrial y comercial","Aire acondicionado automotriz RECARGA","Multiplique el núm. de unidades producidas al mes (un) por la carga inicial de gas refrigerante (kg) por el potencial de calentamiento del gas. Ingrese el resultado","kg",{"$f":"'Ecuaciones y FE'!AF335","v":{"$error":"#N/A"}}]
["In1","Industrial","Industria_Alimentos_y_Bebidas","Alimentos_para_animales","In1. Únicamente reporta consumo energético - Energía y Transporte","No ingrese información, remítase al sector \"Energía\" y \"Transporte\"","NA",{"$f":"'Ecuaciones y FE'!AF388","v":0}]
["In2","Industrial","Industria_Alimentos_y_Bebidas","Molienda_de_granos_y_semillas_y_obtención_de_aceites_y_grasas","In2. Únicamente reporta consumo energético - Energía y Transporte","No ingrese información, remítase al sector \"Energía\" y \"Transporte\"","NA",{"$f":"'Ecuaciones y FE'!AF389","v":0}]
["In3","Industrial","Industria_Alimentos_y_Bebidas","Azúcares_chocolates_dulces_y_similares","In3. Únicamente reporta consumo energético - Energía y Transporte","No ingrese información, remítase al sector \"Energía\" y \"Transporte\"","NA",{"$f":"'Ecuaciones y FE'!AF390","v":0}]
["In4","Industrial","Industria_Alimentos_y_Bebidas","Conservación_de_frutas_verduras_y_otros","In4. Únicamente reporta consumo energético - Energía y Transporte","No ingrese información, remítase al sector \"Energía\" y \"Transporte\"","NA",{"$f":"'Ecuaciones y FE'!AF391","v":0}]
["In5","Industrial","Industria_Alimentos_y_Bebidas","Productos_lácteos","In5. Únicamente reporta consumo energético - Energía y Transporte","No ingrese información, remítase al sector \"Energía\" y \"Transporte\"","NA",{"$f":"'Ecuaciones y FE'!AF392","v":0}]
["In6","Industrial","Industria_Alimentos_y_Bebidas","Matanza_empacado_y_procesamiento_de_carne_y_animales_comestibles","In6. Únicamente reporta consumo energético - Energía y Transporte","No ingrese información, remítase al sector \"Energía\" y \"Transporte\"","NA",{"$f":"'Ecuaciones y FE'!AF393","v":0}]
["In7","Industrial","Industria_Alimentos_y_Bebidas","Preparación_y_envasado_de_pescados_y_mariscos","In7. Únicamente reporta consumo energético - Energía y Transporte","No ingrese información, remítase al sector \"Energía\" y \"Transporte\"","NA",{"$f":"'Ecuaciones y FE'!AF394","v":0}]
["In8","Industrial","Industria_Alimentos_y_Bebidas","Productos_de_panadería_y_tortillas","In8. Únicamente reporta consumo energético - Energía y Transporte","No ingrese información, remítase al sector \"Energía\" y \"Transporte\"","NA",{"$f":"'Ecuaciones y FE'!AF395","v":0}]
["In9","Industrial","Industria_Alimentos_y_Bebidas","Industria_de_bebidas","In9. Únicamente reporta consumo energético - Energía y Transporte","No ingrese información, remítase al sector \"Energía\" y \"Transporte\"","NA",{"$f":"'Ecuaciones y FE'!AF396","v":0}]
["Io1","Industrial","Industria_Madera","Productos_de_madera","Io1. Únicamente reporta consumo energético - Energía y Transporte","No ingrese información, remítase al sector \"Energía\" y \"Transporte\"","NA",{"$f":"'Ecuaciones y FE'!AF398","v":0}]
["Ip1","Industrial","Industria_Textil","Preparación_e_hilado_de_fibras_textiles_e_hilos","Ip1. Únicamente reporta consumo energético - Energía y Transporte","No ingrese información, remítase al sector \"Energía\" y \"Transporte\"","NA",{"$f":"'Ecuaciones y FE'!AF400","v":0}]
["Ip2","Industrial","Industria_Textil","Telas_tejidas_y_no_tejidas","Ip2. Únicamente reporta consumo energético - Energía y Transporte","No ingrese información, remítase al sector \"Energía\" y \"Transporte\"","NA",{"$f":"'Ecuaciones y FE'!AF401","v":0}]
["Ip3","Industrial","Industria_Textil","Acabado_de_productos_textiles_y_fabricación_de_telas_recubiertas","Ip3. Únicamente reporta consumo energético - Energía y Transporte","No ingrese información, remítase al sector \"Energía\" y \"Transporte\"","NA",{"$f":"'Ecuaciones y FE'!AF402","v":0}]
["Ip4","Industrial","Industria_Textil","Fabricación_de_prendas_de_vestir_de_tejido_de_punto","Ip4. Únicamente reporta consumo energético - Energía y Transporte","No ingrese información, remítase al sector \"Energía\" y \"Transporte\"","NA",{"$f":"'Ecuaciones y FE'!AF403","v":0}]
["Ip5","Industrial","Industria_Textil","Confección_de_prendas_de_vestir","Ip5. Únicamente reporta consumo energético - Energía y Transporte","No ingrese información, remítase al sector \"Energía\" y \"Transporte\"","NA",{"$f":"'Ecuaciones y FE'!AF404","v":0}]
["lb01","Industrial","Subsector industria siderúrgica","Producción_Hierro_Acero","Carbón coquizable","Ingrese la cantidad de insumo en toneladas de masa seca","tseca",{"$f":"'Ecuaciones y FE'!$AF193","v":{"$error":"#N/A"}}]
["lb02","Industrial","Subsector industria siderúrgica","Producción_Hierro_Acero","Carbón de inyección al Alto Horno","Ingrese la cantidad de insumo en toneladas de masa seca","tseca",{"$f":"'Ecuaciones y FE'!$AF194","v":{"$error":"#N/A"}}]
["lb03","Industrial","Subsector industria siderúrgica","Producción_Hierro_Acero","Carbón a la Sintetizadora o al Horno Básico de oxígeno","Ingrese la cantidad de insumo en toneladas de masa seca","tseca",{"$f":"'Ecuaciones y FE'!$AF195","v":{"$error":"#N/A"}}]
["lb04","Industrial","Subsector industria siderúrgica","Producción_Hierro_Acero","Carbón para vapor","Ingrese la cantidad de insumo en toneladas de masa seca","tseca",{"$f":"'Ecuaciones y FE'!$AF196","v":{"$error":"#N/A"}}]
["lb05","Industrial","Subsector industria siderúrgica","Producción_Hierro_Acero","Carbón para el Horno de Arco Eléctrico","Ingrese la cantidad de insumo en toneladas de masa seca","tseca",{"$f":"'Ecuaciones y FE'!$AF197","v":{"$error":"#N/A"}}]
["lb06","Industrial","Subsector industria siderúrgica","Producción_Hierro_Acero","Carbón para el Horno de Reducción Directa","Ingrese la cantidad de insumo en toneladas de masa seca","tseca",{"$f":"'Ecuaciones y FE'!$AF198","v":{"$error":"#N/A"}}]
["lb07","Industrial","Subsector industria siderúrgica","Producción_Hierro_Acero","Coque_Siderurgia","Ingrese la cantidad de insumo en toneladas de masa seca","tseca",{"$f":"'Ecuaciones y FE'!$AF199","v":{"$error":"#N/A"}}]
["lb08","Industrial","Subsector industria siderúrgica","Producción_Hierro_Acero","Caliza","Ingrese la cantidad de insumo en toneladas de masa seca","tseca",{"$f":"'Ecuaciones y FE'!$AF200","v":{"$error":"#N/A"}}]
["lb09","Industrial","Subsector industria siderúrgica","Producción_Hierro_Acero","Dolomita cruda","Ingrese la cantidad de insumo en toneladas de masa seca","tseca",{"$f":"'Ecuaciones y FE'!$AF201","v":{"$error":"#N/A"}}]
["lb10","Industrial","Subsector industria siderúrgica","Producción_Hierro_Acero","Electrodos del Horno de Arco Eléctrico o del Horno Básico de Oxígeno","Ingrese la cantidad de producto","t",{"$f":"'Ecuaciones y FE'!$AF202","v":{"$error":"#N/A"}}]
["lb11","Industrial","Subsector industria siderúrgica","Producción_Hierro_Acero","Arrabio","Ingrese la cantidad de producto","t",{"$f":"'Ecuaciones y FE'!$AF203","v":{"$error":"#N/A"}}]
["lb12","Industrial","Subsector industria siderúrgica","Producción_Hierro_Acero","Arrabio frío (Cold iron)","Ingrese la cantidad de producto","t",{"$f":"'Ecuaciones y FE'!$AF204","v":{"$error":"#N/A"}}]
["lb13","Industrial","Subsector industria siderúrgica","Producción_Hierro_Acero","Fierro Esponja o Hierro de Reducción Directa Base Gas Natural","Ingrese la cantidad de producto","t",{"$f":"'Ecuaciones y FE'!$AF205","v":{"$error":"#N/A"}}]
["lb14","Industrial","Subsector industria siderúrgica","Producción_Hierro_Acero","Fierro Esponja o Hierro de Reducción Directa Base Carbón","Ingrese la cantidad de producto","t",{"$f":"'Ecuaciones y FE'!$AF206","v":{"$error":"#N/A"}}]
["lb15","Industrial","Subsector industria siderúrgica","Producción_Hierro_Acero","Ferroníquel","Ingrese la cantidad de producto","t",{"$f":"'Ecuaciones y FE'!$AF207","v":{"$error":"#N/A"}}]
["lb16","Industrial","Subsector industria siderúrgica","Producción_Hierro_Acero","Ferrocromo","Ingrese la cantidad de producto","t",{"$f":"'Ecuaciones y FE'!$AF208","v":{"$error":"#N/A"}}]
["lb17","Industrial","Subsector industria siderúrgica","Producción_Hierro_Acero","Ferromolibdeno","Ingrese la cantidad de producto","t",{"$f":"'Ecuaciones y FE'!$AF209","v":{"$error":"#N/A"}}]
["lb18","Industrial","Subsector industria siderúrgica","Producción_Hierro_Acero","Gas de coquizadora_Siderurgia","Ingrese el volúmen de insumo en miles de m3","1000 m3",{"$f":"'Ecuaciones y FE'!$AF210","v":{"$error":"#N/A"}}]
["lb19","Industrial","Subsector industria siderúrgica","Producción_Hierro_Acero","Gas de Alto Horno_Siderurgia","Ingrese el volúmen de insumo en miles de m3","1000 m3",{"$f":"'Ecuaciones y FE'!$AF211","v":{"$error":"#N/A"}}]
["lb20","Industrial","Subsector industria siderúrgica","Producción_Hierro_Acero","Gas de Horno Básico de Oxígeno_Siderurgia","Ingrese el volúmen de insumo en miles de m3","1000 m3",{"$f":"'Ecuaciones y FE'!$AF212","v":{"$error":"#N/A"}}]
["lb21","Industrial","Subsector industria siderúrgica","Producción_Hierro_Acero","CO2 a uso externo","Ingrese la cantidad de insumo en toneladas","t",{"$f":"'Ecuaciones y FE'!$AF213","v":{"$error":"#N/A"}}]
["lb22","Industrial","Subsector industria siderúrgica","Producción_Hierro_Acero","Alquitrán_Siderurgia","Ingrese la cantidad de insumo en toneladas","t",{"$f":"'Ecuaciones y FE'!$AF214","v":{"$error":"#N/A"}}]
["lb23","Industrial","Subsector industria siderúrgica","Producción_Hierro_Acero","Benzol","Ingrese la cantidad de insumo en toneladas","t",{"$f":"'Ecuaciones y FE'!$AF215","v":{"$error":"#N/A"}}]
["lb24","Industrial","Subsector industria siderúrgica","Producción_Hierro_Acero","Combustóleo_Siderurgia","Ingrese el volúmen de insumo en  m3","m3",{"$f":"'Ecuaciones y FE'!$AF216","v":{"$error":"#N/A"}}]
["lb25","Industrial","Subsector industria siderúrgica","Producción_Hierro_Acero","Diésel_Siderurgia","Ingrese el volúmen de insumo en  m3","m3",{"$f":"'Ecuaciones y FE'!$AF217","v":{"$error":"#N/A"}}]
["lb26","Industrial","Subsector industria siderúrgica","Producción_Hierro_Acero","Keroseno_Siderurgia","Ingrese el volúmen de insumo en  m3","m3",{"$f":"'Ecuaciones y FE'!$AF218","v":{"$error":"#N/A"}}]
["lb27","Industrial","Subsector industria siderúrgica","Producción_Hierro_Acero","GLP_Siderurgia","Ingrese la cantidad de insumo en toneladas","t",{"$f":"'Ecuaciones y FE'!$AF219","v":{"$error":"#N/A"}}]
["lb28","Industrial","Subsector industria siderúrgica","Producción_Hierro_Acero","Gas Natural_Siderurgia","Ingrese el volúmen de insumo en miles de m3","1000 m3",{"$f":"'Ecuaciones y FE'!$AF220","v":{"$error":"#N/A"}}]
["lb29","Industrial","Subsector industria siderúrgica","Producción_Ferroaleaciones","FeSi 65","Ingrese la cantidad de ferroaleación producida al mes en toneladas","t",{"$f":"'Ecuaciones y FE'!$AF222","v":{"$error":"#N/A"}}]
["lb30","Industrial","Subsector industria siderúrgica","Producción_Ferroaleaciones","FeSi 75","Ingrese la cantidad de ferroaleación producida al mes en toneladas","t",{"$f":"'Ecuaciones y FE'!$AF223","v":{"$error":"#N/A"}}]
["lb31","Industrial","Subsector industria siderúrgica","Producción_Ferroaleaciones","FeSi 90","Ingrese la cantidad de ferroaleación producida al mes en toneladas","t",{"$f":"'Ecuaciones y FE'!$AF224","v":{"$error":"#N/A"}}]
["lb32","Industrial","Subsector industria siderúrgica","Producción_Ferroaleaciones","Metal-Si","Ingrese la cantidad de ferroaleación producida al mes en toneladas","t",{"$f":"'Ecuaciones y FE'!$AF225","v":{"$error":"#N/A"}}]
["Ra1","Residuos","Aguas_Residuales","Tratamiento_aguas_residuales","Planta de tratamiento aeróbico bien operada","El factor de emisión de esta planta es CERO, por lo que no tiene emisiones","t",{"$f":"'Ecuaciones y FE'!AF623","v":{"$error":"#N/A"}},{"$f":"'Ecuaciones y FE'!W623","v":0},{"$f":"'Ecuaciones y FE'!X623","v":{"$error":"#N/A"}},{"$f":"'Ecuaciones y FE'!Y623","v":0}]
["Ra2","Residuos","Aguas_Residuales","Tratamiento_aguas_residuales","Planta de tratamiento aeróbico mal operada o sobrecargada","Multiplique el volumen de agua tratada (m3) por su DQO (ton DQO/m3), e ingrese el resultado","t",{"$f":"'Ecuaciones y FE'!AF624","v":{"$error":"#N/A"}},{"$f":"'Ecuaciones y FE'!W624","v":0},{"$f":"'Ecuaciones y FE'!X624","v":{"$error":"#N/A"}},{"$f":"'Ecuaciones y FE'!Y624","v":0}]
["Ra3","Residuos","Aguas_Residuales","Tratamiento_aguas_residuales","Digestor anaeróbico para lodos (no se considera la recuperación de metano)","Multiplique el volumen de agua tratada (m3) por su DQO (ton DQO/m3), e ingrese el resultado","t",{"$f":"'Ecuaciones y FE'!AF625","v":{"$error":"#N/A"}},{"$f":"'Ecuaciones y FE'!W625","v":0},{"$f":"'Ecuaciones y FE'!X625","v":{"$error":"#N/A"}},{"$f":"'Ecuaciones y FE'!Y625","v":0}]
["Ra4","Residuos","Aguas_Residuales","Tratamiento_aguas_residuales","Laguna anaeróbica poco profunda (menor de 2 metros)","Multiplique el volumen de agua tratada (m3) por su DQO (ton DQO/m3), e ingrese el resultado","t",{"$f":"'Ecuaciones y FE'!AF626","v":{"$error":"#N/A"}},{"$f":"'Ecuaciones y FE'!W626","v":0},{"$f":"'Ecuaciones y FE'!X626","v":{"$error":"#N/A"}},{"$f":"'Ecuaciones y FE'!Y626","v":0}]
["Ra5","Residuos","Aguas_Residuales","Tratamiento_aguas_residuales","Laguna anaeróbica profunda (mayor a dos metros)","Multiplique el volumen de agua tratada (m3) por su DQO (ton DQO/m3), e ingrese el resultado","t",{"$f":"'Ecuaciones y FE'!AF627","v":{"$error":"#N/A"}},{"$f":"'Ecuaciones y FE'!W627","v":0},{"$f":"'Ecuaciones y FE'!X627","v":{"$error":"#N/A"}},{"$f":"'Ecuaciones y FE'!Y627","v":0}]
["Ra6","Residuos","Residuos_Sólidos_Urbanos","Reducción_en_la_fuente_separación_reutilización_reciclaje_coprocesamiento_tratamiento_acopio_almacenamiento_transporte_y_disposición_final_de_residuos","Ra6.- Únicamente reporta consumo energético - Energía y Transporte","No ingrese información, remítase al sector \"Energía\" y \"Transporte\"","NA",{"$f":"'Ecuaciones y FE'!AF629","v":0}]
["Ra7","Residuos","Residuos_Sólidos_Urbanos","Remediación_de_sitios_contaminados_con_residuos","Ra7.- Únicamente reporta consumo energético - Energía y Transporte","No ingrese información, remítase al sector \"Energía\" y \"Transporte\"","NA",{"$f":"'Ecuaciones y FE'!AF630","v":0}]
["Ta1","Transporte","Transporte_Aéreo","Regular_de_carga_y_pasajeros","Turbosina - reg","Ingrese el consumo mensual de turbosina en litros","l",{"$f":"'Ecuaciones y FE'!$AF$151","v":{"$error":"#N/A"}},{"$f":"'Ecuaciones y FE'!W151","v":{"$error":"#N/A"}},{"$f":"'Ecuaciones y FE'!X151","v":{"$error":"#N/A"}},{"$f":"'Ecuaciones y FE'!Y151","v":{"$error":"#N/A"}}]
["Ta2","Transporte","Transporte_Aéreo","No_regular_de_carga_y_pasajeros","Turbosina - No reg","Ingrese el consumo mensual de turbosina en litros","l",{"$f":"'Ecuaciones y FE'!$AF$152","v":{"$error":"#N/A"}},{"$f":"'Ecuaciones y FE'!W152","v":{"$error":"#N/A"}},{"$f":"'Ecuaciones y FE'!X152","v":{"$error":"#N/A"}},{"$f":"'Ecuaciones y FE'!Y152","v":{"$error":"#N/A"}}]
["Ta3","Transporte","Transporte_Aéreo","Servicios_de_transporte_aéreo","Turbosina - servicios","Ingrese el consumo mensual de turbosina en litros","l",{"$f":"'Ecuaciones y FE'!$AF$153","v":{"$error":"#N/A"}},{"$f":"'Ecuaciones y FE'!W153","v":{"$error":"#N/A"}},{"$f":"'Ecuaciones y FE'!X153","v":{"$error":"#N/A"}},{"$f":"'Ecuaciones y FE'!Y153","v":{"$error":"#N/A"}}]
["Tb1","Transporte","Transporte_Ferroviario","Ferrocarril_de_carga_y_pasajeros","Diesel Ferrocarril","Ingrese el consumo mensual de diesel en litros","l",{"$f":"'Ecuaciones y FE'!$AF$155","v":{"$error":"#N/A"}},{"$f":"'Ecuaciones y FE'!W155","v":{"$error":"#N/A"}},{"$f":"'Ecuaciones y FE'!X155","v":{"$error":"#N/A"}},{"$f":"'Ecuaciones y FE'!Y155","v":{"$error":"#N/A"}}]
["Tc1","Transporte","Transporte_Marítimo","Marítimo_de_carga_y_pasajeros","Diesel Marítimo","Ingrese el consumo mensual de diesel en litros","l",{"$f":"'Ecuaciones y FE'!$AF$157","v":{"$error":"#N/A"}},{"$f":"'Ecuaciones y FE'!W157","v":{"$error":"#N/A"}},{"$f":"'Ecuaciones y FE'!X157","v":0},{"$f":"'Ecuaciones y FE'!Y157","v":0}]
["Tc2","Transporte","Transporte_Marítimo","Marítimo_de_carga_y_pasajeros","Gasolinas y Naftas Marítimo","Ingrese el consumo mensual de gasolina en litros","l",{"$f":"'Ecuaciones y FE'!$AF$158","v":{"$error":"#N/A"}},{"$f":"'Ecuaciones y FE'!W158","v":{"$error":"#N/A"}},{"$f":"'Ecuaciones y FE'!X158","v":{"$error":"#N/A"}},{"$f":"'Ecuaciones y FE'!Y158","v":{"$error":"#N/A"}}]
["Tc3","Transporte","Transporte_Marítimo","Marítimo_de_carga_y_pasajeros","Combustóleo marítimo","Ingrese el consumo mensual de combustoleo maritimo en litros","l",{"$f":"'Ecuaciones y FE'!$AF$159","v":{"$error":"#N/A"}},{"$f":"'Ecuaciones y FE'!W159","v":{"$error":"#N/A"}},{"$f":"'Ecuaciones y FE'!X159","v":{"$error":"#N/A"}},{"$f":"'Ecuaciones y FE'!Y159","v":{"$error":"#N/A"}}]
["Td01","Transporte","Transporte_Terrestre","Automoviles_Motocicletas_Montacargas","Diesel_A","Ingrese el consumo mensual de diesel en litros","l",{"$f":"'Ecuaciones y FE'!$AF161","v":{"$error":"#N/A"}},{"$f":"'Ecuaciones y FE'!W161","v":{"$error":"#N/A"}},{"$f":"'Ecuaciones y FE'!X161","v":{"$error":"#N/A"}},{"$f":"'Ecuaciones y FE'!Y161","v":{"$error":"#N/A"}}]
["Td02","Transporte","Transporte_Terrestre","Automoviles_Motocicletas_Montacargas","Gas Natural_A","Ingrese el consumo mensual de gas natural en m3","m3",{"$f":"'Ecuaciones y FE'!$AF162","v":{"$error":"#N/A"}},{"$f":"'Ecuaciones y FE'!W162","v":{"$error":"#N/A"}},{"$f":"'Ecuaciones y FE'!X162","v":{"$error":"#N/A"}},{"$f":"'Ecuaciones y FE'!Y162","v":{"$error":"#N/A"}}]
["Td03","Transporte","Transporte_Terrestre","Automoviles_Motocicletas_Montacargas","Gas_licuado_A","Ingrese el consumo mensual de gas licuado en litros","l",{"$f":"'Ecuaciones y FE'!$AF163","v":{"$error":"#N/A"}},{"$f":"'Ecuaciones y FE'!W163","v":{"$error":"#N/A"}},{"$f":"'Ecuaciones y FE'!X163","v":{"$error":"#N/A"}},{"$f":"'Ecuaciones y FE'!Y163","v":{"$error":"#N/A"}}]
["Td04","Transporte","Transporte_Terrestre","Automoviles_Motocicletas_Montacargas","Gasolina_A","Ingrese el consumo mensual de gasolina en litros","l",{"$f":"'Ecuaciones y FE'!$AF164","v":{"$error":"#N/A"}},{"$f":"'Ecuaciones y FE'!W164","v":{"$error":"#N/A"}},{"$f":"'Ecuaciones y FE'!X164","v":{"$error":"#N/A"}},{"$f":"'Ecuaciones y FE'!Y164","v":{"$error":"#N/A"}}]
["Td05","Transporte","Transporte_Terrestre","Camionetas_CamionesLigeros","Diesel_B","Ingrese el consumo mensual de diesel en litros","l",{"$f":"'Ecuaciones y FE'!$AF165","v":{"$error":"#N/A"}},{"$f":"'Ecuaciones y FE'!W165","v":{"$error":"#N/A"}},{"$f":"'Ecuaciones y FE'!X165","v":{"$error":"#N/A"}},{"$f":"'Ecuaciones y FE'!Y165","v":{"$error":"#N/A"}}]
["Td06","Transporte","Transporte_Terrestre","Camionetas_CamionesLigeros","Gas Natural_B","Ingrese el consumo mensual de gas natural en m3","m3",{"$f":"'Ecuaciones y FE'!$AF166","v":{"$error":"#N/A"}},{"$f":"'Ecuaciones y FE'!W166","v":{"$error":"#N/A"}},{"$f":"'Ecuaciones y FE'!X166","v":{"$error":"#N/A"}},{"$f":"'Ecuaciones y FE'!Y166","v":{"$error":"#N/A"}}]
["Td07","Transporte","Transporte_Terrestre","Camionetas_CamionesLigeros","Gas_licuado_B","Ingrese el consumo mensual de gas licuado en litros","l",{"$f":"'Ecuaciones y FE'!$AF167","v":{"$error":"#N/A"}},{"$f":"'Ecuaciones y FE'!W167","v":{"$error":"#N/A"}},{"$f":"'Ecuaciones y FE'!X167","v":{"$error":"#N/A"}},{"$f":"'Ecuaciones y FE'!Y167","v":{"$error":"#N/A"}}]
["Td08","Transporte","Transporte_Terrestre","Camionetas_CamionesLigeros","Gasolina_B","Ingrese el consumo mensual de gasolina en litros","l",{"$f":"'Ecuaciones y FE'!$AF168","v":{"$error":"#N/A"}},{"$f":"'Ecuaciones y FE'!W168","v":{"$error":"#N/A"}},{"$f":"'Ecuaciones y FE'!X168","v":{"$error":"#N/A"}},{"$f":"'Ecuaciones y FE'!Y168","v":{"$error":"#N/A"}}]
["Td09","Transporte","Transporte_Terrestre","Autobuses","Diesel_C","Ingrese el consumo mensual de diesel en litros","l",{"$f":"'Ecuaciones y FE'!$AF169","v":{"$error":"#N/A"}},{"$f":"'Ecuaciones y FE'!W169","v":{"$error":"#N/A"}},{"$f":"'Ecuaciones y FE'!X169","v":{"$error":"#N/A"}},{"$f":"'Ecuaciones y FE'!Y169","v":{"$error":"#N/A"}}]
["Td10","Transporte","Transporte_Terrestre","Autobuses","Gas Natural_C","Ingrese el consumo mensual de gas natural en m3","m3",{"$f":"'Ecuaciones y FE'!$AF170","v":{"$error":"#N/A"}},{"$f":"'Ecuaciones y FE'!W170","v":{"$error":"#N/A"}},{"$f":"'Ecuaciones y FE'!X170","v":{"$error":"#N/A"}},{"$f":"'Ecuaciones y FE'!Y170","v":{"$error":"#N/A"}}]
["Td11","Transporte","Transporte_Terrestre","Autobuses","Gas_licuado_C","Ingrese el consumo mensual de gas licuado en litros","l",{"$f":"'Ecuaciones y FE'!$AF171","v":{"$error":"#N/A"}},{"$f":"'Ecuaciones y FE'!W171","v":{"$error":"#N/A"}},{"$f":"'Ecuaciones y FE'!X171","v":{"$error":"#N/A"}},{"$f":"'Ecuaciones y FE'!Y171","v":{"$error":"#N/A"}}]
["Td12","Transporte","Transporte_Terrestre","Autobuses","Gasolina_C","Ingrese el consumo mensual de gasolina en litros","l",{"$f":"'Ecuaciones y FE'!$AF172","v":{"$error":"#N/A"}},{"$f":"'Ecuaciones y FE'!W172","v":{"$error":"#N/A"}},{"$f":"'Ecuaciones y FE'!X172","v":{"$error":"#N/A"}},{"$f":"'Ecuaciones y FE'!Y172","v":{"$error":"#N/A"}}]
["Td13","Transporte","Transporte_Terrestre","Camiones_Tractocamiones","Diesel_D","Ingrese el consumo mensual de diesel en litros","l",{"$f":"'Ecuaciones y FE'!$AF173","v":{"$error":"#N/A"}},{"$f":"'Ecuaciones y FE'!W173","v":{"$error":"#N/A"}},{"$f":"'Ecuaciones y FE'!X173","v":{"$error":"#N/A"}},{"$f":"'Ecuaciones y FE'!Y173","v":{"$error":"#N/A"}}]
["Td14","Transporte","Transporte_Terrestre","Camiones_Tractocamiones","Gas Natural_D","Ingrese el consumo mensual de gas natural en m3","m3",{"$f":"'Ecuaciones y FE'!$AF174","v":{"$error":"#N/A"}},{"$f":"'Ecuaciones y FE'!W174","v":{"$error":"#N/A"}},{"$f":"'Ecuaciones y FE'!X174","v":{"$error":"#N/A"}},{"$f":"'Ecuaciones y FE'!Y174","v":{"$error":"#N/A"}}]
["Td15","Transporte","Transporte_Terrestre","Camiones_Tractocamiones","Gas_licuado_D","Ingrese el consumo mensual de gas licuado en litros","l",{"$f":"'Ecuaciones y FE'!$AF175","v":{"$error":"#N/A"}},{"$f":"'Ecuaciones y FE'!W175","v":{"$error":"#N/A"}},{"$f":"'Ecuaciones y FE'!X175","v":{"$error":"#N/A"}},{"$f":"'Ecuaciones y FE'!Y175","v":{"$error":"#N/A"}}]
["Td16","Transporte","Transporte_Terrestre","Camiones_Tractocamiones","Gasolina_D","Ingrese el consumo mensual de gasolina en litros","l",{"$f":"'Ecuaciones y FE'!$AF176","v":{"$error":"#N/A"}},{"$f":"'Ecuaciones y FE'!W176","v":{"$error":"#N/A"}},{"$f":"'Ecuaciones y FE'!X176","v":{"$error":"#N/A"}},{"$f":"'Ecuaciones y FE'!Y176","v":{"$error":"#N/A"}}]
["To2","Todos","Consumo_combustibles","Combustibles_consumidos","Diesel","Ingrese el consumo mensual de diesel en litros","l",{"$f":"'Ecuaciones y FE'!$AF$8","v":{"$error":"#N/A"}},{"$f":"'Ecuaciones y FE'!W8","v":{"$error":"#N/A"}},{"$f":"'Ecuaciones y FE'!X8","v":{"$error":"#N/A"}},{"$f":"'Ecuaciones y FE'!Y8","v":{"$error":"#N/A"}}]
["To3","Todos","Consumo_combustibles","Combustibles_consumidos","Gasolinas y Naftas","Ingrese el consumo mensual de gasolina en litros","l",{"$f":"'Ecuaciones y FE'!$AF$9","v":{"$error":"#N/A"}},{"$f":"'Ecuaciones y FE'!W9","v":{"$error":"#N/A"}},{"$f":"'Ecuaciones y FE'!X9","v":{"$error":"#N/A"}},{"$f":"'Ecuaciones y FE'!Y9","v":{"$error":"#N/A"}}]
["To4","Todos","Consumo_combustibles","Combustibles_consumidos","Consumo de gas natural","Ingrese el consumo mensual de gas natural en m3","m3",{"$f":"'Ecuaciones y FE'!$AF$10","v":{"$error":"#N/A"}},{"$f":"'Ecuaciones y FE'!W10","v":{"$error":"#N/A"}},{"$f":"'Ecuaciones y FE'!X10","v":{"$error":"#N/A"}},{"$f":"'Ecuaciones y FE'!Y10","v":{"$error":"#N/A"}}]
["To5","Todos","Consumo_combustibles","Combustibles_consumidos","Consumo de gas licuado","Ingrese el consumo mensual de gas licuado en litros","l",{"$f":"'Ecuaciones y FE'!$AF$11","v":{"$error":"#N/A"}},{"$f":"'Ecuaciones y FE'!W11","v":{"$error":"#N/A"}},{"$f":"'Ecuaciones y FE'!X11","v":{"$error":"#N/A"}},{"$f":"'Ecuaciones y FE'!Y11","v":{"$error":"#N/A"}}]

{"sheet":"Lista desplegable","index":4,"n_rows":59,"n_cols":132,"rows_kept":59,"cut":false,"hidden":true,"merged":[]}
[]
[null,"SECTOR",null,"Energía y Transporte","Consumo",null,null,"Sector Energía","Ia. Generación","Combustible_Generación","Combustible_térmico","Hidrocarburos","Extracción_Petróleo_Convencional_y_No_Convencional","Extracción_Gas_Asociado_y_No_Asociado","Perforación_pozos_petróleo_y_gas","Pozos_en_producción_petróleo_y_gas","Procesamiento_Gas","Transporte_Petróleo","Transporte_Gas_almacenamiento","Distribución_gas_natural_ductos","Suministro_gas_natural_al_consumidor_final",null,"Transporte","IIa. Aéreo","Combustible","IIb. Ferroviario","Combustible","IIc. Marítimo","Combustible","IId. Terrestre","Combustible",null,"Procesos_Industriales","IIIa. Química","Sin ecuación","IIIai. Químicos_Básicos","IIIb. Siderúrgica","IIIbi. Hierro","IIIbii. Acero","IIIbiii. Ferroaleaciones","IIIc. Metalúrgica","IIIci. Aluminio","IIIcii. Plomo","IIIciii. Zinc","IIIciv. Magnesio","IIId. Metal mecánica",null,"IIIe. Minera",null,"IIIei. Minerales No Metálicos","IIIf. Automotriz",null,"IIIg. Papel",null,"IIIh. Artes_Gráf",null,"IIIi. Petroquímica",null,"Transporte_por_ductos_de_productos","Metanol","Etileno","Dicloruro de etileno","Cloruro de vinilo","Acrilonitrilo","Óxido de etileno","Negro de humo","Dióxido de titanio","Caprolactama","IIIj. Cementera","Cemento","Cal","IIIk. Vidrio",null,"IIIl. Electrónica","Electrónica","IIIm. Eléctrica","Accesorios_de_iluminación","Aire_acondicionado_calefacción_y_refrigeración_industrial_y_comercial","Aparatos_uso_doméstico","Equipo_generación_transmisión_y_distribución_energía_eléctrica","Otros_equipos_y_accesorios_eléctricos","IIIn. Alimentos","Alimentos","IIIo. Madera","Madera","IIIp. Textil","Textil",null,"Agricultura","IV. Agricultura","Agricultura","IV. Ganadería","Bovinos_producción_carne","Bovinos_producción_leche","Bovinos_producción_leche_carne","Bovinos_otros_propósitos","Porcinos_producción_carne","Avícola_producción_huevo","Avícola_producción_carne","Avícola_producción_guajolotes_pavos","Ovinos","Caprinos","Producción_ave_incubadora","Mulas_y_asnos","Producción_aves_en_incubadora","Otras_aves_producción_carne_y_huevo",null,"Residuos","V. Aguas Residuales","Aguas Residuales","V. Residuos","Residuos",null,"Servicios","Construcción",null,"Comercio",null,"Servicios_Educativos",null,"Actividades_Recreativas",null,"Turismo",null,"Servicios_Médicos",null,"Gobierno",null,"Servicios_Financieros",null,null,"Combustible"]
["I","Energía",null,"Consumo_Electricidad","Electricidad_Consumida","Consumo_energía_eléctrica",null,"Energía_eléctrica","Generación_energía_eléctrica","Algodón","Algodón_PT","Extracción_Petróleo_Convencional_y_No_Convencional","Emisiones Fugitivas Petróleo (costeras)","Emisiones Fugitivas Gas por Venteo","Emisiones por Quema en Antorcha y Venteo_Perforación","Emisiones por Quema en Antorcha y Venteo_Producción","Emisiones fugitivas_Procesamiento de Gas","Transporte en tuberías","Almacenamiento de Gas Natural","Emisiones Fugitivas Distribución Gas Natural","Emisiones fugitivas por suministro al consumidor final",null,"Transporte_Aéreo","Regular_de_carga_y_pasajeros","Turbosina - reg","Ferrocarril_de_carga_y_pasajeros","Diesel Ferrocarril","Marítimo_de_carga_y_pasajeros","Diesel Marítimo","Automoviles_Motocicletas_Montacargas","Diesel_A",null,"Industria_Química","Productos_químicos_básicos","Ia6. Únicamente reporta consumo energético - Energía y Transporte","Amoníaco","Producción_Hierro_Acero","Carbón coquizable","Horno básico de oxígeno (BOF)","Metal-Si","Aluminio","Ánodos precocidos - CWPB","Producción en hornos\nImperial Smelt Furnace (ISF)","Waelz Kiln","Dolomita","Productos_forjados_y_troquelados","Id1. Únicamente reporta consumo energético - Energía y Transporte","Minerales_metálicos","Ie1. Únicamente reporta consumo energético - Energía y Transporte","Trona","Fabricación_automóviles_y_camiones","If1. Únicamente reporta consumo energético - Energía y Transporte","Fabricación_pulpa_papel_y_cartón","Ig1. Únicamente reporta consumo energético - Energía y Transporte","Impresión_en_papel","Ih1. Únicamente reporta consumo energético - Energía y Transporte","Refinación_petróleo","Ii1. Únicamente reporta consumo energético - Energía y Transporte","Gasolina","Vapor convencional, sin unidad de reformado primaria","Etileno (Uso total del proceso y de la alimentación energética)","Proceso de cloración directa DE","Proceso de cloración directa CV","Productos secundarios quemados para recuperación de energía y/o quemados en la antorcha (por defecto)","Proceso por aire (proceso por defecto)","Proceso del negro de horno (proceso por defecto)","Rutilo sintético","Caprolactama","Cemento","Clínker","Cal de dolomita","Productos_a_base_arcillas_y_minerales_refractarios","Ik2. Únicamente reporta consumo energético - Energía y Transporte","Equipo_de_comunicación","Il1. Únicamente reporta consumo energético - Energía y Transporte","Accesorios_de_iluminación","Im1. Únicamente reporta consumo energético - Energía y Transporte","Acondicionadores de aire autocontenidos CARGA","Acondicionadores de aire residenciales de ducto o tipo dividido CARGA","Im59. Únicamente reporta consumo energético - Energía y Transporte","Im60. Únicamente reporta consumo energético - Energía y Transporte","Alimentos_para_animales","In1. Únicamente reporta consumo energético - Energía y Transporte","Productos_de_madera","Io1. Únicamente reporta consumo energético - Energía y Transporte","Preparación_e_hilado_de_fibras_textiles_e_hilos","Ip1. Únicamente reporta consumo energético - Energía y Transporte",null,"Subsector_Agricultura","Oleaginosas_gramíneas_leguminosas_o_cereales_en_grano_y_forrajeras","Aa1. Únicamente reporta consumo energético - Energía y Transporte","Bovinos_producción_carne","Sin gestión de estiércol excretado en pasturas, prados o praderas (BC)","Sin gestión de estiércol excretado en pasturas, prados o praderas (BL)","Sin gestión de estiércol excretado en pasturas, prados o praderas (BCyL)","Sin gestión de estiércol excretado en pasturas, prados o praderas (BO)","Sin gestión de estiércol excretado en pasturas, prados o praderas (P)","Sin gestión de estiércol excretado en pasturas, prados o praderas (AH)","Sin gestión de estiércol excretado en pasturas, prados o praderas (AC)","Sin gestión de estiércol excretado en pasturas, prados o praderas (AGyP)","Sin gestión de estiércol excretado en pasturas, prados o praderas (O)","Sin gestión de estiércol excretado en pasturas, prados o praderas (CP)","Sin gestión de estiércol excretado en pasturas, prados o praderas (AI)","Almacenaje de sólidos M","Almacenaje de sólidos AI","Almacenaje de sólidos OA",null,"Aguas_Residuales","Tratamiento_aguas_residuales","Planta de tratamiento aeróbico bien operada","Reducción_en_la_fuente_separación_reutilización_reciclaje_coprocesamiento_tratamiento_acopio_almacenamiento_transporte_y_disposición_final_de_residuos","Ra6. Únicamente reporta consumo energético - Energía y Transporte",null,"Construcción","Edificación_residencial","Ca1. Únicamente reporta consumo energético - Energía y Transporte","Comercio_al_por_mayor_de_abarrotes_y_alimentos","Cb1. Únicamente reporta consumo energético - Energía y Transporte","Escuelas_de_educación_superior","Cc1. Únicamente reporta consumo energético - Energía y Transporte","Parques_con_instalaciones_recreativas_y_casas_de_juegos_electrónicos","Cd1. Únicamente reporta consumo energético - Energía y Transporte","Hoteles_moteles_y_similares","Ce1. Únicamente reporta consumo energético - Energía y Transporte","Hospitales_y_laboratorios","Cf1. Únicamente reporta consumo energético - Energía y Transporte","Instalaciones_en_las_que_las_dependencias_y_entidades_de_la_administración_pública_federal_estatal_o_municipal_realizan_sus_funciones","Cg1. Únicamente reporta consumo energético - Energía y Transporte","Banca_múltiple","Ch1. Únicamente reporta consumo energético - Energía y Transporte",null,"Diesel"]
["II","Transporte",null,"Consumo_combustibles","Combustibles_consumidos","Consumo Diesel",null,"Energía_térmica","Consumo_energía_eléctrica","Alquitrán","Alquitrán_PT","Extracción_Gas_Asociado_y_No_Asociado","Emisiones Fugitivas Petróleo (alta mar)","Emisiones Fugitivas Gas por Quema en Antorcha",null,null,"Emisiones por Quema en Antorcha_Procesamiento de Gas","Transporte en camiones y vagones cisterna",null,"Emisiones por Venteo Distribución Gas Natural",null,null,"Transporte_Ferroviario","No_regular_de_carga_y_pasajeros","Turbosina - No reg",null,null,null,"Gasolinas y Naftas Marítimo","Camionetas_CamionesLigeros","Gas Natural_A",null,"Industria_Siderúrgica","Resinas_y_hules_sintéticos","Ia7. Únicamente reporta consumo energético - Energía y Transporte","Ácido Nítrico","Producción_Ferroaleaciones","Carbón de inyección al Alto Horno","Horno de arco eléctrico (EAF)**","FeSi 90","Plomo","Ánodos precocidos - SWPB","Producción por fundición directa (DS)","Pirometalúrgico (Imperial Smelting Furnace) ","Magnesita I.Metalúrgica","Calderas_tanques_y_envases_metálicos","Id2. Únicamente reporta consumo energético - Energía y Transporte","Minerales_No_metálicos","Ie11. Únicamente reporta consumo energético - Energía y Transporte","Ceniza de sosa","Fabricación_carrocerías_y_remolques","If2. Únicamente reporta consumo energético - Energía y Transporte","Productos_de_cartón_y_papel","Ig2. Únicamente reporta consumo energético - Energía y Transporte","Encuadernación","Ih2. Únicamente reporta consumo energético - Energía y Transporte","Metanol",null,"Diesel","Vapor convencional, con unidad de reformado primaria","Uso de la alimentación al proceso","Proceso de oxicloración DE","Proceso de oxicloración CV","Acetonitrilo quemado para recuperación de energía y/o quemado en antorcha","Proceso por oxígeno","Proceso del negro térmico","Rutilo dióxido de titanio (vía del cloruro)","Glioxal ","Cal",null,"Cal hidráulica","Vidrio_y_productos_de_vidrio","Vidrio","Equipo_de_audio_y_video","Pantallas planas a transistores de película delgada (TFT-FPD, del inglés, thin-film-transistor flat panel display)","Aire_acondicionado_calefacción_y_refrigeración_industrial_y_comercial",null,"Acondicionadores de aire autocontenidos RECARGA","Acondicionadores de aire residenciales de ducto o tipo dividido RECARGA",null,null,"Molienda_de_granos_y_semillas_y_obtención_de_aceites_y_grasas","In2. Únicamente reporta consumo energético - Energía y Transporte",null,null,"Telas_tejidas_y_no_tejidas","Ip2. Únicamente reporta consumo energético - Energía y Transporte",null,"Subsector_Ganadería","Cultivo_de_hortalizas","Aa2. Únicamente reporta consumo energético - Energía y Transporte","Bovinos_producción_leche","Aplicación de estiércol en tierras de cultivo o pasturas dentro de las 24 horas de su excreción (BC)","Aplicación de estiércol en tierras de cultivo o pasturas dentro de las 24 horas de su excreción (BL)","Aplicación de estiércol en tierras de cultivo o pasturas dentro de las 24 horas de su excreción (BCyL)","Aplicación de estiércol en tierras de cultivo o pasturas dentro de las 24 horas de su excreción (BO)","Aplicación de estiércol en tierras de cultivo o pasturas dentro de las 24 horas de su excreción (P)","Aplicación de estiércol en tierras de cultivo o pasturas dentro de las 24 horas de su excreción (AH)","Aplicación de estiércol en tierras de cultivo o pasturas dentro de las 24 horas de su excreción (AC)","Aplicación de estiércol en tierras de cultivo o pasturas dentro de las 24 horas de su excreción (AGyP)","Aplicación de estiércol en tierras de cultivo o pasturas dentro de las 24 horas de su excreción (O)","Aplicación de estiércol en tierras de cultivo o pasturas dentro de las 24 horas de su excreción (CP)","Aplicación de estiércol en tierras de cultivo o pasturas dentro de las 24 horas de su excreción (AI)","Corral de engorde M","Corral de engorde AI","Corral de engorde OA",null,"Residuos_Sólidos_Urbanos",null,"Planta de tratamiento aeróbico mal operada o sobrecargada","Remediación_de_sitios_contaminados_con_residuos","Ra7. Únicamente reporta consumo energético - Energía y Transporte",null,"Comercio","Edificación_no_residencial","Ca2. Únicamente reporta consumo energético - Energía y Transporte","Comercio_al_por_mayor_de_bebidas_hielo_y_tabaco","Cb2. Únicamente reporta consumo energético - Energía y Transporte",null,null,null,null,null,null,null,null,null,null,"Alquiler_sin_intermediación_de_bienes_raíces","Ch2. Únicamente reporta consumo energético - Energía y Transporte",null,"Gasolinas y Naftas"]
["III","Industrial",null,null,null,"Consumo de Gasolinas y Naftas",null,"Hidrocarburos","Procesos_térmicos","Bagazo de caña","Bagazo de caña_PT","Perforación_pozos_petróleo_y_gas","Emisiones Fugitivas Petróleo por Venteo",null,null,null,"Emisiones por Venteo_Procesamiento de Gas",null,null,null,null,null,"Transporte_Marítimo","Servicios_de_transporte_aéreo","Turbosina - servicios",null,null,null,"Combustóleo marítimo","Autobuses","Gas_licuado_A",null,"Industria_Metalúrgica","Fertilizantes_pesticidas_y_agroquímicos","Ia8. Únicamente reporta consumo energético - Energía y Transporte","Ácido Adípico",null,"Carbón a la Sintetizadora o al Horno Básico de oxígeno","Horno de solera (OHF)","FeSi 75","Zinc","Søderberg - VSS","Por tratamiento de materias primas secundarias",null,"Todos los procesos de moldeo","Herrajes_y_cerraduras","Id3. Únicamente reporta consumo energético - Energía y Transporte","Carbón_mineral","Ie12. Únicamente reporta consumo energético - Energía y Transporte","Carbonato de calcio","Fabricación_partes_automotores","If3. Únicamente reporta consumo energético - Energía y Transporte",null,null,"Impresión_de_textiles","Ih3. Únicamente reporta consumo energético - Energía y Transporte","Etileno",null,"Combustible para la aviación","Vapor convencional, proceso convencional de Lurgi","Uso de combustible complementario (alimentación energética)","Proceso equilibrado [por defecto] DE","Proceso equilibrado [por defecto] CV","Acetonitrilo y cianuro de hidrógeno recuperado como producto",null,"Proceso del negro de acetileno",null,"Ácido glioxílico",null,null,"Cal con fuerte proporción de calcio",null,null,"Componentes_electrónicos","Semiconductores","Aparatos_uso_doméstico",null,"Acondicionadores de aire autocontenidos ELIMINACIÓN","Acondicionadores de aire residenciales de ducto o tipo dividido ELIMINACIÓN",null,null,"Azúcares_chocolates_dulces_y_similares","In3. Únicamente reporta consumo energético - Energía y Transporte",null,null,"Acabado_de_productos_textiles_y_fabricación_de_telas_recubiertas","Ip3. Únicamente reporta consumo energético - Energía y Transporte",null,null,"Cultivo_de_frutales_y_nueces","Aa3. Únicamente reporta consumo energético - Energía y Transporte","Bovinos_producción_leche_carne","Almacenamiento de estiércol en pilas o montones no confinados (BC)","Almacenamiento de estiércol en pilas o montones no confinados (BL)","Almacenamiento de estiércol en pilas o montones no confinados (BCyL)","Almacenamiento de estiércol en pilas o montones no confinados (BO)","Almacenamiento de estiércol en pilas o montones no confinados (P)","Almacenamiento de estiércol en pilas o montones no confinados (AH)","Almacenamiento de estiércol en pilas o montones no confinados (AC)","Almacenamiento de estiércol en pilas o montones no confinados (AGyP)","Almacenamiento de estiércol en pilas o montones no confinados (O)","Almacenamiento de estiércol en pilas o montones no confinados (CP)","Almacenamiento de estiércol en pilas o montones no confinados (AI)","Líquido/Fango M","Líquido/Fango AI","Líquido/Fango OA",null,null,null,"Digestor anaeróbico para lodos (no se considera la recuperación de metano)",null,null,null,"Servicios_Educativos","Construcción_de_obras_para_el_suministro_de_agua_petróleo_gas_energía_eléctrica_y_telecomunicaciones","Ca3. Únicamente reporta consumo energético - Energía y Transporte","Comercio_al_por_mayor_de_productos_textiles_y_calzado","Cb3. Únicamente reporta consumo energético - Energía y Transporte",null,null,null,null,null,null,null,null,null,null,"Inmobiliarias_y_corredores_de_bienes_raíces","Ch4. Únicamente reporta consumo energético - Energía y Transporte",null,"Gas Natural"]
["IV","Agropecuario",null,null,null,"Consumo de gas natural",null,null,null,"Bagazo de Malta","Bagazo de Malta_PT","Pozos_en_producción_petróleo_y_gas","Emisiones Fugitivas Petróleo por Quema en Antorcha",null,null,null,null,null,null,null,null,null,"Transporte_Terrestre",null,null,null,null,null,null,"Camiones_Tractocamiones","Gasolina_A",null,"Industria_MetalMecánica","Productos_farmacéuticos","Ia9. Únicamente reporta consumo energético - Energía y Transporte","Carburo de Silicio",null,"Carbón para vapor",null,"FeSi 65","Magnesio","Søderberg - HSS",null,null,"Ic15. Únicamente reporta consumo energético - Energía y Transporte","Maquinado_piezas_metálicas_y_fabricación_tornillos","Id4. Únicamente reporta consumo energético - Energía y Transporte","Servicios_relacionados_con_minería",null,"Magnesita I.Minera","Fabricación_equipo_aeroespacial","If4. Únicamente reporta consumo energético - Energía y Transporte",null,null,"Elaboración_de_placas_clichés_y_grabados","Ih4. Únicamente reporta consumo energético - Energía y Transporte","Dicloruro_de_etileno",null,"Queroseno para motor a reacción","Vapor convencional, proceso de baja presión de Lurgi",null,null,null,null,null,null,null,null,null,null,null,null,null,null,"Células fotovoltaicas","Equipo_generación_transmisión_y_distribución_energía_eléctrica",null,"Acondicionadores de aire comerciales divididos CARGA","Acondicionadores de aire residenciales de tipo dividido CARGA",null,null,"Conservación_de_frutas_verduras_y_otros","In4. Únicamente reporta consumo energético - Energía y Transporte",null,null,"Fabricación_de_prendas_de_vestir_de_tejido_de_punto","Ip4. Únicamente reporta consumo energético - Energía y Transporte",null,null,"Cultivo_en_invernaderos_y_viveros_y_floricultura","Aa4. Únicamente reporta consumo energético - Energía y Transporte","Bovinos_otros_propósitos","Confinamiento de estiércol, con o sin retiro periódico (BC)","Confinamiento de estiércol, con o sin retiro periódico (BL)","Confinamiento de estiércol, con o sin retiro periódico (BCyL)","Confinamiento de estiércol, con o sin retiro periódico (BO)","Confinamiento de estiércol, con o sin retiro periódico (P)","Confinamiento de estiércol, con o sin retiro periódico (AH)","Confinamiento de estiércol, con o sin retiro periódico (AC)","Confinamiento de estiércol, con o sin retiro periódico (AGyP)","Confinamiento de estiércol, con o sin retiro periódico (O)","Confinamiento de estiércol, con o sin retiro periódico (CP)","Confinamiento de estiércol, con o sin retiro periódico (AI)","Almacenamiento en pozos por debajo de lugares de confinamiento animal M","Laguna anaeróbica no cubierta AI","Almacenamiento en pozos por debajo de lugares de confinamiento animal OA",null,null,null,"Laguna anaeróbica poco profunda (menor de 2 metros)",null,null,null,"Actividades_Recreativas","División_de_terrenos_y_construcción_de_obras_de_urbanización","Ca4. Únicamente reporta consumo energético - Energía y Transporte","Comercio_al_por_mayor_de_materias_primas_agropecuarias_y_forestales","Cb4. Únicamente reporta consumo energético - Energía y Transporte",null,null,null,null,null,null,null,null,null,null,null,null,null,"Gas Licuado"]
["V","Residuos",null,null,null,"Consumo de gas licuado",null,null,null,"Basura (residuos sólidos urbanos)","Basura (residuos sólidos urbanos)_PT","Procesamiento_Gas",null,null,null,null,null,null,null,null,null,null,null,null,null,null,null,null,null,null,null,null,"Industria_Minera","Pinturas_recubrimientos_y_adhesivos","Ia10. Únicamente reporta consumo energético - Energía y Transporte","Carburo de Calcio",null,"Carbón para el Horno de Arco Eléctrico",null,null,"Fundición_piezas_metálicas",null,null,null,null,"Otros_productos_metálicos","Id5. Únicamente reporta consumo energético - Energía y Transporte",null,null,"Dolomita","Fabricación_motores_turbinas_y_transmisiones","If5. Únicamente reporta consumo energético - Energía y Transporte",null,null,null,null,"Cloruro_de_vinilo",null,null,"Vapor combinado, proceso combinado de Lurgi ",null,null,null,null,null,null,null,null,null,null,null,null,null,null,"Fluidos de transferencia térmica","Otros_equipos_y_accesorios_eléctricos",null,"Acondicionadores de aire comerciales divididos RECARGA","Acondicionadores de aire residenciales de tipo dividido RECARGA",null,null,"Productos_lácteos","In5. Únicamente reporta consumo energético - Energía y Transporte",null,null,"Confección_de_prendas_de_vestir","Ip5. Únicamente reporta consumo energético - Energía y Transporte",null,null,"Maquinaria_agrícola","Aa5. Diesel","Porcinos_producción_carne","Almacenamiento de estiércol (como se excreta o con un mínimo de agua) en tanques o estanques de tierra (BC)","Almacenamiento de estiércol (como se excreta o con un mínimo de agua) en tanques o estanques de tierra (BL)","Almacenamiento de estiércol (como se excreta o con un mínimo de agua) en tanques o estanques de tierra (BCyL)","Almacenamiento de estiércol (como se excreta o con un mínimo de agua) en tanques o estanques de tierra (BO)","Almacenamiento de estiércol (como se excreta o con un mínimo de agua) en tanques o estanques de tierra (P)","Almacenamiento de estiércol (como se excreta o con un mínimo de agua) en tanques o estanques de tierra (AH)","Almacenamiento de estiércol (como se excreta o con un mínimo de agua) en tanques o estanques de tierra (AC)","Almacenamiento de estiércol (como se excreta o con un mínimo de agua) en tanques o estanques de tierra (AGyP)","Almacenamiento de estiércol (como se excreta o con un mínimo de agua) en tanques o estanques de tierra (O)","Almacenamiento de estiércol (como se excreta o con un mínimo de agua) en tanques o estanques de tierra (CP)","Almacenamiento de estiércol (como se excreta o con un mínimo de agua) en tanques o estanques de tierra (AI)","Camas profundas para vacunos y porcinos M","Almacenamiento en pozos por debajo de lugares de confinamiento animal AI","Camas profundas para vacunos y porcinos OA",null,null,null,"Laguna anaeróbica profunda (mayor a dos metros)",null,null,null,"Turismo","Construcción_de_vías_de_comunicación","Ca5. Únicamente reporta consumo energético - Energía y Transporte","Comercio_al_por_mayor_de_materias_primas_para_la_industria","Cb5. Únicamente reporta consumo energético - Energía y Transporte"]
["VI","Comercio_y_Servicios",null,null,null,null,null,null,null,"Biocombustible líquido","Biocombustible líquido_PT","Transporte_Petróleo",null,null,null,null,null,null,null,null,null,null,null,null,null,null,null,null,null,null,"Diesel_B",null,"Industria_Automotriz","Jabones_limpiadores_y_preparaciones_de_tocador","Ia11. Únicamente reporta consumo energético - Energía y Transporte",null,null,"Carbón para el Horno de Reducción Directa",null,null,null,null,null,null,null,"Maquinaria_y_equipo_para_comercio_y_servicios","Id6. Únicamente reporta consumo energético - Energía y Transporte",null,null,"Siderita",null,null,null,null,null,null,"Acrilonitrilo",null,null,"Vapor convencional, proceso Mega Metanol de Lurgi",null,null,null,null,null,null,null,null,null,null,null,null,null,null,null,null,null,"Acondicionadores de aire comerciales divididos ELIMINACIÓN","Acondicionadores de aire residenciales de tipo dividido ELIMINACIÓN",null,null,"Matanza_empacado_y_procesamiento_de_carne_y_animales_comestibles","In6. Únicamente reporta consumo energético - Energía y Transporte",null,null,null,null,null,null,null,"Aa6. Gasolinas y naftas","Avícola_producción_huevo","Almacenamiento de estiércol líquido (BC)","Almacenamiento de estiércol líquido (BL)","Almacenamiento de estiércol líquido (BCyL)","Almacenamiento de estiércol líquido (BO)","Almacenamiento de estiércol líquido (P)","Almacenamiento de estiércol líquido (AH)","Almacenamiento de estiércol líquido (AC)","Almacenamiento de estiércol líquido (AGyP)","Almacenamiento de estiércol líquido (O)","Almacenamiento de estiércol líquido (CP)","Almacenamiento de estiércol líquido (AI)","Camas profundas para vacunos y porcinos M","Camas profundas para vacunos y porcinos AI","Camas profundas para vacunos y porcinos OA",null,null,null,null,null,null,null,"Servicios_Médicos","Otras_construcciones_de_ingeniería_civil","Ca6. Únicamente reporta consumo energético - Energía y Transporte","Comercio_al_por_mayor_de_maquinaria_y_equipo_agropecuario_forestal_y_para_la_pesca","Cb6. Únicamente reporta consumo energético - Energía y Transporte"]
["T","Todos",null,null,null,null,null,null,null,"Biodiesel","Biodiesel_PT","Transporte_Gas_almacenamiento",null,null,null,null,null,null,null,null,null,null,null,null,null,null,null,null,null,null,"Gas Natural_B",null,"Industria_Celulosa_y_Papel","Productos_de_plástico","Ia12. Únicamente reporta consumo energético - Energía y Transporte",null,null,"Coque_Siderurgia",null,null,null,null,null,null,null,null,null,null,null,"Ankerita (o espato)",null,null,null,null,null,null,"Óxido_de_etileno",null,null,"Proceso de oxidación parcial",null,null,null,null,null,null,null,null,null,null,null,null,null,null,null,null,null,"Aire acondicionado automotriz CARGA","Refrigeración doméstica CARGA",null,null,"Preparación_y_envasado_de_pescados_y_mariscos","In7. Únicamente reporta consumo energético - Energía y Transporte",null,null,null,null,null,null,null,null,"Avícola_producción_carne","Almacenamiento del estiércol (con poco o ningún agregado de agua) debajo de un suelo emparrillado (BC)","Almacenamiento del estiércol (con poco o ningún agregado de agua) debajo de un suelo emparrillado (BL)","Almacenamiento del estiércol (con poco o ningún agregado de agua) debajo de un suelo emparrillado (BCyL)","Almacenamiento del estiércol (con poco o ningún agregado de agua) debajo de un suelo emparrillado (BO)","Almacenamiento del estiércol (con poco o ningún agregado de agua) debajo de un suelo emparrillado (P)","Almacenamiento del estiércol (con poco o ningún agregado de agua) debajo de un suelo emparrillado (AH)","Almacenamiento del estiércol (con poco o ningún agregado de agua) debajo de un suelo emparrillado (AC)","Almacenamiento del estiércol (con poco o ningún agregado de agua) debajo de un suelo emparrillado (AGyP)","Almacenamiento del estiércol (con poco o ningún agregado de agua) debajo de un suelo emparrillado (O)","Almacenamiento del estiércol (con poco o ningún agregado de agua) debajo de un suelo emparrillado (CP)","Almacenamiento del estiércol (con poco o ningún agregado de agua) debajo de un suelo emparrillado (AI)","Fabricación de abono orgánico (composta) – en tambor M","Camas profundas para vacunos y porcinos AI","Fabricación de abono orgánico (composta) – en tambor OA",null,null,null,null,null,null,null,"Gobierno","Cimentaciones_montaje_de_estructuras_prefabricadas_y_trabajos_en_exteriores","Ca7. Únicamente reporta consumo energético - Energía y Transporte","Mobiliario_y_equipo_de_cómputo_y_oficina_y_otra_maquinaria_y_equipo_de_uso_general","Cb7. Únicamente reporta consumo energético - Energía y Transporte"]
[null,null,null,null,null,null,null,null,null,"Biogás (metano)","Biogás (metano)_PT","Distribución_gas_natural_ductos",null,null,null,null,null,null,null,null,null,null,null,null,null,null,null,null,null,null,"Gas_licuado_B",null,"Industria_Artes_Gráficas","Productos_de_hule",null,null,null,"Caliza",null,null,null,null,null,null,null,null,null,null,null,"Rhodochrosita",null,null,null,null,null,null,"Negro_de_humo",null,null,"Vapor convencional, producción integrada de amoníaco",null,null,null,null,null,null,null,null,null,null,null,null,null,null,null,null,null,"Aire acondicionado automotriz RECARGA","Refrigeración doméstica RECARGA",null,null,"Productos_de_panadería_y_tortillas","In8. Únicamente reporta consumo energético - Energía y Transporte",null,null,null,null,null,null,null,null,"Avícola_producción_guajolotes_pavos","Almacenamiento de estiércol (con o sin paja) en un tanque contenedor o en una laguna cubierta en condiciones anaerobias (BC)","Almacenamiento de estiércol (con o sin paja) en un tanque contenedor o en una laguna cubierta en condiciones anaerobias (BL)","Almacenamiento de estiércol (con o sin paja) en un tanque contenedor o en una laguna cubierta en condiciones anaerobias (BCyL)","Almacenamiento de estiércol (con o sin paja) en un tanque contenedor o en una laguna cubierta en condiciones anaerobias (BO)","Almacenamiento de estiércol (con o sin paja) en un tanque contenedor o en una laguna cubierta en condiciones anaerobias (P)","Almacenamiento de estiércol (con o sin paja) en un tanque contenedor o en una laguna cubierta en condiciones anaerobias (AH)","Almacenamiento de estiércol (con o sin paja) en un tanque contenedor o en una laguna cubierta en condiciones anaerobias (AC)","Almacenamiento de estiércol (con o sin paja) en un tanque contenedor o en una laguna cubierta en condiciones anaerobias (AGyP)","Almacenamiento de estiércol (con o sin paja) en un tanque contenedor o en una laguna cubierta en condiciones anaerobias (O)","Almacenamiento de estiércol (con o sin paja) en un tanque contenedor o en una laguna cubierta en condiciones anaerobias (CP)","Almacenamiento de estiércol (con o sin paja) en un tanque contenedor o en una laguna cubierta en condiciones anaerobias (AI)","Fabricación de abono orgánico (composta) – Pila estática M","Fabricación de abono orgánico (composta) – en tambor AI","Fabricación de abono orgánico (composta) – Pila estática OA",null,null,null,null,null,null,null,"Servicios_Financieros","Instalaciones_y_equipamiento_en_construcciones","Ca8. Únicamente reporta consumo energético - Energía y Transporte","Comercio_al_por_menor_de_abarrotes_y_alimentos","Cb8. Únicamente reporta consumo energético - Energía y Transporte"]
[null,null,null,null,null,null,null,null,null,"Biogasolina","Biogasolina_PT","Suministro_gas_natural_al_consumidor_final",null,null,null,null,null,null,null,null,null,null,null,null,null,null,null,null,null,null,"Gasolina_B",null,"Industria_Petroquímica",null,null,null,null,"Dolomita cruda",null,null,null,null,null,null,null,null,null,null,null,"Carbonato de sodio o ceniza de sosa",null,null,null,null,null,null,"Dióxido_de_titanio",null,null,null,null,null,null,null,null,null,null,null,null,null,null,null,null,null,null,null,null,"Aire acondicionado automotriz ELIMINACIÓN","Refrigeración doméstica ELIMINACIÓN",null,null,"Industria_de_bebidas","In9. Únicamente reporta consumo energético - Energía y Transporte",null,null,null,null,null,null,null,null,"Ovinos","Quema o uso como combustible de estiércol seco (BC)","Quema o uso como combustible de estiércol seco (BL)","Quema o uso como combustible de estiércol seco (BCyL)","Quema o uso como combustible de estiércol seco (BO)","Quema o uso como combustible de estiércol seco (P)","Quema o uso como combustible de estiércol seco (AH)","Quema o uso como combustible de estiércol seco (AC)","Quema o uso como combustible de estiércol seco (AGyP)","Quema o uso como combustible de estiércol seco (O)","Quema o uso como combustible de estiércol seco (CP)","Quema o uso como combustible de estiércol seco (AI)","Fabricación de abono orgánico (composta) – intensivo en filas M","Fabricación de abono orgánico (composta) – Pila estática AI","Fabricación de abono orgánico (composta) – intensivo en filas OA",null,null,null,null,null,null,null,null,"Trabajos_de_acabados_en_edificaciones","Ca9. Únicamente reporta consumo energético - Energía y Transporte","Comercio_al_por_menor_en_tiendas_de_autoservicio","Cb9. Únicamente reporta consumo energético - Energía y Transporte"]
[null,null,null,null,null,null,null,null,null,"Caña de maíz","Caña de maíz_PT",null,null,null,null,null,null,null,null,null,null,null,null,null,null,null,null,null,null,null,null,null,"Industria_Cemento_y_Cal",null,null,null,null,"Electrodos del Horno de Arco Eléctrico o del Horno Básico de Oxígeno",null,null,null,null,null,null,null,null,null,null,null,null,null,null,null,null,null,null,"Caprolactama",null,null,null,null,null,null,null,null,null,null,null,null,null,null,null,null,null,null,null,null,"Aire acondicionado automotriz en vehículos grandes CARGA",null,null,null,null,null,null,null,null,null,null,null,null,null,"Caprinos","Almacenamiento de estiércol con cama de agregados para el control de humedad (BC)","Almacenamiento de estiércol con cama de agregados para el control de humedad (BL)","Almacenamiento de estiércol con cama de agregados para el control de humedad (BCyL)","Almacenamiento de estiércol con cama de agregados para el control de humedad (BO)","Almacenamiento de estiércol con cama de agregados para el control de humedad (P)","Almacenamiento de estiércol con cama de agregados para el control de humedad (AH)","Almacenamiento de estiércol con cama de agregados para el control de humedad (AC)","Almacenamiento de estiércol con cama de agregados para el control de humedad (AGyP)","Almacenamiento de estiércol con cama de agregados para el control de humedad (O)","Almacenamiento de estiércol con cama de agregados para el control de humedad (CP)","Almacenamiento de estiércol con cama de agregados para el control de humedad (AI)","Fabricación de abono orgánico (composta) – pasivo en filas M","Fabricación de abono orgánico (composta) – intensivo en filas AI","Fabricación de abono orgánico (composta) – pasivo en filas OA",null,null,null,null,null,null,null,null,"Otros_trabajos_especializados_para_la_construcción","Ca10. Únicamente reporta consumo energético - Energía y Transporte","Comercio_al_por_menor_en_tiendas_departamentales","Cb10. Únicamente reporta consumo energético - Energía y Transporte"]
[null,null,null,null,null,null,null,null,null,"Carbón antracita","Carbón antracita_PT",null,null,null,null,null,null,null,null,null,null,null,null,null,null,null,null,null,null,null,"Diesel_C",null,"Industria_Vidrio",null,null,null,null,"Arrabio",null,null,null,null,null,null,null,null,null,null,null,null,null,null,null,null,null,null,null,null,null,null,null,null,null,null,null,null,null,null,null,null,null,null,null,null,null,null,null,"Aire acondicionado automotriz en vehículos grandes RECARGA",null,null,null,null,null,null,null,null,null,null,null,null,null,"Producción_ave_incubadora","Composteo en canal cerrado, con aireación forzada y mezclado permanente (BC)","Composteo en canal cerrado, con aireación forzada y mezclado permanente (BL)","Composteo en canal cerrado, con aireación forzada y mezclado permanente (BCyL)","Composteo en canal cerrado, con aireación forzada y mezclado permanente (BO)","Composteo en canal cerrado, con aireación forzada y mezclado permanente (P)","Composteo en canal cerrado, con aireación forzada y mezclado permanente (AH)","Composteo en canal cerrado, con aireación forzada y mezclado permanente (AC)","Composteo en canal cerrado, con aireación forzada y mezclado permanente (AGyP)","Composteo en canal cerrado, con aireación forzada y mezclado permanente (O)","Composteo en canal cerrado, con aireación forzada y mezclado permanente (CP)","Composteo en canal cerrado, con aireación forzada y mezclado permanente (AI)","Estiércol de aves de corral con hojarasca M","Fabricación de abono orgánico (composta) – pasivo en filas AI","Estiércol de aves de corral con hojarasca OA",null,null,null,null,null,null,null,null,"Maquinaria_construcción","Gasolinas_maquinaria_construcción","Comercio_al_por_menor_de_ropa_bisutería_y_accesorios_de_vestir","Cb11. Únicamente reporta consumo energético - Energía y Transporte"]
[null,null,null,null,null,null,null,null,null,"Carbón bituminoso","Carbón bituminoso_PT",null,null,null,null,null,null,null,null,null,null,null,null,null,null,null,null,null,null,null,"Gas Natural_C",null,"Industria_Electrónica",null,null,null,null,"Arrabio frío (Cold iron)",null,null,null,null,null,null,null,null,null,null,null,null,null,null,null,null,null,null,null,null,null,null,null,null,null,null,null,null,null,null,null,null,null,null,null,null,null,null,null,"Aire acondicionado automotriz en vehículos grandes ELIMINACIÓN",null,null,null,null,null,null,null,null,null,null,null,null,null,null,"Composteo en pilas con aireación forzada pero sin mezclado (BC)","Composteo en pilas con aireación forzada pero sin mezclado (BL)","Composteo en pilas con aireación forzada pero sin mezclado (BCyL)","Composteo en pilas con aireación forzada pero sin mezclado (BO)","Composteo en pilas con aireación forzada pero sin mezclado (P)","Composteo en pilas con aireación forzada pero sin mezclado (AH)","Composteo en pilas con aireación forzada pero sin mezclado (AC)","Composteo en pilas con aireación forzada pero sin mezclado (AGyP)","Composteo en pilas con aireación forzada pero sin mezclado (O)","Composteo en pilas con aireación forzada pero sin mezclado (CP)","Composteo en pilas con aireación forzada pero sin mezclado (AI)","Estiércol de aves de corral sin hojarasca M","Estiércol de aves de corral con hojarasca AI","Estiércol de aves de corral sin hojarasca OA",null,null,null,null,null,null,null,null,null,"Diesel_maquinaria_construcción","Comercio_al_por_menor_de_partes_y_refacciones_para_automóviles_camionetas_y_camiones","Cb12. Únicamente reporta consumo energético - Energía y Transporte"]
[null,null,null,null,null,null,null,null,null,"Carbón mineral","Carbón mineral_PT",null,null,null,null,null,null,null,null,null,null,null,null,null,null,null,null,null,null,null,"Gas_licuado_C",null,"Industria_Eléctrica",null,null,null,null,"Fierro Esponja o Hierro de Reducción Directa Base Gas Natural",null,null,null,null,null,null,null,null,null,null,null,null,null,null,null,null,null,null,null,null,null,null,null,null,null,null,null,null,null,null,null,null,null,null,null,null,null,null,null,"Cajas frías para transporte CARGA",null,null,null,null,null,null,null,null,null,null,null,null,null,null,"Composteo en pilas rectangulares con mezclado de medias vueltas regulares (diario) para mezclado y aireación (BC)","Composteo en pilas rectangulares con mezclado de medias vueltas regulares (diario) para mezclado y aireación (BL)","Composteo en pilas rectangulares con mezclado de medias vueltas regulares (diario) para mezclado y aireación (BCyL)","Composteo en pilas rectangulares con mezclado de medias vueltas regulares (diario) para mezclado y aireación (BO)","Composteo en pilas rectangulares con mezclado de medias vueltas regulares (diario) para mezclado y aireación (P)","Composteo en pilas rectangulares con mezclado de medias vueltas regulares (diario) para mezclado y aireación (AH)","Composteo en pilas rectangulares con mezclado de medias vueltas regulares (diario) para mezclado y aireación (AC)","Composteo en pilas rectangulares con mezclado de medias vueltas regulares (diario) para mezclado y aireación (AGyP)","Composteo en pilas rectangulares con mezclado de medias vueltas regulares (diario) para mezclado y aireación (O)","Composteo en pilas rectangulares con mezclado de medias vueltas regulares (diario) para mezclado y aireación (CP)","Composteo en pilas rectangulares con mezclado de medias vueltas regulares (diario) para mezclado y aireación (AI)","Tratamiento aeróbico M","Estiércol de aves de corral sin hojarasca AI","Tratamiento aeróbico OA"]
[null,null,null,null,null,null,null,null,null,"Carbón siderúrgico de importación","Carbón siderúrgico de importación_PT",null,null,null,null,null,null,null,null,null,null,null,null,null,null,null,null,null,null,null,"Gasolina_C",null,"Industria_Alimentos_y_Bebidas",null,null,null,null,"Fierro Esponja o Hierro de Reducción Directa Base Carbón",null,null,null,null,null,null,null,null,null,null,null,null,null,null,null,null,null,null,null,null,null,null,null,null,null,null,null,null,null,null,null,null,null,null,null,null,null,null,null,"Cajas frías para transporte RECARGA",null,null,null,null,null,null,null,null,null,null,null,null,null,null,"Composteo en pilas rectangulares con mezclado de medias vueltas frecuentes para mezclado y aireación (BC)","Composteo en pilas rectangulares con mezclado de medias vueltas frecuentes para mezclado y aireación (BL)","Composteo en pilas rectangulares con mezclado de medias vueltas frecuentes para mezclado y aireación (BCyL)","Composteo en pilas rectangulares con mezclado de medias vueltas frecuentes para mezclado y aireación (BO)","Composteo en pilas rectangulares con mezclado de medias vueltas frecuentes para mezclado y aireación (P)","Composteo en pilas rectangulares con mezclado de medias vueltas frecuentes para mezclado y aireación (AH)","Composteo en pilas rectangulares con mezclado de medias vueltas frecuentes para mezclado y aireación (AC)","Composteo en pilas rectangulares con mezclado de medias vueltas frecuentes para mezclado y aireación (AGyP)","Composteo en pilas rectangulares con mezclado de medias vueltas frecuentes para mezclado y aireación (O)","Composteo en pilas rectangulares con mezclado de medias vueltas frecuentes para mezclado y aireación (CP)","Composteo en pilas rectangulares con mezclado de medias vueltas frecuentes para mezclado y aireación (AI)","Tratamiento aeróbico M","Tratamiento aeróbico AI","Tratamiento aeróbico OA"]
[null,null,null,null,null,null,null,null,null,"Carbón siderúrgico nacional","Carbón siderúrgico nacional_PT",null,null,null,null,null,null,null,null,null,null,null,null,null,null,null,null,null,null,null,null,null,"Industria_Madera",null,null,null,null,"Ferroníquel",null,null,null,null,null,null,null,null,null,null,null,null,null,null,null,null,null,null,null,null,null,null,null,null,null,null,null,null,null,null,null,null,null,null,null,null,null,null,null,"Cajas frías para transporte ELIMINACIÓN",null,null,null,null,null,null,null,null,null,null,null,null,null,null,"Mezclado de estiércol de aves de corral con hojarasca en camas profundas (no combinadas con engorde en corral o pastura) (BC)","Mezclado de estiércol de aves de corral con hojarasca en camas profundas (no combinadas con engorde en corral o pastura) (BL)","Mezclado de estiércol de aves de corral con hojarasca en camas profundas (no combinadas con engorde en corral o pastura) (BCyL)","Mezclado de estiércol de aves de corral con hojarasca en camas profundas (no combinadas con engorde en corral o pastura) (BO)","Mezclado de estiércol de aves de corral con hojarasca en camas profundas (no combinadas con engorde en corral o pastura) (P)","Mezclado de estiércol de aves de corral con hojarasca en camas profundas (no combinadas con engorde en corral o pastura) (AH)","Mezclado de estiércol de aves de corral con hojarasca en camas profundas (no combinadas con engorde en corral o pastura) (AC)","Mezclado de estiércol de aves de corral con hojarasca en camas profundas (no combinadas con engorde en corral o pastura) (AGyP)","Mezclado de estiércol de aves de corral con hojarasca en camas profundas (no combinadas con engorde en corral o pastura) (O)","Mezclado de estiércol de aves de corral con hojarasca en camas profundas (no combinadas con engorde en corral o pastura) (CP)","Mezclado de estiércol de aves de corral con hojarasca en camas profundas (no combinadas con engorde en corral o pastura) (AI)",null,"Tratamiento aeróbico AI"]
[null,null,null,null,null,null,null,null,null,"Carbón térmico de importación","Carbón térmico de importación_PT",null,null,null,null,null,null,null,null,null,null,null,null,null,null,null,null,null,null,null,"Diesel_D",null,"Industria_Textil",null,null,null,null,"Ferrocromo",null,null,null,null,null,null,null,null,null,null,null,null,null,null,null,null,null,null,null,null,null,null,null,null,null,null,null,null,null,null,null,null,null,null,null,null,null,null,null,"Enfriadores con R-134a CARGA",null,null,null,null,null,null,null,null,null,null,null,null,null,null,"Manejo de estiércol de aves de corral sin hojarasca en pozos abiertos en instalaciones cerradas  (BC)","Manejo de estiércol de aves de corral sin hojarasca en pozos abiertos en instalaciones cerradas (BL)","Manejo de estiércol de aves de corral sin hojarasca en pozos abiertos en instalaciones cerradas (BCyL)","Manejo de estiércol de aves de corral sin hojarasca en pozos abiertos en instalaciones cerradas (BO)","Manejo de estiércol de aves de corral sin hojarasca en pozos abiertos en instalaciones cerradas (P)","Manejo de estiércol de aves de corral sin hojarasca en pozos abiertos en instalaciones cerradas (AH)","Manejo de estiércol de aves de corral sin hojarasca en pozos abiertos en instalaciones cerradas (AC)","Manejo de estiércol de aves de corral sin hojarasca en pozos abiertos en instalaciones cerradas (AGyP)","Manejo de estiércol de aves de corral sin hojarasca en pozos abiertos en instalaciones cerradas (O)","Manejo de estiércol de aves de corral sin hojarasca en pozos abiertos en instalaciones cerradas (CP)","Manejo de estiércol de aves de corral sin hojarasca en pozos abiertos en instalaciones cerradas (AI)"]
[null,null,null,null,null,null,null,null,null,"Carbón térmico nacional","Carbón térmico nacional_PT",null,null,null,null,null,null,null,null,null,null,null,null,null,null,null,null,null,null,null,"Gas Natural_D",null,null,null,null,null,null,"Ferromolibdeno",null,null,null,null,null,null,null,null,null,null,null,null,null,null,null,null,null,null,null,null,null,null,null,null,null,null,null,null,null,null,null,null,null,null,null,null,null,null,null,"Enfriadores con R-134a RECARGA",null,null,null,null,null,null,null,null,null,null,null,null,null,null,"Oxidación biológica aeróbica del estiércol con aireación  (BC)","Oxidación biológica aeróbica del estiércol con aireación  (BL)","Oxidación biológica aeróbica del estiércol con aireación (BCyL)","Oxidación biológica aeróbica del estiércol con aireación (BO)","Oxidación biológica aeróbica del estiércol con aireación (P)","Oxidación biológica aeróbica del estiércol con aireación (AH)","Oxidación biológica aeróbica del estiércol con aireación (AC)","Oxidación biológica aeróbica del estiércol con aireación (AGyP)","Oxidación biológica aeróbica del estiércol con aireación (O)","Oxidación biológica aeróbica del estiércol con aireación (CP)","Oxidación biológica aeróbica del estiércol con aireación (AI)"]
[null,null,null,null,null,null,null,null,null,"Carbón vegetal","Carbón vegetal_PT",null,null,null,null,null,null,null,null,null,null,null,null,null,null,null,null,null,null,null,"Gas_licuado_D",null,null,null,null,null,null,"Gas de coquizadora_Siderurgia",null,null,null,null,null,null,null,null,null,null,null,null,null,null,null,null,null,null,null,null,null,null,null,null,null,null,null,null,null,null,null,null,null,null,null,null,null,null,null,"Enfriadores con R-134a ELIMINACIÓN",null,null,null,null,null,null,null,null,null,null,null,null,null,null,"Oxidación biológica aeróbica del estiércol con aireación forzada  (BC)","Oxidación biológica aeróbica del estiércol con aireación forzada (BL)","Oxidación biológica aeróbica del estiércol con aireación forzada (BCyL)","Oxidación biológica aeróbica del estiércol con aireación forzada (BO)","Oxidación biológica aeróbica del estiércol con aireación forzada (P)","Oxidación biológica aeróbica del estiércol con aireación forzada (AH)","Oxidación biológica aeróbica del estiércol con aireación forzada (AC)","Oxidación biológica aeróbica del estiércol con aireación forzada (AGyP)","Oxidación biológica aeróbica del estiércol con aireación forzada (O)","Oxidación biológica aeróbica del estiércol con aireación forzada (CP)","Oxidación biológica aeróbica del estiércol con aireación forzada (AI)"]
[null,null,null,null,null,null,null,null,null,"Cartón ordinario-empaques-envases","Cartón ordinario-empaques-envases_PT",null,null,null,null,null,null,null,null,null,null,null,null,null,null,null,null,null,null,null,"Gasolina_D",null,null,null,null,null,null,"Gas de Alto Horno_Siderurgia",null,null,null,null,null,null,null,null,null,null,null,null,null,null,null,null,null,null,null,null,null,null,null,null,null,null,null,null,null,null,null,null,null,null,null,null,null,null,null,"Enfriadores con R-404a CARGA"]
[null,null,null,null,null,null,null,null,null,"Combustóleo ligero","Combustóleo ligero_PT",null,null,null,null,null,null,null,null,null,null,null,null,null,null,null,null,null,null,null,null,null,null,null,null,null,null,"Gas de Horno Básico de Oxígeno_Siderurgia",null,null,null,null,null,null,null,null,null,null,null,null,null,null,null,null,null,null,null,null,null,null,null,null,null,null,null,null,null,null,null,null,null,null,null,null,null,null,null,"Enfriadores con R-404a RECARGA"]
[null,null,null,null,null,null,null,null,null,"Combustóleo pesado","Combustóleo pesado_PT",null,null,null,null,null,null,null,null,null,null,null,null,null,null,null,null,null,null,null,null,null,null,null,null,null,null,"CO2 a uso externo",null,null,null,null,null,null,null,null,null,null,null,null,null,null,null,null,null,null,null,null,null,null,null,null,null,null,null,null,null,null,null,null,null,null,null,null,null,null,null,"Enfriadores con R-404a ELIMINACIÓN"]
[null,null,null,null,null,null,null,null,null,"Coque de carbón","Coque de carbón_PT",null,null,null,null,null,null,null,null,null,null,null,null,null,null,null,null,null,null,null,null,null,null,null,null,null,null,"Alquitrán_Siderurgia",null,null,null,null,null,null,null,null,null,null,null,null,null,null,null,null,null,null,null,null,null,null,null,null,null,null,null,null,null,null,null,null,null,null,null,null,null,null,null,"Equipo autónomo CARGA"]
[null,null,null,null,null,null,null,null,null,"Coque de petróleo","Coque de petróleo_PT",null,null,null,null,null,null,null,null,null,null,null,null,null,null,null,null,null,null,null,null,null,null,null,null,null,null,"Benzol",null,null,null,null,null,null,null,null,null,null,null,null,null,null,null,null,null,null,null,null,null,null,null,null,null,null,null,null,null,null,null,null,null,null,null,null,null,null,null,"Equipo autónomo RECARGA"]
[null,null,null,null,null,null,null,null,null,"Diáfano","Diáfano_PT",null,null,null,null,null,null,null,null,null,null,null,null,null,null,null,null,null,null,null,null,null,null,null,null,null,null,"Combustóleo_Siderurgia",null,null,null,null,null,null,null,null,null,null,null,null,null,null,null,null,null,null,null,null,null,null,null,null,null,null,null,null,null,null,null,null,null,null,null,null,null,null,null,"Equipo autónomo ELIMINACIÓN"]
[null,null,null,null,null,null,null,null,null,"Diésel","Diésel_PT",null,null,null,null,null,null,null,null,null,null,null,null,null,null,null,null,null,null,null,null,null,null,null,null,null,null,"Diésel_Siderurgia",null,null,null,null,null,null,null,null,null,null,null,null,null,null,null,null,null,null,null,null,null,null,null,null,null,null,null,null,null,null,null,null,null,null,null,null,null,null,null,"Integral CARGA"]
[null,null,null,null,null,null,null,null,null,"Esquisto bituminoso y alquitrán","Esquisto bituminoso y alquitrán_PT",null,null,null,null,null,null,null,null,null,null,null,null,null,null,null,null,null,null,null,null,null,null,null,null,null,null,"Keroseno_Siderurgia",null,null,null,null,null,null,null,null,null,null,null,null,null,null,null,null,null,null,null,null,null,null,null,null,null,null,null,null,null,null,null,null,null,null,null,null,null,null,null,"Integral RECARGA"]
[null,null,null,null,null,null,null,null,null,"Etano","Etano_PT",null,null,null,null,null,null,null,null,null,null,null,null,null,null,null,null,null,null,null,null,null,null,null,null,null,null,"GLP_Siderurgia",null,null,null,null,null,null,null,null,null,null,null,null,null,null,null,null,null,null,null,null,null,null,null,null,null,null,null,null,null,null,null,null,null,null,null,null,null,null,null,"Integral ELIMINACIÓN"]
[null,null,null,null,null,null,null,null,null,"Gas de alto horno ","Gas de alto horno _PT",null,null,null,null,null,null,null,null,null,null,null,null,null,null,null,null,null,null,null,null,null,null,null,null,null,null,"Gas Natural_Siderurgia",null,null,null,null,null,null,null,null,null,null,null,null,null,null,null,null,null,null,null,null,null,null,null,null,null,null,null,null,null,null,null,null,null,null,null,null,null,null,null,"Multi-splits CARGA"]
[null,null,null,null,null,null,null,null,null,"Gas de coque ","Gas de coque _PT",null,null,null,null,null,null,null,null,null,null,null,null,null,null,null,null,null,null,null,null,null,null,null,null,null,null,null,null,null,null,null,null,null,null,null,null,null,null,null,null,null,null,null,null,null,null,null,null,null,null,null,null,null,null,null,null,null,null,null,null,null,null,null,null,null,null,"Multi-splits RECARGA"]
[null,null,null,null,null,null,null,null,null,"Gas licuado","Gas licuado_PT",null,null,null,null,null,null,null,null,null,null,null,null,null,null,null,null,null,null,null,null,null,null,null,null,null,null,null,null,null,null,null,null,null,null,null,null,null,null,null,null,null,null,null,null,null,null,null,null,null,null,null,null,null,null,null,null,null,null,null,null,null,null,null,null,null,null,"Multi-splits ELIMINACIÓN"]
[null,null,null,null,null,null,null,null,null,"Gas natural (promedio asociado y no asociado)","Gas natural (promedio asociado y no asociado)_PT",null,null,null,null,null,null,null,null,null,null,null,null,null,null,null,null,null,null,null,null,null,null,null,null,null,null,null,null,null,null,null,null,null,null,null,null,null,null,null,null,null,null,null,null,null,null,null,null,null,null,null,null,null,null,null,null,null,null,null,null,null,null,null,null,null,null,"Sistemas centralizados para industria CARGA"]
[null,null,null,null,null,null,null,null,null,"Gas natural asociado","Gas natural asociado_PT",null,null,null,null,null,null,null,null,null,null,null,null,null,null,null,null,null,null,null,null,null,null,null,null,null,null,null,null,null,null,null,null,null,null,null,null,null,null,null,null,null,null,null,null,null,null,null,null,null,null,null,null,null,null,null,null,null,null,null,null,null,null,null,null,null,null,"Sistemas centralizados para industria RECARGA"]
[null,null,null,null,null,null,null,null,null,"Gas natural no asociado ","Gas natural no asociado _PT",null,null,null,null,null,null,null,null,null,null,null,null,null,null,null,null,null,null,null,null,null,null,null,null,null,null,null,null,null,null,null,null,null,null,null,null,null,null,null,null,null,null,null,null,null,null,null,null,null,null,null,null,null,null,null,null,null,null,null,null,null,null,null,null,null,null,"Sistemas centralizados para industria ELIMINACIÓN"]
[null,null,null,null,null,null,null,null,null,"Gas seco ","Gas seco_PT",null,null,null,null,null,null,null,null,null,null,null,null,null,null,null,null,null,null,null,null,null,null,null,null,null,null,null,null,null,null,null,null,null,null,null,null,null,null,null,null,null,null,null,null,null,null,null,null,null,null,null,null,null,null,null,null,null,null,null,null,null,null,null,null,null,null,"Sistemas centralizados para supermercados CARGA"]
[null,null,null,null,null,null,null,null,null,"Gas seco de exportación","Gas seco de exportación_PT",null,null,null,null,null,null,null,null,null,null,null,null,null,null,null,null,null,null,null,null,null,null,null,null,null,null,null,null,null,null,null,null,null,null,null,null,null,null,null,null,null,null,null,null,null,null,null,null,null,null,null,null,null,null,null,null,null,null,null,null,null,null,null,null,null,null,"Sistemas centralizados para supermercados RECARGA"]
[null,null,null,null,null,null,null,null,null,"Gas seco de importación","Gas seco de importación_PT",null,null,null,null,null,null,null,null,null,null,null,null,null,null,null,null,null,null,null,null,null,null,null,null,null,null,null,null,null,null,null,null,null,null,null,null,null,null,null,null,null,null,null,null,null,null,null,null,null,null,null,null,null,null,null,null,null,null,null,null,null,null,null,null,null,null,"Sistemas centralizados para supermercados ELIMINACIÓN"]
[null,null,null,null,null,null,null,null,null,"Gasóleo","Gasóleo_PT",null,null,null,null,null,null,null,null,null,null,null,null,null,null,null,null,null,null,null,null,null,null,null,null,null,null,null,null,null,null,null,null,null,null,null,null,null,null,null,null,null,null,null,null,null,null,null,null,null,null,null,null,null,null,null,null,null,null,null,null,null,null,null,null,null,null,"Sistemas comerciales divididos con ductos CARGA"]
[null,null,null,null,null,null,null,null,null,"Gasolinas naturales","Gasolinas naturales_PT",null,null,null,null,null,null,null,null,null,null,null,null,null,null,null,null,null,null,null,null,null,null,null,null,null,null,null,null,null,null,null,null,null,null,null,null,null,null,null,null,null,null,null,null,null,null,null,null,null,null,null,null,null,null,null,null,null,null,null,null,null,null,null,null,null,null,"Sistemas comerciales divididos con ductos RECARGA"]
[null,null,null,null,null,null,null,null,null,"Gasolinas y naftas","Gasolinas y naftas_PT",null,null,null,null,null,null,null,null,null,null,null,null,null,null,null,null,null,null,null,null,null,null,null,null,null,null,null,null,null,null,null,null,null,null,null,null,null,null,null,null,null,null,null,null,null,null,null,null,null,null,null,null,null,null,null,null,null,null,null,null,null,null,null,null,null,null,"Sistemas comerciales divididos con ductos ELIMINACIÓN"]
[null,null,null,null,null,null,null,null,null,"Hidrógeno","Hidrógeno_PT",null,null,null,null,null,null,null,null,null,null,null,null,null,null,null,null,null,null,null,null,null,null,null,null,null,null,null,null,null,null,null,null,null,null,null,null,null,null,null,null,null,null,null,null,null,null,null,null,null,null,null,null,null,null,null,null,null,null,null,null,null,null,null,null,null,null,"Unidad de techo con ductos CARGA"]
[null,null,null,null,null,null,null,null,null,"Lana y seda","Lana y seda_PT",null,null,null,null,null,null,null,null,null,null,null,null,null,null,null,null,null,null,null,null,null,null,null,null,null,null,null,null,null,null,null,null,null,null,null,null,null,null,null,null,null,null,null,null,null,null,null,null,null,null,null,null,null,null,null,null,null,null,null,null,null,null,null,null,null,null,"Unidad de techo con ductos RECARGA"]
[null,null,null,null,null,null,null,null,null,"Leña","Leña_PT",null,null,null,null,null,null,null,null,null,null,null,null,null,null,null,null,null,null,null,null,null,null,null,null,null,null,null,null,null,null,null,null,null,null,null,null,null,null,null,null,null,null,null,null,null,null,null,null,null,null,null,null,null,null,null,null,null,null,null,null,null,null,null,null,null,null,"Unidad de techo con ductos ELIMINACIÓN"]
[null,null,null,null,null,null,null,null,null,"Licor negro  ","Licor negro_PT",null,null,null,null,null,null,null,null,null,null,null,null,null,null,null,null,null,null,null,null,null,null,null,null,null,null,null,null,null,null,null,null,null,null,null,null,null,null,null,null,null,null,null,null,null,null,null,null,null,null,null,null,null,null,null,null,null,null,null,null,null,null,null,null,null,null,"Unidades condensadas comerciales CARGA"]
[null,null,null,null,null,null,null,null,null,"Lubricantes","Lubricantes_PT",null,null,null,null,null,null,null,null,null,null,null,null,null,null,null,null,null,null,null,null,null,null,null,null,null,null,null,null,null,null,null,null,null,null,null,null,null,null,null,null,null,null,null,null,null,null,null,null,null,null,null,null,null,null,null,null,null,null,null,null,null,null,null,null,null,null,"Unidades condensadas comerciales RECARGA"]
[null,null,null,null,null,null,null,null,null,"Madera  (20% de humedad)","Madera  (20% de humedad)_PT",null,null,null,null,null,null,null,null,null,null,null,null,null,null,null,null,null,null,null,null,null,null,null,null,null,null,null,null,null,null,null,null,null,null,null,null,null,null,null,null,null,null,null,null,null,null,null,null,null,null,null,null,null,null,null,null,null,null,null,null,null,null,null,null,null,null,"Unidades condensadas comerciales ELIMINACIÓN"]
[null,null,null,null,null,null,null,null,null,"Madera en astillas/pellets","Madera en astillas/pellets_PT",null,null,null,null,null,null,null,null,null,null,null,null,null,null,null,null,null,null,null,null,null,null,null,null,null,null,null,null,null,null,null,null,null,null,null,null,null,null,null,null,null,null,null,null,null,null,null,null,null,null,null,null,null,null,null,null,null,null,null,null,null,null,null,null,null,null,"Unidades condensadas industriales CARGA"]
[null,null,null,null,null,null,null,null,null,"Mezcla de parafinas","Mezcla de parafinas_PT",null,null,null,null,null,null,null,null,null,null,null,null,null,null,null,null,null,null,null,null,null,null,null,null,null,null,null,null,null,null,null,null,null,null,null,null,null,null,null,null,null,null,null,null,null,null,null,null,null,null,null,null,null,null,null,null,null,null,null,null,null,null,null,null,null,null,"Unidades condensadas industriales RECARGA"]
[null,null,null,null,null,null,null,null,null,"Paja de arroz","Paja de arroz_PT",null,null,null,null,null,null,null,null,null,null,null,null,null,null,null,null,null,null,null,null,null,null,null,null,null,null,null,null,null,null,null,null,null,null,null,null,null,null,null,null,null,null,null,null,null,null,null,null,null,null,null,null,null,null,null,null,null,null,null,null,null,null,null,null,null,null,"Unidades condensadas industriales ELIMINACIÓN"]
[null,null,null,null,null,null,null,null,null,"Paneles-fibras-partículas y pedacería de madera","Paneles-fibras-partículas y pedacería de madera_PT"]
[null,null,null,null,null,null,null,null,null,"Papel ordinario o kraft","Papel ordinario o kraft_PT"]
[null,null,null,null,null,null,null,null,null,"Petróleo crudo (promedio de la producción)","Petróleo crudo (promedio de la producción)_PT"]
[null,null,null,null,null,null,null,null,null,"Petróleo crudo ligero","Petróleo crudo ligero_PT"]
[null,null,null,null,null,null,null,null,null,"Petróleo crudo pesado","Petróleo crudo pesado_PT"]
[null,null,null,null,null,null,null,null,null,"Petróleo crudo superligero","Petróleo crudo superligero_PT"]
[null,null,null,null,null,null,null,null,null,"Querosenos","Querosenos_PT"]
[null,null,null,null,null,null,null,null,null,"Turba (35 % de humedad)","Turba (35 % de humedad)_PT"]
[null,null,null,null,null,null,null,null,null,"Turbosina","Turbosina_PT"]

{"sheet":"ID","index":5,"n_rows":610,"n_cols":5,"rows_kept":610,"cut":false,"hidden":true,"merged":[]}
[]
["FUENTE DE EMISIÓN","ACTIVIDAD","SUBSECTOR","SECTOR","ID"]
["Aa1. Únicamente reporta consumo energético - Energía y Transporte","Oleaginosas_gramíneas_leguminosas_o_cereales_en_grano_y_forrajeras","Subsector_Agricultura","Agropecuario","Aa1"]
["Aa2. Únicamente reporta consumo energético - Energía y Transporte","Cultivo_de_hortalizas","Subsector_Agricultura","Agropecuario","Aa2"]
["Aa3. Únicamente reporta consumo energético - Energía y Transporte","Cultivo_de_frutales_y_nueces","Subsector_Agricultura","Agropecuario","Aa3"]
["Aa4. Únicamente reporta consumo energético - Energía y Transporte","Cultivo_en_invernaderos_y_viveros_y_floricultura","Subsector_Agricultura","Agropecuario","Aa4"]
["Aa5. Diesel","Maquinaria_agrícola","Subsector_Agricultura","Agropecuario","Aa5"]
["Aa6. Gasolinas y naftas","Maquinaria_agrícola","Subsector_Agricultura","Agropecuario","Aa6"]
["Acetonitrilo quemado para recuperación de energía y/o quemado en antorcha","Acrilonitrilo","Industria_Petroquímica","Industrial","Ii24"]
["Acetonitrilo y cianuro de hidrógeno recuperado como producto","Acrilonitrilo","Industria_Petroquímica","Industrial","Ii25"]
["Ácido Adípico","Productos_químicos_básicos","Industria_Química","Industrial","Ia03"]
["Ácido glioxílico","Caprolactama","Industria_Petroquímica","Industrial","Ii35"]
["Ácido Nítrico","Productos_químicos_básicos","Industria_Química","Industrial","Ia02"]
["Acondicionadores de aire autocontenidos CARGA","Fabricación de equipo de aire acondicionado, calefacción, y de refrigeración; industrial y comercial","Subsector industria eléctrica","Industrial","Im2"]
["Acondicionadores de aire autocontenidos ELIMINACIÓN","Fabricación de equipo de aire acondicionado, calefacción, y de refrigeración; industrial y comercial","Subsector industria eléctrica","Industrial","Im4"]
["Acondicionadores de aire autocontenidos RECARGA","Fabricación de equipo de aire acondicionado, calefacción, y de refrigeración; industrial y comercial","Subsector industria eléctrica","Industrial","Im3"]
["Acondicionadores de aire comerciales divididos CARGA","Fabricación de equipo de aire acondicionado, calefacción, y de refrigeración; industrial y comercial","Subsector industria eléctrica","Industrial","Im5"]
["Acondicionadores de aire comerciales divididos ELIMINACIÓN","Fabricación de equipo de aire acondicionado, calefacción, y de refrigeración; industrial y comercial","Subsector industria eléctrica","Industrial","Im7"]
["Acondicionadores de aire comerciales divididos RECARGA","Fabricación de equipo de aire acondicionado, calefacción, y de refrigeración; industrial y comercial","Subsector industria eléctrica","Industrial","Im6"]
["Acondicionadores de aire residenciales de ducto o tipo dividido CARGA","Fabricación de equipo de aire acondicionado, calefacción, y de refrigeración; industrial y comercial","Subsector industria eléctrica","Industrial","Im50"]
["Acondicionadores de aire residenciales de ducto o tipo dividido ELIMINACIÓN","Fabricación de equipo de aire acondicionado, calefacción, y de refrigeración; industrial y comercial","Subsector industria eléctrica","Industrial","Im52"]
["Acondicionadores de aire residenciales de ducto o tipo dividido RECARGA","Fabricación de equipo de aire acondicionado, calefacción, y de refrigeración; industrial y comercial","Subsector industria eléctrica","Industrial","Im51"]
["Acondicionadores de aire residenciales de tipo dividido CARGA","Fabricación de equipo de aire acondicionado, calefacción, y de refrigeración; industrial y comercial","Subsector industria eléctrica","Industrial","Im53"]
["Acondicionadores de aire residenciales de tipo dividido ELIMINACIÓN","Fabricación de equipo de aire acondicionado, calefacción, y de refrigeración; industrial y comercial","Subsector industria eléctrica","Industrial","Im55"]
["Acondicionadores de aire residenciales de tipo dividido RECARGA","Fabricación de equipo de aire acondicionado, calefacción, y de refrigeración; industrial y comercial","Subsector industria eléctrica","Industrial","Im54"]
["Aire acondicionado automotriz CARGA","Fabricación de equipo de aire acondicionado, calefacción, y de refrigeración; industrial y comercial","Subsector industria eléctrica","Industrial","Im8"]
["Aire acondicionado automotriz ELIMINACIÓN","Fabricación de equipo de aire acondicionado, calefacción, y de refrigeración; industrial y comercial","Subsector industria eléctrica","Industrial","Im10"]
["Aire acondicionado automotriz en vehículos grandes CARGA","Fabricación de equipo de aire acondicionado, calefacción, y de refrigeración; industrial y comercial","Subsector industria eléctrica","Industrial","Im11"]
["Aire acondicionado automotriz en vehículos grandes ELIMINACIÓN","Fabricación de equipo de aire acondicionado, calefacción, y de refrigeración; industrial y comercial","Subsector industria eléctrica","Industrial","Im13"]
["Aire acondicionado automotriz en vehículos grandes RECARGA","Fabricación de equipo de aire acondicionado, calefacción, y de refrigeración; industrial y comercial","Subsector industria eléctrica","Industrial","Im12"]
["Aire acondicionado automotriz RECARGA","Fabricación de equipo de aire acondicionado, calefacción, y de refrigeración; industrial y comercial","Subsector industria eléctrica","Industrial","Im9"]
["Algodón","Generación_energía_eléctrica","Energía_eléctrica","Energía","Ea01"]
["Algodón_PT","Procesos_térmicos","Energía_térmica","Energía","Ec01"]
["Almacenamiento de estiércol (como se excreta o con un mínimo de agua) en tanques o estanques de tierra (AC)","Avícola para la producción de carne","Subsector ganadería","Agropecuario","Ab113"]
["Almacenamiento de estiércol (como se excreta o con un mínimo de agua) en tanques o estanques de tierra (AGyP)","Avícola para la producción de guajolotes o pavos","Subsector ganadería","Agropecuario","Ab131"]
["Almacenamiento de estiércol (como se excreta o con un mínimo de agua) en tanques o estanques de tierra (AH)","Avícola para la producción de huevo","Subsector ganadería","Agropecuario","Ab095"]
["Almacenamiento de estiércol (como se excreta o con un mínimo de agua) en tanques o estanques de tierra (AI)","Producción de cualquier tipo de ave en incubadora","Subsector ganadería","Agropecuario","Ab185"]
["Almacenamiento de estiércol (como se excreta o con un mínimo de agua) en tanques o estanques de tierra (BC)","Bovinos para la producción de carne","Subsector ganadería","Agropecuario","Ab023"]
["Almacenamiento de estiércol (como se excreta o con un mínimo de agua) en tanques o estanques de tierra (BCyL)","Bovinos para la producción conjunta de leche y carne","Subsector ganadería","Agropecuario","Ab005"]
["Almacenamiento de estiércol (como se excreta o con un mínimo de agua) en tanques o estanques de tierra (BL)","Bovinos para la producción de leche","Subsector ganadería","Agropecuario","Ab041"]
["Almacenamiento de estiércol (como se excreta o con un mínimo de agua) en tanques o estanques de tierra (BO)","Bovinos para otros propósitos ","Subsector ganadería","Agropecuario","Ab059"]
["Almacenamiento de estiércol (como se excreta o con un mínimo de agua) en tanques o estanques de tierra (CP)","Caprinos para cualquier actividad","Subsector ganadería","Agropecuario","Ab167"]
["Almacenamiento de estiércol (como se excreta o con un mínimo de agua) en tanques o estanques de tierra (O)","Ovinos para cualquier actividad","Subsector ganadería","Agropecuario","Ab149"]
["Almacenamiento de estiércol (como se excreta o con un mínimo de agua) en tanques o estanques de tierra (P)","Porcinos para la producción de carne","Subsector ganadería","Agropecuario","Ab077"]
["Almacenamiento de estiércol (con o sin paja) en un tanque contenedor o en una laguna cubierta en condiciones anaerobias (AC)","Avícola para la producción de carne","Subsector ganadería","Agropecuario","Ab116"]
["Almacenamiento de estiércol (con o sin paja) en un tanque contenedor o en una laguna cubierta en condiciones anaerobias (AGyP)","Avícola para la producción de guajolotes o pavos","Subsector ganadería","Agropecuario","Ab134"]
["Almacenamiento de estiércol (con o sin paja) en un tanque contenedor o en una laguna cubierta en condiciones anaerobias (AH)","Avícola para la producción de huevo","Subsector ganadería","Agropecuario","Ab098"]
["Almacenamiento de estiércol (con o sin paja) en un tanque contenedor o en una laguna cubierta en condiciones anaerobias (AI)","Producción de cualquier tipo de ave en incubadora","Subsector ganadería","Agropecuario","Ab188"]
["Almacenamiento de estiércol (con o sin paja) en un tanque contenedor o en una laguna cubierta en condiciones anaerobias (BC)","Bovinos para la producción de carne","Subsector ganadería","Agropecuario","Ab026"]
["Almacenamiento de estiércol (con o sin paja) en un tanque contenedor o en una laguna cubierta en condiciones anaerobias (BCyL)","Bovinos para la producción conjunta de leche y carne","Subsector ganadería","Agropecuario","Ab008"]
["Almacenamiento de estiércol (con o sin paja) en un tanque contenedor o en una laguna cubierta en condiciones anaerobias (BL)","Bovinos para la producción de leche","Subsector ganadería","Agropecuario","Ab044"]
["Almacenamiento de estiércol (con o sin paja) en un tanque contenedor o en una laguna cubierta en condiciones anaerobias (BO)","Bovinos para otros propósitos ","Subsector ganadería","Agropecuario","Ab062"]
["Almacenamiento de estiércol (con o sin paja) en un tanque contenedor o en una laguna cubierta en condiciones anaerobias (CP)","Caprinos para cualquier actividad","Subsector ganadería","Agropecuario","Ab170"]
["Almacenamiento de estiércol (con o sin paja) en un tanque contenedor o en una laguna cubierta en condiciones anaerobias (O)","Ovinos para cualquier actividad","Subsector ganadería","Agropecuario","Ab152"]
["Almacenamiento de estiércol (con o sin paja) en un tanque contenedor o en una laguna cubierta en condiciones anaerobias (P)","Porcinos para la producción de carne","Subsector ganadería","Agropecuario","Ab080"]
["Almacenamiento de estiércol con cama de agregados para el control de humedad (AC)","Avícola para la producción de carne","Subsector ganadería","Agropecuario","Ab118"]
["Almacenamiento de estiércol con cama de agregados para el control de humedad (AGyP)","Avícola para la producción de guajolotes o pavos","Subsector ganadería","Agropecuario","Ab136"]
["Almacenamiento de estiércol con cama de agregados para el control de humedad (AH)","Avícola para la producción de huevo","Subsector ganadería","Agropecuario","Ab100"]
["Almacenamiento de estiércol con cama de agregados para el control de humedad (AI)","Producción de cualquier tipo de ave en incubadora","Subsector ganadería","Agropecuario","Ab190"]
["Almacenamiento de estiércol con cama de agregados para el control de humedad (BC)","Bovinos para la producción de carne","Subsector ganadería","Agropecuario","Ab028"]
["Almacenamiento de estiércol con cama de agregados para el control de humedad (BCyL)","Bovinos para la producción conjunta de leche y carne","Subsector ganadería","Agropecuario","Ab010"]
["Almacenamiento de estiércol con cama de agregados para el control de humedad (BL)","Bovinos para la producción de leche","Subsector ganadería","Agropecuario","Ab046"]
["Almacenamiento de estiércol con cama de agregados para el control de humedad (BO)","Bovinos para otros propósitos ","Subsector ganadería","Agropecuario","Ab064"]
["Almacenamiento de estiércol con cama de agregados para el control de humedad (CP)","Caprinos para cualquier actividad","Subsector ganadería","Agropecuario","Ab172"]
["Almacenamiento de estiércol con cama de agregados para el control de humedad (O)","Ovinos para cualquier actividad","Subsector ganadería","Agropecuario","Ab154"]
["Almacenamiento de estiércol con cama de agregados para el control de humedad (P)","Porcinos para la producción de carne","Subsector ganadería","Agropecuario","Ab082"]
["Almacenamiento de estiércol en pilas o montones no confinados (AC)","Avícola para la producción de carne","Subsector ganadería","Agropecuario","Ab111"]
["Almacenamiento de estiércol en pilas o montones no confinados (AGyP)","Avícola para la producción de guajolotes o pavos","Subsector ganadería","Agropecuario","Ab129"]
["Almacenamiento de estiércol en pilas o montones no confinados (AH)","Avícola para la producción de huevo","Subsector ganadería","Agropecuario","Ab093"]
["Almacenamiento de estiércol en pilas o montones no confinados (AI)","Producción de cualquier tipo de ave en incubadora","Subsector ganadería","Agropecuario","Ab183"]
["Almacenamiento de estiércol en pilas o montones no confinados (BC)","Bovinos para la producción de carne","Subsector ganadería","Agropecuario","Ab021"]
["Almacenamiento de estiércol en pilas o montones no confinados (BCyL)","Bovinos para la producción conjunta de leche y carne","Subsector ganadería","Agropecuario","Ab003"]
["Almacenamiento de estiércol en pilas o montones no confinados (BL)","Bovinos para la producción de leche","Subsector ganadería","Agropecuario","Ab039"]
["Almacenamiento de estiércol en pilas o montones no confinados (BO)","Bovinos para otros propósitos ","Subsector ganadería","Agropecuario","Ab057"]
["Almacenamiento de estiércol en pilas o montones no confinados (CP)","Caprinos para cualquier actividad","Subsector ganadería","Agropecuario","Ab165"]
["Almacenamiento de estiércol en pilas o montones no confinados (O)","Ovinos para cualquier actividad","Subsector ganadería","Agropecuario","Ab147"]
["Almacenamiento de estiércol en pilas o montones no confinados (P)","Porcinos para la producción de carne","Subsector ganadería","Agropecuario","Ab075"]
["Almacenamiento de estiércol líquido (AC)","Avícola para la producción de carne","Subsector ganadería","Agropecuario","Ab114"]
["Almacenamiento de estiércol líquido (AGyP)","Avícola para la producción de guajolotes o pavos","Subsector ganadería","Agropecuario","Ab132"]
["Almacenamiento de estiércol líquido (AH)","Avícola para la producción de huevo","Subsector ganadería","Agropecuario","Ab096"]
["Almacenamiento de estiércol líquido (AI)","Producción de cualquier tipo de ave en incubadora","Subsector ganadería","Agropecuario","Ab186"]
["Almacenamiento de estiércol líquido (BC)","Bovinos para la producción de carne","Subsector ganadería","Agropecuario","Ab024"]
["Almacenamiento de estiércol líquido (BCyL)","Bovinos para la producción conjunta de leche y carne","Subsector ganadería","Agropecuario","Ab006"]
["Almacenamiento de estiércol líquido (BL)","Bovinos para la producción de leche","Subsector ganadería","Agropecuario","Ab042"]
["Almacenamiento de estiércol líquido (BO)","Bovinos para otros propósitos ","Subsector ganadería","Agropecuario","Ab060"]
["Almacenamiento de estiércol líquido (CP)","Caprinos para cualquier actividad","Subsector ganadería","Agropecuario","Ab168"]
["Almacenamiento de estiércol líquido (O)","Ovinos para cualquier actividad","Subsector ganadería","Agropecuario","Ab150"]
["Almacenamiento de estiércol líquido (P)","Porcinos para la producción de carne","Subsector ganadería","Agropecuario","Ab078"]
["Almacenamiento de Gas Natural","Transporte_Gas_almacenamiento","Hidrocarburos","Energía","Eb14"]
["Almacenamiento del estiércol (con poco o ningún agregado de agua) debajo de un suelo emparrillado (AC)","Avícola para la producción de carne","Subsector ganadería","Agropecuario","Ab115"]
["Almacenamiento del estiércol (con poco o ningún agregado de agua) debajo de un suelo emparrillado (AGyP)","Avícola para la producción de guajolotes o pavos","Subsector ganadería","Agropecuario","Ab133"]
["Almacenamiento del estiércol (con poco o ningún agregado de agua) debajo de un suelo emparrillado (AH)","Avícola para la producción de huevo","Subsector ganadería","Agropecuario","Ab097"]
["Almacenamiento del estiércol (con poco o ningún agregado de agua) debajo de un suelo emparrillado (AI)","Producción de cualquier tipo de ave en incubadora","Subsector ganadería","Agropecuario","Ab187"]
["Almacenamiento del estiércol (con poco o ningún agregado de agua) debajo de un suelo emparrillado (BC)","Bovinos para la producción de carne","Subsector ganadería","Agropecuario","Ab025"]
["Almacenamiento del estiércol (con poco o ningún agregado de agua) debajo de un suelo emparrillado (BCyL)","Bovinos para la producción conjunta de leche y carne","Subsector ganadería","Agropecuario","Ab007"]
["Almacenamiento del estiércol (con poco o ningún agregado de agua) debajo de un suelo emparrillado (BL)","Bovinos para la producción de leche","Subsector ganadería","Agropecuario","Ab043"]
["Almacenamiento del estiércol (con poco o ningún agregado de agua) debajo de un suelo emparrillado (BO)","Bovinos para otros propósitos ","Subsector ganadería","Agropecuario","Ab061"]
["Almacenamiento del estiércol (con poco o ningún agregado de agua) debajo de un suelo emparrillado (CP)","Caprinos para cualquier actividad","Subsector ganadería","Agropecuario","Ab169"]
["Almacenamiento del estiércol (con poco o ningún agregado de agua) debajo de un suelo emparrillado (O)","Ovinos para cualquier actividad","Subsector ganadería","Agropecuario","Ab151"]
["Almacenamiento del estiércol (con poco o ningún agregado de agua) debajo de un suelo emparrillado (P)","Porcinos para la producción de carne","Subsector ganadería","Agropecuario","Ab079"]
["Alquitrán","Generación_energía_eléctrica","Energía_eléctrica","Energía","Ea02"]
["Alquitrán_PT","Procesos_térmicos","Energía_térmica","Energía","Ec02"]
["Alquitrán_Siderurgia","Producción_Hierro_Acero","Industria_Siderúrgica","Industrial","lb22"]
["Amoníaco","Productos_químicos_básicos","Industria_Química","Industrial","Ia01"]
["Ankerita (o espato)","Minerales_No_metálicos","Industria_Minera","Industrial","Ie8"]
["Ánodos precocidos - CWPB","Aluminio","Industria_Metalúrgica","Industrial","Ic1"]
["Ánodos precocidos - SWPB","Aluminio","Industria_Metalúrgica","Industrial","Ic2"]
["Aplicación de estiércol en tierras de cultivo o pasturas dentro de las 24 horas de su excreción (AC)","Avícola para la producción de carne","Subsector ganadería","Agropecuario","Ab110"]
["Aplicación de estiércol en tierras de cultivo o pasturas dentro de las 24 horas de su excreción (AGyP)","Avícola para la producción de guajolotes o pavos","Subsector ganadería","Agropecuario","Ab128"]
["Aplicación de estiércol en tierras de cultivo o pasturas dentro de las 24 horas de su excreción (AH)","Avícola para la producción de huevo","Subsector ganadería","Agropecuario","Ab092"]
["Aplicación de estiércol en tierras de cultivo o pasturas dentro de las 24 horas de su excreción (AI)","Producción de cualquier tipo de ave en incubadora","Subsector ganadería","Agropecuario","Ab182"]
["Aplicación de estiércol en tierras de cultivo o pasturas dentro de las 24 horas de su excreción (BC)","Bovinos para la producción de carne","Subsector ganadería","Agropecuario","Ab020"]
["Aplicación de estiércol en tierras de cultivo o pasturas dentro de las 24 horas de su excreción (BCyL)","Bovinos para la producción conjunta de leche y carne","Subsector ganadería","Agropecuario","Ab002"]
["Aplicación de estiércol en tierras de cultivo o pasturas dentro de las 24 horas de su excreción (BL)","Bovinos para la producción de leche","Subsector ganadería","Agropecuario","Ab038"]
["Aplicación de estiércol en tierras de cultivo o pasturas dentro de las 24 horas de su excreción (BO)","Bovinos para otros propósitos ","Subsector ganadería","Agropecuario","Ab056"]
["Aplicación de estiércol en tierras de cultivo o pasturas dentro de las 24 horas de su excreción (CP)","Caprinos para cualquier actividad","Subsector ganadería","Agropecuario","Ab164"]
["Aplicación de estiércol en tierras de cultivo o pasturas dentro de las 24 horas de su excreción (O)","Ovinos para cualquier actividad","Subsector ganadería","Agropecuario","Ab146"]
["Aplicación de estiércol en tierras de cultivo o pasturas dentro de las 24 horas de su excreción (P)","Porcinos para la producción de carne","Subsector ganadería","Agropecuario","Ab074"]
["Arrabio","Producción_Hierro_Acero","Industria_Siderúrgica","Industrial","lb11"]
["Arrabio frío (Cold iron)","Producción_Hierro_Acero","Industria_Siderúrgica","Industrial","lb12"]
["Bagazo de caña","Generación_energía_eléctrica","Energía_eléctrica","Energía","Ea03"]
["Bagazo de caña_PT","Procesos_térmicos","Energía_térmica","Energía","Ec03"]
["Bagazo de Malta","Generación_energía_eléctrica","Energía_eléctrica","Energía","Ea04"]
["Bagazo de Malta_PT","Procesos_térmicos","Energía_térmica","Energía","Ec04"]
["Basura (residuos sólidos urbanos)","Generación_energía_eléctrica","Energía_eléctrica","Energía","Ea05"]
["Basura (residuos sólidos urbanos)_PT","Procesos_térmicos","Energía_térmica","Energía","Ec05"]
["Benzol","Producción_Hierro_Acero","Industria_Siderúrgica","Industrial","lb23"]
["Biocombustible líquido","Generación_energía_eléctrica","Energía_eléctrica","Energía","Ea06"]
["Biocombustible líquido_PT","Procesos_térmicos","Energía_térmica","Energía","Ec06"]
["Biodiesel","Generación_energía_eléctrica","Energía_eléctrica","Energía","Ea07"]
["Biodiesel_PT","Procesos_térmicos","Energía_térmica","Energía","Ec07"]
["Biogás (metano)","Generación_energía_eléctrica","Energía_eléctrica","Energía","Ea08"]
["Biogás (metano)_PT","Procesos_térmicos","Energía_térmica","Energía","Ec08"]
["Biogasolina","Generación_energía_eléctrica","Energía_eléctrica","Energía","Ea09"]
["Biogasolina_PT","Procesos_térmicos","Energía_térmica","Energía","Ec09"]
["Ca1. Únicamente reporta consumo energético - Energía y Transporte","Edificación_residencial","Construcción","Comercio_y_Servicios","Ca01"]
["Ca10. Únicamente reporta consumo energético - Energía y Transporte","Otros_trabajos_especializados_para_la_construcción","Construcción","Comercio_y_Servicios","Ca10"]
["Ca2. Únicamente reporta consumo energético - Energía y Transporte","Edificación_no_residencial","Construcción","Comercio_y_Servicios","Ca02"]
["Ca3. Únicamente reporta consumo energético - Energía y Transporte","Construcción_de_obras_para_el_suministro_de_agua_petróleo_gas_energía_eléctrica_y_telecomunicaciones","Construcción","Comercio_y_Servicios","Ca03"]
["Ca4. Únicamente reporta consumo energético - Energía y Transporte","División_de_terrenos_y_construcción_de_obras_de_urbanización","Construcción","Comercio_y_Servicios","Ca04"]
["Ca5. Únicamente reporta consumo energético - Energía y Transporte","Construcción_de_vías_de_comunicación","Construcción","Comercio_y_Servicios","Ca05"]
["Ca6. Únicamente reporta consumo energético - Energía y Transporte","Otras_construcciones_de_ingeniería_civil","Construcción","Comercio_y_Servicios","Ca06"]
["Ca7. Únicamente reporta consumo energético - Energía y Transporte","Cimentaciones_montaje_de_estructuras_prefabricadas_y_trabajos_en_exteriores","Construcción","Comercio_y_Servicios","Ca07"]
["Ca8. Únicamente reporta consumo energético - Energía y Transporte","Instalaciones_y_equipamiento_en_construcciones","Construcción","Comercio_y_Servicios","Ca08"]
["Ca9. Únicamente reporta consumo energético - Energía y Transporte","Trabajos_de_acabados_en_edificaciones","Construcción","Comercio_y_Servicios","Ca09"]
["Cajas frías para transporte CARGA","Fabricación de equipo de aire acondicionado, calefacción, y de refrigeración; industrial y comercial","Subsector industria eléctrica","Industrial","Im14"]
["Cajas frías para transporte ELIMINACIÓN","Fabricación de equipo de aire acondicionado, calefacción, y de refrigeración; industrial y comercial","Subsector industria eléctrica","Industrial","Im16"]
["Cajas frías para transporte RECARGA","Fabricación de equipo de aire acondicionado, calefacción, y de refrigeración; industrial y comercial","Subsector industria eléctrica","Industrial","Im15"]
["Cal con fuerte proporción de calcio","Cal","Industria_Cemento_y_Cal","Industrial","Ij2"]
["Cal de dolomita","Cal","Industria_Cemento_y_Cal","Industrial","Ij3"]
["Cal hidráulica","Cal","Industria_Cemento_y_Cal","Industrial","Ij4"]
["Caliza","Producción_Hierro_Acero","Industria_Siderúrgica","Industrial","lb08"]
["Caña de maíz","Generación_energía_eléctrica","Energía_eléctrica","Energía","Ea10"]
["Caña de maíz_PT","Procesos_térmicos","Energía_térmica","Energía","Ec10"]
["Caprolactama","Caprolactama","Industria_Petroquímica","Industrial","Ii33"]
["Carbón a la Sintetizadora o al Horno Básico de oxígeno","Producción_Hierro_Acero","Industria_Siderúrgica","Industrial","lb03"]
["Carbón antracita","Generación_energía_eléctrica","Energía_eléctrica","Energía","Ea11"]
["Carbón antracita_PT","Procesos_térmicos","Energía_térmica","Energía","Ec11"]
["Carbón bituminoso","Generación_energía_eléctrica","Energía_eléctrica","Energía","Ea12"]
["Carbón bituminoso_PT","Procesos_térmicos","Energía_térmica","Energía","Ec12"]
["Carbón coquizable","Producción_Hierro_Acero","Industria_Siderúrgica","Industrial","lb01"]
["Carbón de inyección al Alto Horno","Producción_Hierro_Acero","Industria_Siderúrgica","Industrial","lb02"]
["Carbón mineral","Generación_energía_eléctrica","Energía_eléctrica","Energía","Ea13"]
["Carbón mineral_PT","Procesos_térmicos","Energía_térmica","Energía","Ec13"]
["Carbón para el Horno de Arco Eléctrico","Producción_Hierro_Acero","Industria_Siderúrgica","Industrial","lb05"]
["Carbón para el Horno de Reducción Directa","Producción_Hierro_Acero","Industria_Siderúrgica","Industrial","lb06"]
["Carbón para vapor","Producción_Hierro_Acero","Industria_Siderúrgica","Industrial","lb04"]
["Carbón siderúrgico de importación","Generación_energía_eléctrica","Energía_eléctrica","Energía","Ea14"]
["Carbón siderúrgico de importación_PT","Procesos_térmicos","Energía_térmica","Energía","Ec14"]
["Carbón siderúrgico nacional","Generación_energía_eléctrica","Energía_eléctrica","Energía","Ea15"]
["Carbón siderúrgico nacional_PT","Procesos_térmicos","Energía_térmica","Energía","Ec15"]
["Carbón térmico de importación","Generación_energía_eléctrica","Energía_eléctrica","Energía","Ea16"]
["Carbón térmico de importación_PT","Procesos_térmicos","Energía_térmica","Energía","Ec16"]
["Carbón térmico nacional","Generación_energía_eléctrica","Energía_eléctrica","Energía","Ea17"]
["Carbón térmico nacional_PT","Procesos_térmicos","Energía_térmica","Energía","Ec17"]
["Carbón vegetal","Generación_energía_eléctrica","Energía_eléctrica","Energía","Ea18"]
["Carbón vegetal_PT","Procesos_térmicos","Energía_térmica","Energía","Ec18"]
["Carbonato de calcio","Minerales_No_metálicos","Industria_Minera","Industrial","Ie4"]
["Carbonato de sodio o ceniza de sosa","Minerales_No_metálicos","Industria_Minera","Industrial","Ie10"]
["Carburo de Calcio","Productos_químicos_básicos","Industria_Química","Industrial","Ia05"]
["Carburo de Silicio","Productos_químicos_básicos","Industria_Química","Industrial","Ia04"]
["Cartón ordinario-empaques-envases","Generación_energía_eléctrica","Energía_eléctrica","Energía","Ea19"]
["Cartón ordinario-empaques-envases_PT","Procesos_térmicos","Energía_térmica","Energía","Ec19"]
["Cb1. Únicamente reporta consumo energético - Energía y Transporte","Comercio_al_por_mayor_de_abarrotes_y_alimentos","Comercio","Comercio_y_Servicios","Cb1"]
["Cb10. Únicamente reporta consumo energético - Energía y Transporte","Comercio_al_por_menor_en_tiendas_departamentales","Comercio","Comercio_y_Servicios","Cb10"]
["Cb11. Únicamente reporta consumo energético - Energía y Transporte","Comercio_al_por_menor_de_ropa_bisutería_y_accesorios_de_vestir","Comercio","Comercio_y_Servicios","Cb11"]
["Cb12. Únicamente reporta consumo energético - Energía y Transporte","Comercio_al_por_menor_de_partes_y_refacciones_para_automóviles_camionetas_y_camiones","Comercio","Comercio_y_Servicios","Cb12"]
["Cb2. Únicamente reporta consumo energético - Energía y Transporte","Comercio_al_por_mayor_de_bebidas_hielo_y_tabaco","Comercio","Comercio_y_Servicios","Cb2"]
["Cb3. Únicamente reporta consumo energético - Energía y Transporte","Comercio_al_por_mayor_de_productos_textiles_y_calzado","Comercio","Comercio_y_Servicios","Cb3"]
["Cb4. Únicamente reporta consumo energético - Energía y Transporte","Comercio_al_por_mayor_de_materias_primas_agropecuarias_y_forestales","Comercio","Comercio_y_Servicios","Cb4"]
["Cb5. Únicamente reporta consumo energético - Energía y Transporte","Comercio_al_por_mayor_de_materias_primas_para_la_industria","Comercio","Comercio_y_Servicios","Cb5"]
["Cb6. Únicamente reporta consumo energético - Energía y Transporte","Comercio_al_por_mayor_de_maquinaria_y_equipo_agropecuario_forestal_y_para_la_pesca","Comercio","Comercio_y_Servicios","Cb6"]
["Cb7. Únicamente reporta consumo energético - Energía y Transporte","Mobiliario_y_equipo_de_cómputo_y_oficina_y_otra_maquinaria_y_equipo_de_uso_general","Comercio","Comercio_y_Servicios","Cb7"]
["Cb8. Únicamente reporta consumo energético - Energía y Transporte","Comercio_al_por_menor_de_abarrotes_y_alimentos","Comercio","Comercio_y_Servicios","Cb8"]
["Cb9. Únicamente reporta consumo energético - Energía y Transporte","Comercio_al_por_menor_en_tiendas_de_autoservicio","Comercio","Comercio_y_Servicios","Cb9"]
["Cc1. Únicamente reporta consumo energético - Sector Todos","Escuelas de educación superior","Servicios_Educativos","Comercio_y_Servicios","Cc1"]
["Cd1. Únicamente reporta consumo energético - Sector Todos","Parques con instalaciones recreativas y casas de juegos electrónicos","Actividades_Recreativas","Comercio_y_Servicios","Cd1"]
["Ce1. Únicamente reporta consumo energético - Sector Todos","Hoteles, moteles y similares","Turismo","Comercio_y_Servicios","Ce1"]
["Células fotovoltaicas","Componentes_electrónicos","Industria_Electrónica","Industrial","Il4"]
["Ceniza de sosa","Minerales_No_metálicos","Industria_Minera","Industrial","Ie3"]
["Cf1. Únicamente reporta consumo energético - Sector Todos","Hospitales y laboratorios","Servicios_Médicos","Comercio_y_Servicios","Cf1"]
["Cg1. Únicamente reporta consumo energético - Sector Todos","Instalaciones en las que las dependencias y entidades de la administración pública federal, estatal o municipal realizan sus funciones","Gobierno","Comercio_y_Servicios","Cg1"]
["Ch1. Únicamente reporta consumo energético - Sector Todos","Banca múltiple","Servicios_Financieros","Comercio_y_Servicios","Ch1"]
["Ch2. Únicamente reporta consumo energético - Sector Todos","Alquiler sin intermediación de bienes raíces","Servicios_Financieros","Comercio_y_Servicios","Ch2"]
["Ch3. Únicamente reporta consumo energético - Sector Todos","Inmobiliarias y corredores de bienes raíces","Servicios_Financieros","Comercio_y_Servicios","Ch3"]
["Clínker","Cemento","Industria_Cemento_y_Cal","Industrial","Ij1"]
["CO2 a uso externo","Producción_Hierro_Acero","Industria_Siderúrgica","Industrial","lb21"]
["Combustible para la aviación","Transporte_por_ductos_de_productos","Industria_Petroquímica","Industrial","Ii4"]
["Combustóleo ligero","Generación_energía_eléctrica","Energía_eléctrica","Energía","Ea20"]
["Combustóleo ligero_PT","Procesos_térmicos","Energía_térmica","Energía","Ec20"]
["Combustóleo marítimo","Marítimo_de_carga_y_pasajeros","Transporte_Marítimo","Transporte","Tc3"]
["Combustóleo pesado","Generación_energía_eléctrica","Energía_eléctrica","Energía","Ea21"]
["Combustóleo pesado_PT","Procesos_térmicos","Energía_térmica","Energía","Ec21"]
["Combustóleo_Siderurgia","Producción_Hierro_Acero","Industria_Siderúrgica","Industrial","lb24"]
["Composteo en canal cerrado, con aireación forzada y mezclado permanente (AC)","Avícola para la producción de carne","Subsector ganadería","Agropecuario","Ab119"]
["Composteo en canal cerrado, con aireación forzada y mezclado permanente (AGyP)","Avícola para la producción de guajolotes o pavos","Subsector ganadería","Agropecuario","Ab137"]
["Composteo en canal cerrado, con aireación forzada y mezclado permanente (AH)","Avícola para la producción de huevo","Subsector ganadería","Agropecuario","Ab101"]
["Composteo en canal cerrado, con aireación forzada y mezclado permanente (AI)","Producción de cualquier tipo de ave en incubadora","Subsector ganadería","Agropecuario","Ab191"]
["Composteo en canal cerrado, con aireación forzada y mezclado permanente (BC)","Bovinos para la producción de carne","Subsector ganadería","Agropecuario","Ab029"]
["Composteo en canal cerrado, con aireación forzada y mezclado permanente (BCyL)","Bovinos para la producción conjunta de leche y carne","Subsector ganadería","Agropecuario","Ab011"]
["Composteo en canal cerrado, con aireación forzada y mezclado permanente (BL)","Bovinos para la producción de leche","Subsector ganadería","Agropecuario","Ab047"]
["Composteo en canal cerrado, con aireación forzada y mezclado permanente (BO)","Bovinos para otros propósitos ","Subsector ganadería","Agropecuario","Ab065"]
["Composteo en canal cerrado, con aireación forzada y mezclado permanente (CP)","Caprinos para cualquier actividad","Subsector ganadería","Agropecuario","Ab173"]
["Composteo en canal cerrado, con aireación forzada y mezclado permanente (O)","Ovinos para cualquier actividad","Subsector ganadería","Agropecuario","Ab155"]
["Composteo en canal cerrado, con aireación forzada y mezclado permanente (P)","Porcinos para la producción de carne","Subsector ganadería","Agropecuario","Ab083"]
["Composteo en pilas con aireación forzada pero sin mezclado (AC)","Avícola para la producción de carne","Subsector ganadería","Agropecuario","Ab120"]
["Composteo en pilas con aireación forzada pero sin mezclado (AGyP)","Avícola para la producción de guajolotes o pavos","Subsector ganadería","Agropecuario","Ab138"]
["Composteo en pilas con aireación forzada pero sin mezclado (AH)","Avícola para la producción de huevo","Subsector ganadería","Agropecuario","Ab102"]
["Composteo en pilas con aireación forzada pero sin mezclado (AI)","Producción de cualquier tipo de ave en incubadora","Subsector ganadería","Agropecuario","Ab192"]
["Composteo en pilas con aireación forzada pero sin mezclado (BC)","Bovinos para la producción de carne","Subsector ganadería","Agropecuario","Ab030"]
["Composteo en pilas con aireación forzada pero sin mezclado (BCyL)","Bovinos para la producción conjunta de leche y carne","Subsector ganadería","Agropecuario","Ab012"]
["Composteo en pilas con aireación forzada pero sin mezclado (BL)","Bovinos para la producción de leche","Subsector ganadería","Agropecuario","Ab048"]
["Composteo en pilas con aireación forzada pero sin mezclado (BO)","Bovinos para otros propósitos ","Subsector ganadería","Agropecuario","Ab066"]
["Composteo en pilas con aireación forzada pero sin mezclado (CP)","Caprinos para cualquier actividad","Subsector ganadería","Agropecuario","Ab174"]
["Composteo en pilas con aireación forzada pero sin mezclado (O)","Ovinos para cualquier actividad","Subsector ganadería","Agropecuario","Ab156"]
["Composteo en pilas con aireación forzada pero sin mezclado (P)","Porcinos para la producción de carne","Subsector ganadería","Agropecuario","Ab084"]
["Composteo en pilas rectangulares con mezclado de medias vueltas frecuentes para mezclado y aireación (AC)","Avícola para la producción de carne","Subsector ganadería","Agropecuario","Ab122"]
["Composteo en pilas rectangulares con mezclado de medias vueltas frecuentes para mezclado y aireación (AGyP)","Avícola para la producción de guajolotes o pavos","Subsector ganadería","Agropecuario","Ab140"]
["Composteo en pilas rectangulares con mezclado de medias vueltas frecuentes para mezclado y aireación (AH)","Avícola para la producción de huevo","Subsector ganadería","Agropecuario","Ab104"]
["Composteo en pilas rectangulares con mezclado de medias vueltas frecuentes para mezclado y aireación (AI)","Producción de cualquier tipo de ave en incubadora","Subsector ganadería","Agropecuario","Ab194"]
["Composteo en pilas rectangulares con mezclado de medias vueltas frecuentes para mezclado y aireación (BC)","Bovinos para la producción de carne","Subsector ganadería","Agropecuario","Ab032"]
["Composteo en pilas rectangulares con mezclado de medias vueltas frecuentes para mezclado y aireación (BCyL)","Bovinos para la producción conjunta de leche y carne","Subsector ganadería","Agropecuario","Ab014"]
["Composteo en pilas rectangulares con mezclado de medias vueltas frecuentes para mezclado y aireación (BL)","Bovinos para la producción de leche","Subsector ganadería","Agropecuario","Ab050"]
["Composteo en pilas rectangulares con mezclado de medias vueltas frecuentes para mezclado y aireación (BO)","Bovinos para otros propósitos ","Subsector ganadería","Agropecuario","Ab068"]
["Composteo en pilas rectangulares con mezclado de medias vueltas frecuentes para mezclado y aireación (CP)","Caprinos para cualquier actividad","Subsector ganadería","Agropecuario","Ab176"]
["Composteo en pilas rectangulares con mezclado de medias vueltas frecuentes para mezclado y aireación (O)","Ovinos para cualquier actividad","Subsector ganadería","Agropecuario","Ab158"]
["Composteo en pilas rectangulares con mezclado de medias vueltas frecuentes para mezclado y aireación (P)","Porcinos para la producción de carne","Subsector ganadería","Agropecuario","Ab086"]
["Composteo en pilas rectangulares con mezclado de medias vueltas regulares (diario) para mezclado y aireación (AC)","Avícola para la producción de carne","Subsector ganadería","Agropecuario","Ab121"]
["Composteo en pilas rectangulares con mezclado de medias vueltas regulares (diario) para mezclado y aireación (AGyP)","Avícola para la producción de guajolotes o pavos","Subsector ganadería","Agropecuario","Ab139"]
["Composteo en pilas rectangulares con mezclado de medias vueltas regulares (diario) para mezclado y aireación (AH)","Avícola para la producción de huevo","Subsector ganadería","Agropecuario","Ab103"]
["Composteo en pilas rectangulares con mezclado de medias vueltas regulares (diario) para mezclado y aireación (AI)","Producción de cualquier tipo de ave en incubadora","Subsector ganadería","Agropecuario","Ab193"]
["Composteo en pilas rectangulares con mezclado de medias vueltas regulares (diario) para mezclado y aireación (BC)","Bovinos para la producción de carne","Subsector ganadería","Agropecuario","Ab031"]
["Composteo en pilas rectangulares con mezclado de medias vueltas regulares (diario) para mezclado y aireación (BCyL)","Bovinos para la producción conjunta de leche y carne","Subsector ganadería","Agropecuario","Ab013"]
["Composteo en pilas rectangulares con mezclado de medias vueltas regulares (diario) para mezclado y aireación (BL)","Bovinos para la producción de leche","Subsector ganadería","Agropecuario","Ab049"]
["Composteo en pilas rectangulares con mezclado de medias vueltas regulares (diario) para mezclado y aireación (BO)","Bovinos para otros propósitos ","Subsector ganadería","Agropecuario","Ab067"]
["Composteo en pilas rectangulares con mezclado de medias vueltas regulares (diario) para mezclado y aireación (CP)","Caprinos para cualquier actividad","Subsector ganadería","Agropecuario","Ab175"]
["Composteo en pilas rectangulares con mezclado de medias vueltas regulares (diario) para mezclado y aireación (O)","Ovinos para cualquier actividad","Subsector ganadería","Agropecuario","Ab157"]
["Composteo en pilas rectangulares con mezclado de medias vueltas regulares (diario) para mezclado y aireación (P)","Porcinos para la producción de carne","Subsector ganadería","Agropecuario","Ab085"]
["Confinamiento de estiércol, con o sin retiro periódico (AC)","Avícola para la producción de carne","Subsector ganadería","Agropecuario","Ab112"]
["Confinamiento de estiércol, con o sin retiro periódico (AGyP)","Avícola para la producción de guajolotes o pavos","Subsector ganadería","Agropecuario","Ab130"]
["Confinamiento de estiércol, con o sin retiro periódico (AH)","Avícola para la producción de huevo","Subsector ganadería","Agropecuario","Ab094"]
["Confinamiento de estiércol, con o sin retiro periódico (AI)","Producción de cualquier tipo de ave en incubadora","Subsector ganadería","Agropecuario","Ab184"]
["Confinamiento de estiércol, con o sin retiro periódico (BC)","Bovinos para la producción de carne","Subsector ganadería","Agropecuario","Ab022"]
["Confinamiento de estiércol, con o sin retiro periódico (BCyL)","Bovinos para la producción conjunta de leche y carne","Subsector ganadería","Agropecuario","Ab004"]
["Confinamiento de estiércol, con o sin retiro periódico (BL)","Bovinos para la producción de leche","Subsector ganadería","Agropecuario","Ab040"]
["Confinamiento de estiércol, con o sin retiro periódico (BO)","Bovinos para otros propósitos ","Subsector ganadería","Agropecuario","Ab058"]
["Confinamiento de estiércol, con o sin retiro periódico (CP)","Caprinos para cualquier actividad","Subsector ganadería","Agropecuario","Ab166"]
["Confinamiento de estiércol, con o sin retiro periódico (O)","Ovinos para cualquier actividad","Subsector ganadería","Agropecuario","Ab148"]
["Confinamiento de estiércol, con o sin retiro periódico (P)","Porcinos para la producción de carne","Subsector ganadería","Agropecuario","Ab076"]
["Consumo de gas licuado","Combustibles_consumidos","Consumo_combustibles","Todos","To5"]
["Consumo de gas natural","Combustibles_consumidos","Consumo_combustibles","Todos","To4"]
["Consumo de Gasolinas y Naftas","Combustibles_consumidos","Consumo_combustibles","Todos","To3"]
["Consumo Diesel","Combustibles_consumidos","Consumo_combustibles","Todos","To2"]
["Consumo_energía_eléctrica","Consumo_energía_eléctrica","Energía_eléctrica","Energía","Ed1"]
["Coque de carbón","Generación_energía_eléctrica","Energía_eléctrica","Energía","Ea22"]
["Coque de carbón_PT","Procesos_térmicos","Energía_térmica","Energía","Ec22"]
["Coque de petróleo","Generación_energía_eléctrica","Energía_eléctrica","Energía","Ea23"]
["Coque de petróleo_PT","Procesos_térmicos","Energía_térmica","Energía","Ec23"]
["Coque_Siderurgia","Producción_Hierro_Acero","Industria_Siderúrgica","Industrial","lb07"]
["Diáfano","Generación_energía_eléctrica","Energía_eléctrica","Energía","Ea24"]
["Diáfano_PT","Procesos_térmicos","Energía_térmica","Energía","Ec24"]
["Diesel","Transporte_por_ductos_de_productos","Industria_Petroquímica","Industrial","Ii3"]
["Diésel","Generación_energía_eléctrica","Energía_eléctrica","Energía","Ea25"]
["Diesel Ferrocarril","Ferrocarril_de_carga_y_pasajeros","Transporte_Ferroviario","Transporte","Tb1"]
["Diesel Marítimo","Marítimo_de_carga_y_pasajeros","Transporte_Marítimo","Transporte","Tc1"]
["Diesel_A","Automoviles_Motocicletas_Montacargas","Transporte_Terrestre","Transporte","Td01"]
["Diesel_B","Camionetas_CamionesLigeros","Transporte_Terrestre","Transporte","Td05"]
["Diesel_C","Autobuses","Transporte_Terrestre","Transporte","Td09"]
["Diesel_D","Camiones_Tractocamiones","Transporte_Terrestre","Transporte","Td13"]
["Diesel_maquinaria_construcción","Maquinaria_construcción","Construcción","Comercio_y_Servicios","Ca12"]
["Diésel_PT","Procesos_térmicos","Energía_térmica","Energía","Ec25"]
["Diésel_Siderurgia","Producción_Hierro_Acero","Industria_Siderúrgica","Industrial","lb25"]
["Digestor anaeróbico para lodos (no se considera la recuperación de metano)","Tratamiento_aguas_residuales","Aguas_Residuales","Residuos","Ra3"]
["Dolomita","Magnesio","Industria_Metalúrgica","Industrial","Ic12"]
["Dolomita","Minerales_No_metálicos","Industria_Minera","Industrial","Ie6"]
["Dolomita cruda","Producción_Hierro_Acero","Industria_Siderúrgica","Industrial","lb09"]
["Electrodos del Horno de Arco Eléctrico o del Horno Básico de Oxígeno","Producción_Hierro_Acero","Industria_Siderúrgica","Industrial","lb10"]
["Emisiones Fugitivas Distribución Gas Natural","Distribución_gas_natural_ductos","Hidrocarburos","Energía","Eb15"]
["Emisiones Fugitivas Gas por Quema en Antorcha","Extracción_Gas_Asociado_y_No_Asociado","Hidrocarburos","Energía","Eb06"]
["Emisiones Fugitivas Gas por Venteo","Extracción_Gas_Asociado_y_No_Asociado","Hidrocarburos","Energía","Eb05"]
["Emisiones Fugitivas Petróleo (alta mar)","Extracción_Petróleo_Convencional_y_No_Convencional","Hidrocarburos","Energía","Eb02"]
["Emisiones Fugitivas Petróleo (costeras)","Extracción_Petróleo_Convencional_y_No_Convencional","Hidrocarburos","Energía","Eb01"]
["Emisiones Fugitivas Petróleo por Quema en Antorcha","Extracción_Petróleo_Convencional_y_No_Convencional","Hidrocarburos","Energía","Eb04"]
["Emisiones Fugitivas Petróleo por Venteo","Extracción_Petróleo_Convencional_y_No_Convencional","Hidrocarburos","Energía","Eb03"]
["Emisiones fugitivas por suministro al consumidor final","Suministro_gas_natural_al_consumidor_final","Hidrocarburos","Energía","Eb17"]
["Emisiones fugitivas_Procesamiento de Gas","Procesamiento_Gas","Hidrocarburos","Energía","Eb09"]
["Emisiones por Quema en Antorcha y Venteo_Perforación","Perforación_pozos_petróleo_y_gas","Hidrocarburos","Energía","Eb07"]
["Emisiones por Quema en Antorcha y Venteo_Producción","Pozos_en_producción_petróleo_y_gas","Hidrocarburos","Energía","Eb08"]
["Emisiones por Quema en Antorcha_Procesamiento de Gas","Procesamiento_Gas","Hidrocarburos","Energía","Eb10"]
["Emisiones por Venteo Distribución Gas Natural","Distribución_gas_natural_ductos","Hidrocarburos","Energía","Eb16"]
["Emisiones por Venteo_Procesamiento de Gas","Procesamiento_Gas","Hidrocarburos","Energía","Eb11"]
["Enfriadores con R-134a CARGA","Fabricación de equipo de aire acondicionado, calefacción, y de refrigeración; industrial y comercial","Subsector industria eléctrica","Industrial","Im17"]
["Enfriadores con R-134a ELIMINACIÓN","Fabricación de equipo de aire acondicionado, calefacción, y de refrigeración; industrial y comercial","Subsector industria eléctrica","Industrial","Im19"]
["Enfriadores con R-134a RECARGA","Fabricación de equipo de aire acondicionado, calefacción, y de refrigeración; industrial y comercial","Subsector industria eléctrica","Industrial","Im18"]
["Enfriadores con R-404a CARGA","Fabricación de equipo de aire acondicionado, calefacción, y de refrigeración; industrial y comercial","Subsector industria eléctrica","Industrial","Im20"]
["Enfriadores con R-404a ELIMINACIÓN","Fabricación de equipo de aire acondicionado, calefacción, y de refrigeración; industrial y comercial","Subsector industria eléctrica","Industrial","Im22"]
["Enfriadores con R-404a RECARGA","Fabricación de equipo de aire acondicionado, calefacción, y de refrigeración; industrial y comercial","Subsector industria eléctrica","Industrial","Im21"]
["Equipo autónomo CARGA","Fabricación de equipo de aire acondicionado, calefacción, y de refrigeración; industrial y comercial","Subsector industria eléctrica","Industrial","Im23"]
["Equipo autónomo ELIMINACIÓN","Fabricación de equipo de aire acondicionado, calefacción, y de refrigeración; industrial y comercial","Subsector industria eléctrica","Industrial","Im25"]
["Equipo autónomo RECARGA","Fabricación de equipo de aire acondicionado, calefacción, y de refrigeración; industrial y comercial","Subsector industria eléctrica","Industrial","Im24"]
["Esquisto bituminoso y alquitrán","Generación_energía_eléctrica","Energía_eléctrica","Energía","Ea26"]
["Esquisto bituminoso y alquitrán_PT","Procesos_térmicos","Energía_térmica","Energía","Ec26"]
["Etano","Generación_energía_eléctrica","Energía_eléctrica","Energía","Ea27"]
["Etano_PT","Procesos_térmicos","Energía_térmica","Energía","Ec27"]
["Etileno (Uso total del proceso y de la alimentación energética)","Etileno","Industria_Petroquímica","Industrial","Ii14"]
["Ferrocromo","Producción_Hierro_Acero","Industria_Siderúrgica","Industrial","lb16"]
["Ferromolibdeno","Producción_Hierro_Acero","Industria_Siderúrgica","Industrial","lb17"]
["Ferroníquel","Producción_Hierro_Acero","Industria_Siderúrgica","Industrial","lb15"]
["FeSi 65","Producción_Ferroaleaciones","Industria_Siderúrgica","Industrial","lb29"]
["FeSi 75","Producción_Ferroaleaciones","Industria_Siderúrgica","Industrial","lb30"]
["FeSi 90","Producción_Ferroaleaciones","Industria_Siderúrgica","Industrial","lb31"]
["Fierro Esponja o Hierro de Reducción Directa Base Carbón","Producción_Hierro_Acero","Industria_Siderúrgica","Industrial","lb14"]
["Fierro Esponja o Hierro de Reducción Directa Base Gas Natural","Producción_Hierro_Acero","Industria_Siderúrgica","Industrial","lb13"]
["Fluidos de transferencia térmica","Componentes_electrónicos","Industria_Electrónica","Industrial","Il5"]
["Gas de alto horno ","Generación_energía_eléctrica","Energía_eléctrica","Energía","Ea28"]
["Gas de alto horno _PT","Procesos_térmicos","Energía_térmica","Energía","Ec28"]
["Gas de Alto Horno_Siderurgia","Producción_Hierro_Acero","Industria_Siderúrgica","Industrial","lb19"]
["Gas de coque ","Generación_energía_eléctrica","Energía_eléctrica","Energía","Ea29"]
["Gas de coque _PT","Procesos_térmicos","Energía_térmica","Energía","Ec29"]
["Gas de coquizadora_Siderurgia","Producción_Hierro_Acero","Industria_Siderúrgica","Industrial","lb18"]
["Gas de Horno Básico de Oxígeno_Siderurgia","Producción_Hierro_Acero","Industria_Siderúrgica","Industrial","lb20"]
["Gas licuado","Generación_energía_eléctrica","Energía_eléctrica","Energía","Ea30"]
["Gas licuado_PT","Procesos_térmicos","Energía_térmica","Energía","Ec30"]
["Gas natural (promedio asociado y no asociado)","Generación_energía_eléctrica","Energía_eléctrica","Energía","Ea31"]
["Gas natural (promedio asociado y no asociado)_PT","Procesos_térmicos","Energía_térmica","Energía","Ec31"]
["Gas natural asociado","Generación_energía_eléctrica","Energía_eléctrica","Energía","Ea32"]
["Gas natural asociado_PT","Procesos_térmicos","Energía_térmica","Energía","Ec32"]
["Gas natural no asociado ","Generación_energía_eléctrica","Energía_eléctrica","Energía","Ea33"]
["Gas natural no asociado _PT","Procesos_térmicos","Energía_térmica","Energía","Ec33"]
["Gas Natural_A","Automoviles_Motocicletas_Montacargas","Transporte_Terrestre","Transporte","Td02"]
["Gas Natural_B","Camionetas_CamionesLigeros","Transporte_Terrestre","Transporte","Td06"]
["Gas Natural_C","Autobuses","Transporte_Terrestre","Transporte","Td10"]
["Gas Natural_D","Camiones_Tractocamiones","Transporte_Terrestre","Transporte","Td14"]
["Gas Natural_Siderurgia","Producción_Hierro_Acero","Industria_Siderúrgica","Industrial","lb28"]
["Gas seco ","Generación_energía_eléctrica","Energía_eléctrica","Energía","Ea34"]
["Gas seco de exportación","Generación_energía_eléctrica","Energía_eléctrica","Energía","Ea35"]
["Gas seco de exportación_PT","Procesos_térmicos","Energía_térmica","Energía","Ec35"]
["Gas seco de importación","Generación_energía_eléctrica","Energía_eléctrica","Energía","Ea36"]
["Gas seco de importación_PT","Procesos_térmicos","Energía_térmica","Energía","Ec36"]
["Gas seco_PT","Procesos_térmicos","Energía_térmica","Energía","Ec34"]
["Gas_licuado_A","Automoviles_Motocicletas_Montacargas","Transporte_Terrestre","Transporte","Td03"]
["Gas_licuado_B","Camionetas_CamionesLigeros","Transporte_Terrestre","Transporte","Td07"]
["Gas_licuado_C","Autobuses","Transporte_Terrestre","Transporte","Td11"]
["Gas_licuado_D","Camiones_Tractocamiones","Transporte_Terrestre","Transporte","Td15"]
["Gasóleo","Generación_energía_eléctrica","Energía_eléctrica","Energía","Ea37"]
["Gasóleo_PT","Procesos_térmicos","Energía_térmica","Energía","Ec37"]
["Gasolina_A","Automoviles_Motocicletas_Montacargas","Transporte_Terrestre","Transporte","Td04"]
["Gasolina_B","Camionetas_CamionesLigeros","Transporte_Terrestre","Transporte","Td08"]
["Gasolina_C","Autobuses","Transporte_Terrestre","Transporte","Td12"]
["Gasolina_D","Camiones_Tractocamiones","Transporte_Terrestre","Transporte","Td16"]
["Gasolinas naturales","Generación_energía_eléctrica","Energía_eléctrica","Energía","Ea38"]
["Gasolinas naturales_PT","Procesos_térmicos","Energía_térmica","Energía","Ec38"]
["Gasolinas y naftas","Generación_energía_eléctrica","Energía_eléctrica","Energía","Ea39"]
["Gasolinas y Naftas Marítimo","Marítimo_de_carga_y_pasajeros","Transporte_Marítimo","Transporte","Tc2"]
["Gasolinas y naftas_PT","Procesos_térmicos","Energía_térmica","Energía","Ec39"]
["Gasolinas_maquinaria_construcción","Maquinaria_construcción","Construcción","Comercio_y_Servicios","Ca11"]
["Glioxal ","Caprolactama","Industria_Petroquímica","Industrial","Ii34"]
["GLP_Siderurgia","Producción_Hierro_Acero","Industria_Siderúrgica","Industrial","lb27"]
["Hidrógeno","Generación_energía_eléctrica","Energía_eléctrica","Energía","Ea40"]
["Hidrógeno_PT","Procesos_térmicos","Energía_térmica","Energía","Ec40"]
["Ia10. Únicamente reporta consumo energético - Sector Todos","Jabones_limpiadores_y_preparaciones_de_tocador","Industria_Química","Industrial","Ia10"]
["Ia11. Únicamente reporta consumo energético - Sector Todos","Productos_de_plástico","Industria_Química","Industrial","Ia11"]
["Ia12. Únicamente reporta consumo energético - Sector Todos","Productos_de_hule","Industria_Química","Industrial","Ia12"]
["Ia6. Únicamente reporta consumo energético - Sector Todos","Resinas_y_hules_sintéticos","Industria_Química","Industrial","Ia06"]
["Ia7. Únicamente reporta consumo energético - Sector Todos","Fertilizantes_pesticidas_y_agroquímicos","Industria_Química","Industrial","Ia07"]
["Ia8. Únicamente reporta consumo energético - Sector Todos","Productos_farmacéuticos","Industria_Química","Industrial","Ia08"]
["Ia9. Únicamente reporta consumo energético - Sector Todos","Pinturas_recubrimientos_y_adhesivos","Industria_Química","Industrial","Ia09"]
["Ic15. Únicamente reporta consumo energético - Sector Todos","Fundición_piezas_metálicas","Industria_Metalúrgica","Industrial","Ic15"]
["Id1. Únicamente reporta consumo energético - Sector Todos","Productos_forjados_y_troquelados","Industria_MetalMecánica","Industrial","Id1"]
["Id2. Únicamente reporta consumo energético - Sector Todos","Calderas_tanques_y_envases_metálicos","Industria_MetalMecánica","Industrial","Id2"]
["Id3. Únicamente reporta consumo energético - Sector Todos","Herrajes_y_cerraduras","Industria_MetalMecánica","Industrial","Id3"]
["Id4. Únicamente reporta consumo energético - Sector Todos","Maquinado_piezas_metálicas_y_fabricación_tornillos","Industria_MetalMecánica","Industrial","Id4"]
["Id5. Únicamente reporta consumo energético - Sector Todos","Otros_productos_metálicos","Industria_MetalMecánica","Industrial","Id5"]
["Id6. Únicamente reporta consumo energético - Sector Todos","Maquinaria_y_equipo_para_comercio_y_servicios","Industria_MetalMecánica","Industrial","Id6"]
["Ie1. Únicamente reporta consumo energético - Sector Todos","Minerales_metálicos","Industria_Minera","Industrial","Ie1"]
["Ie11. Únicamente reporta consumo energético - Sector Todos","Carbón_mineral","Industria_Minera","Industrial","Ie11"]
["Ie12. Únicamente reporta consumo energético - Sector Todos","Servicios_relacionados_con_minería","Industria_Minera","Industrial","Ie12"]
["If1. Únicamente reporta consumo energético - Sector Todos","Fabricación_automóviles_y_camiones","Industria_Automotriz","Industrial","If1"]
["If2. Únicamente reporta consumo energético - Sector Todos","Fabricación_carrocerías_y_remolques","Industria_Automotriz","Industrial","If2"]
["If3. Únicamente reporta consumo energético - Sector Todos","Fabricación_partes_automotores","Industria_Automotriz","Industrial","If3"]
["If4. Únicamente reporta consumo energético - Sector Todos","Fabricación_equipo_aeroespacial","Industria_Automotriz","Industrial","If4"]
["If5. Únicamente reporta consumo energético - Sector Todos","Fabricación_motores_turbinas_y_transmisiones","Industria_Automotriz","Industrial","If5"]
["Ih1. Únicamente reporta consumo energético - Sector Todos","Impresión_en_papel","Industria_Artes_Gráficas","Industrial","Ih1"]
["Ih2. Únicamente reporta consumo energético - Sector Todos","Encuadernación","Industria_Artes_Gráficas","Industrial","Ih2"]
["Ih3. Únicamente reporta consumo energético - Sector Todos","Impresión_de_textiles","Industria_Artes_Gráficas","Industrial","Ih3"]
["Ih4. Únicamente reporta consumo energético - Sector Todos","Elaboración_de_placas_clichés_y_grabados","Industria_Artes_Gráficas","Industrial","Ih4"]
["Ik2. Únicamente reporta consumo energético - Sector Todos","Productos_a_base_arcillas_y_minerales_refractarios","Industria_Vidrio","Industrial","Ik2"]
["Il1. Únicamente reporta consumo energético - Sector Todos","Equipo_de_comunicación","Industria_Electrónica","Industrial","Il1"]
["Im1. Únicamente reporta consumo energético - Sector Todos","Fabricación de accesorios de iluminación","Industria eléctrica","Industrial","Im1"]
["Im21. Únicamente reporta consumo energético - Sector Todos","Fabricación de aparatos eléctricos de uso doméstico","Industria eléctrica","Industrial","Im59"]
["Im22. Únicamente reporta consumo energético - Sector Todos","Fabricación de aparatos eléctricos de uso doméstico","Industria eléctrica","Industrial","Im60"]
["In1. Únicamente reporta consumo energético - Sector Todos","Alimentos_para_animales","Industria_Alimentos_y_Bebidas","Industrial","In1"]
["In2. Únicamente reporta consumo energético - Sector Todos","Molienda_de_granos_y_semillas_y_obtención_de_aceites_y_grasas","Industria_Alimentos_y_Bebidas","Industrial","In2"]
["In3. Únicamente reporta consumo energético - Sector Todos","Azúcares_chocolates_dulces_y_similares","Industria_Alimentos_y_Bebidas","Industrial","In3"]
["In4. Únicamente reporta consumo energético - Sector Todos","Conservación_de_frutas_verduras_y_otros","Industria_Alimentos_y_Bebidas","Industrial","In4"]
["In5. Únicamente reporta consumo energético - Sector Todos","Productos_lácteos","Industria_Alimentos_y_Bebidas","Industrial","In5"]
["In6. Únicamente reporta consumo energético - Sector Todos","Matanza_empacado_y_procesamiento_de_carne_y_animales_comestibles","Industria_Alimentos_y_Bebidas","Industrial","In6"]
["In7. Únicamente reporta consumo energético - Sector Todos","Preparación_y_envasado_de_pescados_y_mariscos","Industria_Alimentos_y_Bebidas","Industrial","In7"]
["In8. Únicamente reporta consumo energético - Sector Todos","Productos_de_panadería_y_tortillas","Industria_Alimentos_y_Bebidas","Industrial","In8"]
["In9. Únicamente reporta consumo energético - Sector Todos","Industria_de_bebidas","Industria_Alimentos_y_Bebidas","Industrial","In9"]
["Integral CARGA","Fabricación de equipo de aire acondicionado, calefacción, y de refrigeración; industrial y comercial","Subsector industria eléctrica","Industrial","Im26"]
["Integral ELIMINACIÓN","Fabricación de equipo de aire acondicionado, calefacción, y de refrigeración; industrial y comercial","Subsector industria eléctrica","Industrial","Im28"]
["Integral RECARGA","Fabricación de equipo de aire acondicionado, calefacción, y de refrigeración; industrial y comercial","Subsector industria eléctrica","Industrial","Im27"]
["Io1. Únicamente reporta consumo energético - Sector Todos","Productos_de_madera","Industria_Madera","Industrial","Io1"]
["Ip1. Únicamente reporta consumo energético - Sector Todos","Preparación_e_hilado_de_fibras_textiles_e_hilos","Industria_Textil","Industrial","Ip1"]
["Ip2. Únicamente reporta consumo energético - Sector Todos","Telas_tejidas_y_no_tejidas","Industria_Textil","Industrial","Ip2"]
["Ip3. Únicamente reporta consumo energético - Sector Todos","Acabado_de_productos_textiles_y_fabricación_de_telas_recubiertas","Industria_Textil","Industrial","Ip3"]
["Ip4. Únicamente reporta consumo energético - Sector Todos","Fabricación_de_prendas_de_vestir_de_tejido_de_punto","Industria_Textil","Industrial","Ip4"]
["Ip5. Únicamente reporta consumo energético - Sector Todos","Confección_de_prendas_de_vestir","Industria_Textil","Industrial","Ip5"]
["Keroseno_Siderurgia","Producción_Hierro_Acero","Industria_Siderúrgica","Industrial","lb26"]
["Laguna anaeróbica poco profunda (menor de 2 metros)","Tratamiento_aguas_residuales","Aguas_Residuales","Residuos","Ra4"]
["Laguna anaeróbica profunda (mayor a dos metros)","Tratamiento_aguas_residuales","Aguas_Residuales","Residuos","Ra5"]
["Lana y seda","Generación_energía_eléctrica","Energía_eléctrica","Energía","Ea41"]
["Lana y seda_PT","Procesos_térmicos","Energía_térmica","Energía","Ec41"]
["Leña","Generación_energía_eléctrica","Energía_eléctrica","Energía","Ea42"]
["Leña_PT","Procesos_térmicos","Energía_térmica","Energía","Ec42"]
["Licor negro  ","Generación_energía_eléctrica","Energía_eléctrica","Energía","Ea43"]
["Licor negro_PT","Procesos_térmicos","Energía_térmica","Energía","Ec43"]
["Lubricantes","Generación_energía_eléctrica","Energía_eléctrica","Energía","Ea44"]
["Lubricantes_PT","Procesos_térmicos","Energía_térmica","Energía","Ec44"]
["Madera  (20% de humedad)","Generación_energía_eléctrica","Energía_eléctrica","Energía","Ea45"]
["Madera  (20% de humedad)_PT","Procesos_térmicos","Energía_térmica","Energía","Ec45"]
["Madera en astillas/pellets","Generación_energía_eléctrica","Energía_eléctrica","Energía","Ea46"]
["Madera en astillas/pellets_PT","Procesos_térmicos","Energía_térmica","Energía","Ec46"]
["Magnesita I.Metalúrgica","Magnesio","Industria_Metalúrgica","Industrial","Ic13"]
["Magnesita I.Minera","Minerales_No_metálicos","Industria_Minera","Industrial","Ie5"]
["Manejo de estiércol de aves de corral sin hojarasca en pozos abiertos en instalaciones cerradas  (BC)","Bovinos para la producción de carne","Subsector ganadería","Agropecuario","Ab034"]
["Manejo de estiércol de aves de corral sin hojarasca en pozos abiertos en instalaciones cerradas (AC)","Avícola para la producción de carne","Subsector ganadería","Agropecuario","Ab124"]
["Manejo de estiércol de aves de corral sin hojarasca en pozos abiertos en instalaciones cerradas (AGyP)","Avícola para la producción de guajolotes o pavos","Subsector ganadería","Agropecuario","Ab142"]
["Manejo de estiércol de aves de corral sin hojarasca en pozos abiertos en instalaciones cerradas (AH)","Avícola para la producción de huevo","Subsector ganadería","Agropecuario","Ab106"]
["Manejo de estiércol de aves de corral sin hojarasca en pozos abiertos en instalaciones cerradas (AI)","Producción de cualquier tipo de ave en incubadora","Subsector ganadería","Agropecuario","Ab196"]
["Manejo de estiércol de aves de corral sin hojarasca en pozos abiertos en instalaciones cerradas (BCyL)","Bovinos para la producción conjunta de leche y carne","Subsector ganadería","Agropecuario","Ab016"]
["Manejo de estiércol de aves de corral sin hojarasca en pozos abiertos en instalaciones cerradas (BL)","Bovinos para la producción de leche","Subsector ganadería","Agropecuario","Ab052"]
["Manejo de estiércol de aves de corral sin hojarasca en pozos abiertos en instalaciones cerradas (BO)","Bovinos para otros propósitos ","Subsector ganadería","Agropecuario","Ab070"]
["Manejo de estiércol de aves de corral sin hojarasca en pozos abiertos en instalaciones cerradas (CP)","Caprinos para cualquier actividad","Subsector ganadería","Agropecuario","Ab178"]
["Manejo de estiércol de aves de corral sin hojarasca en pozos abiertos en instalaciones cerradas (O)","Ovinos para cualquier actividad","Subsector ganadería","Agropecuario","Ab160"]
["Manejo de estiércol de aves de corral sin hojarasca en pozos abiertos en instalaciones cerradas (P)","Porcinos para la producción de carne","Subsector ganadería","Agropecuario","Ab088"]
["Metal-Si","Producción_Ferroaleaciones","Industria_Siderúrgica","Industrial","lb32"]
["Mezcla de parafinas","Generación_energía_eléctrica","Energía_eléctrica","Energía","Ea47"]
["Mezcla de parafinas_PT","Procesos_térmicos","Energía_térmica","Energía","Ec47"]
["Mezclado de estiércol de aves de corral con hojarasca en camas profundas (no combinadas con engorde en corral o pastura) (AC)","Avícola para la producción de carne","Subsector ganadería","Agropecuario","Ab123"]
["Mezclado de estiércol de aves de corral con hojarasca en camas profundas (no combinadas con engorde en corral o pastura) (AGyP)","Avícola para la producción de guajolotes o pavos","Subsector ganadería","Agropecuario","Ab141"]
["Mezclado de estiércol de aves de corral con hojarasca en camas profundas (no combinadas con engorde en corral o pastura) (AH)","Avícola para la producción de huevo","Subsector ganadería","Agropecuario","Ab105"]
["Mezclado de estiércol de aves de corral con hojarasca en camas profundas (no combinadas con engorde en corral o pastura) (AI)","Producción de cualquier tipo de ave en incubadora","Subsector ganadería","Agropecuario","Ab195"]
["Mezclado de estiércol de aves de corral con hojarasca en camas profundas (no combinadas con engorde en corral o pastura) (BC)","Bovinos para la producción de carne","Subsector ganadería","Agropecuario","Ab033"]
["Mezclado de estiércol de aves de corral con hojarasca en camas profundas (no combinadas con engorde en corral o pastura) (BCyL)","Bovinos para la producción conjunta de leche y carne","Subsector ganadería","Agropecuario","Ab015"]
["Mezclado de estiércol de aves de corral con hojarasca en camas profundas (no combinadas con engorde en corral o pastura) (BL)","Bovinos para la producción de leche","Subsector ganadería","Agropecuario","Ab051"]
["Mezclado de estiércol de aves de corral con hojarasca en camas profundas (no combinadas con engorde en corral o pastura) (BO)","Bovinos para otros propósitos ","Subsector ganadería","Agropecuario","Ab069"]
["Mezclado de estiércol de aves de corral con hojarasca en camas profundas (no combinadas con engorde en corral o pastura) (CP)","Caprinos para cualquier actividad","Subsector ganadería","Agropecuario","Ab177"]
["Mezclado de estiércol de aves de corral con hojarasca en camas profundas (no combinadas con engorde en corral o pastura) (O)","Ovinos para cualquier actividad","Subsector ganadería","Agropecuario","Ab159"]
["Mezclado de estiércol de aves de corral con hojarasca en camas profundas (no combinadas con engorde en corral o pastura) (P)","Porcinos para la producción de carne","Subsector ganadería","Agropecuario","Ab087"]
["Multi-splits CARGA","Fabricación de equipo de aire acondicionado, calefacción, y de refrigeración; industrial y comercial","Subsector industria eléctrica","Industrial","Im29"]
["Multi-splits ELIMINACIÓN","Fabricación de equipo de aire acondicionado, calefacción, y de refrigeración; industrial y comercial","Subsector industria eléctrica","Industrial","Im31"]
["Multi-splits RECARGA","Fabricación de equipo de aire acondicionado, calefacción, y de refrigeración; industrial y comercial","Subsector industria eléctrica","Industrial","Im30"]
["Oxidación biológica aeróbica del estiércol con aireación  (BC)","Bovinos para la producción de carne","Subsector ganadería","Agropecuario","Ab035"]
["Oxidación biológica aeróbica del estiércol con aireación  (BL)","Bovinos para la producción de leche","Subsector ganadería","Agropecuario","Ab053"]
["Oxidación biológica aeróbica del estiércol con aireación (AC)","Avícola para la producción de carne","Subsector ganadería","Agropecuario","Ab125"]
["Oxidación biológica aeróbica del estiércol con aireación (AGyP)","Avícola para la producción de guajolotes o pavos","Subsector ganadería","Agropecuario","Ab143"]
["Oxidación biológica aeróbica del estiércol con aireación (AH)","Avícola para la producción de huevo","Subsector ganadería","Agropecuario","Ab107"]
["Oxidación biológica aeróbica del estiércol con aireación (AI)","Producción de cualquier tipo de ave en incubadora","Subsector ganadería","Agropecuario","Ab197"]
["Oxidación biológica aeróbica del estiércol con aireación (BCyL)","Bovinos para la producción conjunta de leche y carne","Subsector ganadería","Agropecuario","Ab017"]
["Oxidación biológica aeróbica del estiércol con aireación (BO)","Bovinos para otros propósitos ","Subsector ganadería","Agropecuario","Ab071"]
["Oxidación biológica aeróbica del estiércol con aireación (CP)","Caprinos para cualquier actividad","Subsector ganadería","Agropecuario","Ab179"]
["Oxidación biológica aeróbica del estiércol con aireación (O)","Ovinos para cualquier actividad","Subsector ganadería","Agropecuario","Ab161"]
["Oxidación biológica aeróbica del estiércol con aireación (P)","Porcinos para la producción de carne","Subsector ganadería","Agropecuario","Ab089"]
["Oxidación biológica aeróbica del estiércol con aireación forzada  (BC)","Bovinos para la producción de carne","Subsector ganadería","Agropecuario","Ab036"]
["Oxidación biológica aeróbica del estiércol con aireación forzada (AC)","Avícola para la producción de carne","Subsector ganadería","Agropecuario","Ab126"]
["Oxidación biológica aeróbica del estiércol con aireación forzada (AGyP)","Avícola para la producción de guajolotes o pavos","Subsector ganadería","Agropecuario","Ab144"]
["Oxidación biológica aeróbica del estiércol con aireación forzada (AH)","Avícola para la producción de huevo","Subsector ganadería","Agropecuario","Ab108"]
["Oxidación biológica aeróbica del estiércol con aireación forzada (AI)","Producción de cualquier tipo de ave en incubadora","Subsector ganadería","Agropecuario","Ab198"]
["Oxidación biológica aeróbica del estiércol con aireación forzada (BCyL)","Bovinos para la producción conjunta de leche y carne","Subsector ganadería","Agropecuario","Ab018"]
["Oxidación biológica aeróbica del estiércol con aireación forzada (BL)","Bovinos para la producción de leche","Subsector ganadería","Agropecuario","Ab054"]
["Oxidación biológica aeróbica del estiércol con aireación forzada (BO)","Bovinos para otros propósitos ","Subsector ganadería","Agropecuario","Ab072"]
["Oxidación biológica aeróbica del estiércol con aireación forzada (CP)","Caprinos para cualquier actividad","Subsector ganadería","Agropecuario","Ab180"]
["Oxidación biológica aeróbica del estiércol con aireación forzada (O)","Ovinos para cualquier actividad","Subsector ganadería","Agropecuario","Ab162"]
["Oxidación biológica aeróbica del estiércol con aireación forzada (P)","Porcinos para la producción de carne","Subsector ganadería","Agropecuario","Ab090"]
["Paja de arroz","Generación_energía_eléctrica","Energía_eléctrica","Energía","Ea48"]
["Paja de arroz_PT","Procesos_térmicos","Energía_térmica","Energía","Ec48"]
["Paneles-fibras-partículas y pedacería de madera","Generación_energía_eléctrica","Energía_eléctrica","Energía","Ea49"]
["Paneles-fibras-partículas y pedacería de madera_PT","Procesos_térmicos","Energía_térmica","Energía","Ec49"]
["Pantallas planas a transistores de película delgada (TFT-FPD, del inglés, thin-film-transistor flat panel display)","Equipo_de_audio_y_video","Industria_Electrónica","Industrial","Il2"]
["Papel ordinario o kraft","Generación_energía_eléctrica","Energía_eléctrica","Energía","Ea50"]
["Papel ordinario o kraft_PT","Procesos_térmicos","Energía_térmica","Energía","Ec50"]
["Petróleo crudo (promedio de la producción)","Generación_energía_eléctrica","Energía_eléctrica","Energía","Ea51"]
["Petróleo crudo (promedio de la producción)_PT","Procesos_térmicos","Energía_térmica","Energía","Ec51"]
["Petróleo crudo ligero","Generación_energía_eléctrica","Energía_eléctrica","Energía","Ea52"]
["Petróleo crudo ligero_PT","Procesos_térmicos","Energía_térmica","Energía","Ec52"]
["Petróleo crudo pesado","Generación_energía_eléctrica","Energía_eléctrica","Energía","Ea53"]
["Petróleo crudo pesado_PT","Procesos_térmicos","Energía_térmica","Energía","Ec53"]
["Petróleo crudo superligero","Generación_energía_eléctrica","Energía_eléctrica","Energía","Ea54"]
["Petróleo crudo superligero_PT","Procesos_térmicos","Energía_térmica","Energía","Ec54"]
["Pirometalúrgico (Imperial Smelting Furnace) ","Zinc","Industria_Metalúrgica","Industrial","Ic11"]
["Planta de tratamiento aeróbico bien operada","Tratamiento_aguas_residuales","Aguas_Residuales","Residuos","Ra1"]
["Planta de tratamiento aeróbico mal operada o sobrecargada","Tratamiento_aguas_residuales","Aguas_Residuales","Residuos","Ra2"]
["Por tratamiento de materias primas secundarias","Plomo","Industria_Metalúrgica","Industrial","Ic9"]
["Proceso de cloración directa CV","Cloruro_de_vinilo","Industria_Petroquímica","Industrial","Ii20"]
["Proceso de cloración directa DE","Dicloruro_de_etileno","Industria_Petroquímica","Industrial","Ii17"]
["Proceso de oxicloración CV","Cloruro_de_vinilo","Industria_Petroquímica","Industrial","Ii21"]
["Proceso de oxicloración DE","Dicloruro_de_etileno","Industria_Petroquímica","Industrial","Ii18"]
["Proceso de oxidación parcial","Metanol","Industria_Petroquímica","Industrial","Ii13"]
["Proceso del negro de acetileno","Negro_de_humo","Industria_Petroquímica","Industrial","Ii30"]
["Proceso del negro de horno (proceso por defecto)","Negro_de_humo","Industria_Petroquímica","Industrial","Ii28"]
["Proceso del negro térmico","Negro_de_humo","Industria_Petroquímica","Industrial","Ii29"]
["Proceso equilibrado [por defecto] CV","Cloruro_de_vinilo","Industria_Petroquímica","Industrial","Ii22"]
["Proceso equilibrado [por defecto] DE","Dicloruro_de_etileno","Industria_Petroquímica","Industrial","Ii19"]
["Proceso por aire (proceso por defecto)","Óxido_de_etileno","Industria_Petroquímica","Industrial","Ii26"]
["Proceso por oxígeno","Óxido_de_etileno","Industria_Petroquímica","Industrial","Ii27"]
["Producción en hornos\nImperial Smelt Furnace (ISF)","Plomo","Industria_Metalúrgica","Industrial","Ic7"]
["Producción por fundición directa (DS)","Plomo","Industria_Metalúrgica","Industrial","Ic8"]
["Productos secundarios quemados para recuperación de energía y/o quemados en la antorcha (por defecto)","Acrilonitrilo","Industria_Petroquímica","Industrial","Ii23"]
["Quema o uso como combustible de estiércol seco (AC)","Avícola para la producción de carne","Subsector ganadería","Agropecuario","Ab117"]
["Quema o uso como combustible de estiércol seco (AGyP)","Avícola para la producción de guajolotes o pavos","Subsector ganadería","Agropecuario","Ab135"]
["Quema o uso como combustible de estiércol seco (AH)","Avícola para la producción de huevo","Subsector ganadería","Agropecuario","Ab099"]
["Quema o uso como combustible de estiércol seco (AI)","Producción de cualquier tipo de ave en incubadora","Subsector ganadería","Agropecuario","Ab189"]
["Quema o uso como combustible de estiércol seco (BC)","Bovinos para la producción de carne","Subsector ganadería","Agropecuario","Ab027"]
["Quema o uso como combustible de estiércol seco (BCyL)","Bovinos para la producción conjunta de leche y carne","Subsector ganadería","Agropecuario","Ab009"]
["Quema o uso como combustible de estiércol seco (BL)","Bovinos para la producción de leche","Subsector ganadería","Agropecuario","Ab045"]
["Quema o uso como combustible de estiércol seco (BO)","Bovinos para otros propósitos ","Subsector ganadería","Agropecuario","Ab063"]
["Quema o uso como combustible de estiércol seco (CP)","Caprinos para cualquier actividad","Subsector ganadería","Agropecuario","Ab171"]
["Quema o uso como combustible de estiércol seco (O)","Ovinos para cualquier actividad","Subsector ganadería","Agropecuario","Ab153"]
["Quema o uso como combustible de estiércol seco (P)","Porcinos para la producción de carne","Subsector ganadería","Agropecuario","Ab081"]
["Queroseno para motor a reacción","Transporte_por_ductos_de_productos","Industria_Petroquímica","Industrial","Ii5"]
["Querosenos","Generación_energía_eléctrica","Energía_eléctrica","Energía","Ea55"]
["Querosenos_PT","Procesos_térmicos","Energía_térmica","Energía","Ec55"]
["Ra6. Únicamente reporta consumo energético - Energía y Transporte","Reducción_en_la_fuente_separación_reutilización_reciclaje_coprocesamiento_tratamiento_acopio_almacenamiento_transporte_y_disposición_final_de_residuos","Residuos_Sólidos_Urbanos","Residuos","Ra6"]
["Ra7. Únicamente reporta consumo energético - Energía y Transporte","Remediación_de_sitios_contaminados_con_residuos","Residuos_Sólidos_Urbanos","Residuos","Ra7"]
["Refrigeración doméstica CARGA","Fabricación de equipo de aire acondicionado, calefacción, y de refrigeración; industrial y comercial","Subsector industria eléctrica","Industrial","Im56"]
["Refrigeración doméstica ELIMINACIÓN","Fabricación de equipo de aire acondicionado, calefacción, y de refrigeración; industrial y comercial","Subsector industria eléctrica","Industrial","Im58"]
["Refrigeración doméstica RECARGA","Fabricación de equipo de aire acondicionado, calefacción, y de refrigeración; industrial y comercial","Subsector industria eléctrica","Industrial","Im57"]
["Rhodochrosita","Minerales_No_metálicos","Industria_Minera","Industrial","Ie9"]
["Rutilo dióxido de titanio (vía del cloruro)","Dióxido_de_titanio","Industria_Petroquímica","Industrial","Ii32"]
["Rutilo sintético","Dióxido_de_titanio","Industria_Petroquímica","Industrial","Ii31"]
["Semiconductores","Componentes_electrónicos","Industria_Electrónica","Industrial","Il3"]
["Siderita","Minerales_No_metálicos","Industria_Minera","Industrial","Ie7"]
["Sin gestión de estiércol excretado en pasturas, prados o praderas (AC)","Avícola para la producción de carne","Subsector ganadería","Agropecuario","Ab109"]
["Sin gestión de estiércol excretado en pasturas, prados o praderas (AGyP)","Avícola para la producción de guajolotes o pavos","Subsector ganadería","Agropecuario","Ab127"]
["Sin gestión de estiércol excretado en pasturas, prados o praderas (AH)","Avícola para la producción de huevo","Subsector ganadería","Agropecuario","Ab091"]
["Sin gestión de estiércol excretado en pasturas, prados o praderas (AI)","Producción de cualquier tipo de ave en incubadora","Subsector ganadería","Agropecuario","Ab181"]
["Sin gestión de estiércol excretado en pasturas, prados o praderas (BC)","Bovinos para la producción de carne","Subsector ganadería","Agropecuario","Ab019"]
["Sin gestión de estiércol excretado en pasturas, prados o praderas (BCyL)","Bovinos para la producción conjunta de leche y carne","Subsector ganadería","Agropecuario","Ab001"]
["Sin gestión de estiércol excretado en pasturas, prados o praderas (BL)","Bovinos para la producción de leche","Subsector ganadería","Agropecuario","Ab037"]
["Sin gestión de estiércol excretado en pasturas, prados o praderas (BO)","Bovinos para otros propósitos ","Subsector ganadería","Agropecuario","Ab055"]
["Sin gestión de estiércol excretado en pasturas, prados o praderas (CP)","Caprinos para cualquier actividad","Subsector ganadería","Agropecuario","Ab163"]
["Sin gestión de estiércol excretado en pasturas, prados o praderas (O)","Ovinos para cualquier actividad","Subsector ganadería","Agropecuario","Ab145"]
["Sin gestión de estiércol excretado en pasturas, prados o praderas (P)","Porcinos para la producción de carne","Subsector ganadería","Agropecuario","Ab073"]
["Sistemas centralizados para industria CARGA","Fabricación de equipo de aire acondicionado, calefacción, y de refrigeración; industrial y comercial","Subsector industria eléctrica","Industrial","Im32"]
["Sistemas centralizados para industria ELIMINACIÓN","Fabricación de equipo de aire acondicionado, calefacción, y de refrigeración; industrial y comercial","Subsector industria eléctrica","Industrial","Im34"]
["Sistemas centralizados para industria RECARGA","Fabricación de equipo de aire acondicionado, calefacción, y de refrigeración; industrial y comercial","Subsector industria eléctrica","Industrial","Im33"]
["Sistemas centralizados para supermercados CARGA","Fabricación de equipo de aire acondicionado, calefacción, y de refrigeración; industrial y comercial","Subsector industria eléctrica","Industrial","Im35"]
["Sistemas centralizados para supermercados ELIMINACIÓN","Fabricación de equipo de aire acondicionado, calefacción, y de refrigeración; industrial y comercial","Subsector industria eléctrica","Industrial","Im37"]
["Sistemas centralizados para supermercados RECARGA","Fabricación de equipo de aire acondicionado, calefacción, y de refrigeración; industrial y comercial","Subsector industria eléctrica","Industrial","Im36"]
["Sistemas comerciales divididos con ductos CARGA","Fabricación de equipo de aire acondicionado, calefacción, y de refrigeración; industrial y comercial","Subsector industria eléctrica","Industrial","Im38"]
["Sistemas comerciales divididos con ductos ELIMINACIÓN","Fabricación de equipo de aire acondicionado, calefacción, y de refrigeración; industrial y comercial","Subsector industria eléctrica","Industrial","Im40"]
["Sistemas comerciales divididos con ductos RECARGA","Fabricación de equipo de aire acondicionado, calefacción, y de refrigeración; industrial y comercial","Subsector industria eléctrica","Industrial","Im39"]
["Søderberg - HSS","Aluminio","Industria_Metalúrgica","Industrial","Ic4"]
["Søderberg - VSS","Aluminio","Industria_Metalúrgica","Industrial","Ic3"]
["Todos los procesos de moldeo","Magnesio","Industria_Metalúrgica","Industrial","Ic14"]
["Transporte en camiones y vagones cisterna","Transporte_Petróleo","Hidrocarburos","Energía","Eb13"]
["Transporte en tuberías","Transporte_Petróleo","Hidrocarburos","Energía","Eb12"]
["Trona","Minerales_No_metálicos","Industria_Minera","Industrial","Ie2"]
["Turba (35 % de humedad)","Generación_energía_eléctrica","Energía_eléctrica","Energía","Ea56"]
["Turba (35 % de humedad)_PT","Procesos_térmicos","Energía_térmica","Energía","Ec56"]
["Turbosina","Generación_energía_eléctrica","Energía_eléctrica","Energía","Ea57"]
["Turbosina - No reg","No_regular_de_carga_y_pasajeros","Transporte_Aéreo","Transporte","Ta2"]
["Turbosina - reg","Regular_de_carga_y_pasajeros","Transporte_Aéreo","Transporte","Ta1"]
["Turbosina - servicios","Servicios_de_transporte_aéreo","Transporte_Aéreo","Transporte","Ta3"]
["Turbosina_PT","Procesos_térmicos","Energía_térmica","Energía","Ec57"]
["Únicamente reporta consumo energético - Sector Todos","Fabricación_pulpa_papel_y_cartón","Industria_Celulosa_y_Papel","Industrial","Ig1"]
["Únicamente reporta consumo energético - Sector Todos","Productos_de_cartón_y_papel","Industria_Celulosa_y_Papel","Industrial","Ig2"]
["Únicamente reporta consumo energético - Sector Todos","Refinación_petróleo","Industria_Petroquímica","Industrial","Ii1"]
["Unidad de techo con ductos CARGA","Fabricación de equipo de aire acondicionado, calefacción, y de refrigeración; industrial y comercial","Subsector industria eléctrica","Industrial","Im41"]
["Unidad de techo con ductos ELIMINACIÓN","Fabricación de equipo de aire acondicionado, calefacción, y de refrigeración; industrial y comercial","Subsector industria eléctrica","Industrial","Im43"]
["Unidad de techo con ductos RECARGA","Fabricación de equipo de aire acondicionado, calefacción, y de refrigeración; industrial y comercial","Subsector industria eléctrica","Industrial","Im42"]
["Unidades condensadas comerciales CARGA","Fabricación de equipo de aire acondicionado, calefacción, y de refrigeración; industrial y comercial","Subsector industria eléctrica","Industrial","Im44"]
["Unidades condensadas comerciales ELIMINACIÓN","Fabricación de equipo de aire acondicionado, calefacción, y de refrigeración; industrial y comercial","Subsector industria eléctrica","Industrial","Im46"]
["Unidades condensadas comerciales RECARGA","Fabricación de equipo de aire acondicionado, calefacción, y de refrigeración; industrial y comercial","Subsector industria eléctrica","Industrial","Im45"]
["Unidades condensadas industriales CARGA","Fabricación de equipo de aire acondicionado, calefacción, y de refrigeración; industrial y comercial","Subsector industria eléctrica","Industrial","Im47"]
["Unidades condensadas industriales ELIMINACIÓN","Fabricación de equipo de aire acondicionado, calefacción, y de refrigeración; industrial y comercial","Subsector industria eléctrica","Industrial","Im49"]
["Unidades condensadas industriales RECARGA","Fabricación de equipo de aire acondicionado, calefacción, y de refrigeración; industrial y comercial","Subsector industria eléctrica","Industrial","Im48"]
["Uso de combustible complementario (alimentación energética)","Etileno","Industria_Petroquímica","Industrial","Ii16"]
["Uso de la alimentación al proceso","Etileno","Industria_Petroquímica","Industrial","Ii15"]
["Vapor combinado, proceso combinado de Lurgi ","Metanol","Industria_Petroquímica","Industrial","Ii11"]
["Vapor convencional, con unidad de reformado primaria","Metanol","Industria_Petroquímica","Industrial","Ii8"]
["Vapor convencional, proceso convencional de Lurgi","Metanol","Industria_Petroquímica","Industrial","Ii9"]
["Vapor convencional, proceso de baja presión de Lurgi","Metanol","Industria_Petroquímica","Industrial","Ii10"]
["Vapor convencional, proceso Mega Metanol de Lurgi","Metanol","Industria_Petroquímica","Industrial","Ii12"]
["Vapor convencional, producción integrada de amoníaco","Metanol","Industria_Petroquímica","Industrial","Ii6"]
["Vapor convencional, sin unidad de reformado primaria","Metanol","Industria_Petroquímica","Industrial","Ii7"]
["Vidrio","Fabricación de vidrio y productos de vidrio","Industria_Vidrio","Industrial","Ik1"]
["Waelz Kiln","Zinc","Industria_Metalúrgica","Industrial","Ic10"]